Workbook

Sheet Formulário
A1: Relatório de Manutenção Corretiva - MTTR e MTBF
A3: Máquina: | D3: Responsável:
A5: Data/Hora Inicial | B5: Data/Hora Final | C5: Problema Detectado | D5: Descrição do Serviço | E5: Componente Substituído | F5: Observações
A13: Observações (cuidados futuros):
F16: Rev 01

Sheet 1
A1: Controle de MTTR e MTBF
A3: Máquina: | F3: Responsável:
A5: Data/Hora Inicial | B5: Data/Hora Final | C5: Problema Detectado | D5: Descrição do Serviço | E5: Componente Substituído | F5: Observações | G5: MTTR (Tempo médio de reparo/minutos) | H5: MTBF (Tempo médio entre reparos/minuto)
G6: =IF(B6="","",(B6-A6)*1440)
G7: =IF(B7="","",(B7-A6)*1440) | H7: =IF(A7="","",(A7-B6)*1440)
G8: =IF(B8="","",(B8-A8)*1440) | H8: =IF(A8="","",(A8-B7)*1440)
G9: =IF(B9="","",(B9-A9)*1440) | H9: =IF(A9="","",(A9-B8)*1440)
G10: =IF(B10="","",(B10-A10)*1440) | H10: =IF(A10="","",(A10-B9)*1440)
G11: =IF(B11="","",(B11-A11)*1440) | H11: =IF(A11="","",(A11-B10)*1440)
G12: =IF(B12="","",(B12-A12)*1440) | H12: =IF(A12="","",(A12-B11)*1440)
G13: =IF(B13="","",(B13-A13)*1440) | H13: =IF(A13="","",(A13-B12)*1440)
G14: =IF(B14="","",(B14-A14)*1440) | H14: =IF(A14="","",(A14-B13)*1440)
G15: =IF(B15="","",(B15-A15)*1440) | H15: =IF(A15="","",(A15-B14)*1440)
G16: =IF(B16="","",(B16-A16)*1440) | H16: =IF(A16="","",(A16-B15)*1440)
G17: =IF(B17="","",(B17-A17)*1440) | H17: =IF(A17="","",(A17-B16)*1440)
G18: =IF(B18="","",(B18-A18)*1440) | H18: =IF(A18="","",(A18-B17)*1440)
G19: =IF(B19="","",(B19-A19)*1440) | H19: =IF(A19="","",(A19-B18)*1440)
... G24: =IF(B24="","",(B24-A24)*1440) | H24: =IF(A24="","",(A24-B23)*1440)
G25: =IF(B25="","",(B25-A25)*1440) | H25: =IF(A25="","",(A25-B24)*1440) | K25: MTTR | L25: MTBF
G26: =IF(B26="","",(B26-A26)*1440) | H26: =IF(A26="","",(A26-B25)*1440) | J26: Janeiro
G27: =IF(B27="","",(B27-A27)*1440) | H27: =IF(A27="","",(A27-B26)*1440) | J27: Fevereiro
G28: =IF(B28="","",(B28-A28)*1440) | H28: =IF(A28="","",(A28-B27)*1440) | J28: Março
G29: =IF(B29="","",(B29-A29)*1440) | H29: =IF(A29="","",(A29-B28)*1440) | J29: Abril
G30: =IF(B30="","",(B30-A30)*1440) | H30: =IF(A30="","",(A30-B29)*1440) | J30: Maio
G31: =IF(B31="","",(B31-A31)*1440) | H31: =IF(A31="","",(A31-B30)*1440) | J31: Junho
G32: =IF(B32="","",(B32-A32)*1440) | H32: =IF(A32="","",(A32-B31)*1440) | J32: Julho
G33: =IF(B33="","",(B33-A33)*1440) | H33: =IF(A33="","",(A33-B32)*1440) | J33: Agosto
G34: =IF(B34="","",(B34-A34)*1440) | H34: =IF(A34="","",(A34-B33)*1440) | J34: Setembro
G35: =IF(B35="","",(B35-A35)*1440) | H35: =IF(A35="","",(A35-B34)*1440) | J35: Outubro
G36: =IF(B36="","",(B36-A36)*1440) | H36: =IF(A36="","",(A36-B35)*1440) | J36: Novembro
F37: Média Total: | G37: =AVERAGE(G6:G36) -> #DIV/0! | H37: =AVERAGE(H7:H36) -> #DIV/0! | J37: Dezembro

Sheet 2
A1: Controle de MTTR e MTBF
A3: Máquina: | F3: Responsável:
A5: ='1'!A5 -> Data/Hora Inicial | B5: ='1'!B5 -> Data/Hora Final | C5: ='1'!C5 -> Problema Detectado | D5: ='1'!D5 -> Descrição do Serviço | E5: ='1'!E5 -> Componente Substituído | F5: ='1'!F5 -> Observações | G5: ='1'!G5 -> MTTR (Tempo médio de reparo/minutos) | H5: ='1'!H5 -> MTBF (Tempo médio entre reparos/minuto)
G6: =IF(B6="","",(B6-A6)*1440)
G7: =IF(B7="","",(B7-A7)*1440) | H7: =IF(A7="","",(A7-B6)*1440)
G8: =IF(B8="","",(B8-A8)*1440) | H8: =IF(A8="","",(A8-B7)*1440)
G9: =IF(B9="","",(B9-A9)*1440) | H9: =IF(A9="","",(A9-B8)*1440)
G10: =IF(B10="","",(B10-A10)*1440) | H10: =IF(A10="","",(A10-B9)*1440)
G11: =IF(B11="","",(B11-A11)*1440) | H11: =IF(A11="","",(A11-B10)*1440)
G12: =IF(B12="","",(B12-A12)*1440) | H12: =IF(A12="","",(A12-B11)*1440)
G13: =IF(B13="","",(B13-A13)*1440) | H13: =IF(A13="","",(A13-B12)*1440)
G14: =IF(B14="","",(B14-A14)*1440) | H14: =IF(A14="","",(A14-B13)*1440)
G15: =IF(B15="","",(B15-A15)*1440) | H15: =IF(A15="","",(A15-B14)*1440)
G16: =IF(B16="","",(B16-A16)*1440) | H16: =IF(A16="","",(A16-B15)*1440)
G17: =IF(B17="","",(B17-A17)*1440) | H17: =IF(A17="","",(A17-B16)*1440)
G18: =IF(B18="","",(B18-A18)*1440) | H18: =IF(A18="","",(A18-B17)*1440)
... G24: =IF(B24="","",(B24-A24)*1440) | H24: =IF(A24="","",(A24-B23)*1440)
G25: =IF(B25="","",(B25-A25)*1440) | H25: =IF(A25="","",(A25-B24)*1440) | K25: MTTR | L25: MTBF
G26: =IF(B26="","",(B26-A26)*1440) | H26: =IF(A26="","",(A26-B25)*1440) | J26: Janeiro
G27: =IF(B27="","",(B27-A27)*1440) | H27: =IF(A27="","",(A27-B26)*1440) | J27: Fevereiro
G28: =IF(B28="","",(B28-A28)*1440) | H28: =IF(A28="","",(A28-B27)*1440) | J28: Março
G29: =IF(B29="","",(B29-A29)*1440) | H29: =IF(A29="","",(A29-B28)*1440) | J29: Abril
G30: =IF(B30="","",(B30-A30)*1440) | H30: =IF(A30="","",(A30-B29)*1440) | J30: Maio
G31: =IF(B31="","",(B31-A31)*1440) | H31: =IF(A31="","",(A31-B30)*1440) | J31: Junho
G32: =IF(B32="","",(B32-A32)*1440) | H32: =IF(A32="","",(A32-B31)*1440) | J32: Julho
G33: =IF(B33="","",(B33-A33)*1440) | H33: =IF(A33="","",(A33-B32)*1440) | J33: Agosto
G34: =IF(B34="","",(B34-A34)*1440) | H34: =IF(A34="","",(A34-B33)*1440) | J34: Setembro
G35: =IF(B35="","",(B35-A35)*1440) | H35: =IF(A35="","",(A35-B34)*1440) | J35: Outubro
G36: =IF(B36="","",(B36-A36)*1440) | H36: =IF(A36="","",(A36-B35)*1440) | J36: Novembro
F37: Média Total: | G37: =AVERAGE(G6:G36) -> #DIV/0! | H37: =AVERAGE(H7:H36) -> #DIV/0! | J37: Dezembro

Sheet 3
A1: Controle de MTTR e MTBF
A3: Máquina: | F3: Responsável:
A5: ='1'!A5 -> Data/Hora Inicial | B5: ='1'!B5 -> Data/Hora Final | C5: ='1'!C5 -> Problema Detectado | D5: ='1'!D5 -> Descrição do Serviço | E5: ='1'!E5 -> Componente Substituído | F5: ='1'!F5 -> Observações | G5: ='1'!G5 -> MTTR (Tempo médio de reparo/minutos) | H5: ='1'!H5 -> MTBF (Tempo médio entre reparos/minuto)
G6: =IF(B6="","",(B6-A6)*1440)
G7: =IF(B7="","",(B7-A7)*1440) | H7: =IF(A7="","",(A7-B6)*1440)
G8: =IF(B8="","",(B8-A8)*1440) | H8: =IF(A8="","",(A8-B7)*1440)
G9: =IF(B9="","",(B9-A9)*1440) | H9: =IF(A9="","",(A9-B8)*1440)
G10: =IF(B10="","",(B10-A10)*1440) | H10: =IF(A10="","",(A10-B9)*1440)
G11: =IF(B11="","",(B11-A11)*1440) | H11: =IF(A11="","",(A11-B10)*1440)
G12: =IF(B12="","",(B12-A12)*1440) | H12: =IF(A12="","",(A12-B11)*1440)
G13: =IF(B13="","",(B13-A13)*1440) | H13: =IF(A13="","",(A13-B12)*1440)
G14: =IF(B14="","",(B14-A14)*1440) | H14: =IF(A14="","",(A14-B13)*1440)
G15: =IF(B15="","",(B15-A15)*1440) | H15: =IF(A15="","",(A15-B14)*1440)
G16: =IF(B16="","",(B16-A16)*1440) | H16: =IF(A16="","",(A16-B15)*1440)
G17: =IF(B17="","",(B17-A17)*1440) | H17: =IF(A17="","",(A17-B16)*1440)
G18: =IF(B18="","",(B18-A18)*1440) | H18: =IF(A18="","",(A18-B17)*1440)
... G24: =IF(B24="","",(B24-A24)*1440) | H24: =IF(A24="","",(A24-B23)*1440)
G25: =IF(B25="","",(B25-A25)*1440) | H25: =IF(A25="","",(A25-B24)*1440) | K25: MTTR | L25: MTBF
G26: =IF(B26="","",(B26-A26)*1440) | H26: =IF(A26="","",(A26-B25)*1440) | J26: Janeiro
G27: =IF(B27="","",(B27-A27)*1440) | H27: =IF(A27="","",(A27-B26)*1440) | J27: Fevereiro
G28: =IF(B28="","",(B28-A28)*1440) | H28: =IF(A28="","",(A28-B27)*1440) | J28: Março
G29: =IF(B29="","",(B29-A29)*1440) | H29: =IF(A29="","",(A29-B28)*1440) | J29: Abril
G30: =IF(B30="","",(B30-A30)*1440) | H30: =IF(A30="","",(A30-B29)*1440) | J30: Maio
G31: =IF(B31="","",(B31-A31)*1440) | H31: =IF(A31="","",(A31-B30)*1440) | J31: Junho
G32: =IF(B32="","",(B32-A32)*1440) | H32: =IF(A32="","",(A32-B31)*1440) | J32: Julho
G33: =IF(B33="","",(B33-A33)*1440) | H33: =IF(A33="","",(A33-B32)*1440) | J33: Agosto
G34: =IF(B34="","",(B34-A34)*1440) | H34: =IF(A34="","",(A34-B33)*1440) | J34: Setembro
G35: =IF(B35="","",(B35-A35)*1440) | H35: =IF(A35="","",(A35-B34)*1440) | J35: Outubro
G36: =IF(B36="","",(B36-A36)*1440) | H36: =IF(A36="","",(A36-B35)*1440) | J36: Novembro
F37: Média Total: | G37: =AVERAGE(G6:G36) -> #DIV/0! | H37: =AVERAGE(H7:H36) -> #DIV/0! | J37: Dezembro

Sheet 4
A1: Controle de MTTR e MTBF
A3: Máquina: | F3: Responsável:
A5: ='1'!A5 -> Data/Hora Inicial | B5: ='1'!B5 -> Data/Hora Final | C5: ='1'!C5 -> Problema Detectado | D5: ='1'!D5 -> Descrição do Serviço | E5: ='1'!E5 -> Componente Substituído | F5: ='1'!F5 -> Observações | G5: ='1'!G5 -> MTTR (Tempo médio de reparo/minutos) | H5: ='1'!H5 -> MTBF (Tempo médio entre reparos/minuto)
G6: =IF(B6="","",(B6-A6)*1440)
G7: =IF(B7="","",(B7-A7)*1440) | H7: =IF(A7="","",(A7-B6)*1440)
G8: =IF(B8="","",(B8-A8)*1440) | H8: =IF(A8="","",(A8-B7)*1440)
G9: =IF(B9="","",(B9-A9)*1440) | H9: =IF(A9="","",(A9-B8)*1440)
G10: =IF(B10="","",(B10-A10)*1440) | H10: =IF(A10="","",(A10-B9)*1440)
G11: =IF(B11="","",(B11-A11)*1440) | H11: =IF(A11="","",(A11-B10)*1440)
G12: =IF(B12="","",(B12-A12)*1440) | H12: =IF(A12="","",(A12-B11)*1440)
G13: =IF(B13="","",(B13-A13)*1440) | H13: =IF(A13="","",(A13-B12)*1440)
G14: =IF(B14="","",(B14-A14)*1440) | H14: =IF(A14="","",(A14-B13)*1440)
G15: =IF(B15="","",(B15-A15)*1440) | H15: =IF(A15="","",(A15-B14)*1440)
G16: =IF(B16="","",(B16-A16)*1440) | H16: =IF(A16="","",(A16-B15)*1440)
G17: =IF(B17="","",(B17-A17)*1440) | H17: =IF(A17="","",(A17-B16)*1440)
G18: =IF(B18="","",(B18-A18)*1440) | H18: =IF(A18="","",(A18-B17)*1440)
... G24: =IF(B24="","",(B24-A24)*1440) | H24: =IF(A24="","",(A24-B23)*1440)
G25: =IF(B25="","",(B25-A25)*1440) | H25: =IF(A25="","",(A25-B24)*1440) | K25: MTTR | L25: MTBF
G26: =IF(B26="","",(B26-A26)*1440) | H26: =IF(A26="","",(A26-B25)*1440) | J26: Janeiro
G27: =IF(B27="","",(B27-A27)*1440) | H27: =IF(A27="","",(A27-B26)*1440) | J27: Fevereiro
G28: =IF(B28="","",(B28-A28)*1440) | H28: =IF(A28="","",(A28-B27)*1440) | J28: Março
G29: =IF(B29="","",(B29-A29)*1440) | H29: =IF(A29="","",(A29-B28)*1440) | J29: Abril
G30: =IF(B30="","",(B30-A30)*1440) | H30: =IF(A30="","",(A30-B29)*1440) | J30: Maio
G31: =IF(B31="","",(B31-A31)*1440) | H31: =IF(A31="","",(A31-B30)*1440) | J31: Junho
G32: =IF(B32="","",(B32-A32)*1440) | H32: =IF(A32="","",(A32-B31)*1440) | J32: Julho
G33: =IF(B33="","",(B33-A33)*1440) | H33: =IF(A33="","",(A33-B32)*1440) | J33: Agosto
G34: =IF(B34="","",(B34-A34)*1440) | H34: =IF(A34="","",(A34-B33)*1440) | J34: Setembro
G35: =IF(B35="","",(B35-A35)*1440) | H35: =IF(A35="","",(A35-B34)*1440) | J35: Outubro
G36: =IF(B36="","",(B36-A36)*1440) | H36: =IF(A36="","",(A36-B35)*1440) | J36: Novembro
F37: Média Total: | G37: =AVERAGE(G6:G36) -> #DIV/0! | H37: =AVERAGE(H7:H36) -> #DIV/0! | J37: Dezembro

Sheet 5
A1: Controle de MTTR e MTBF
A3: Máquina: | F3: Responsável:
A5: ='1'!A5 -> Data/Hora Inicial | B5: ='1'!B5 -> Data/Hora Final | C5: ='1'!C5 -> Problema Detectado | D5: ='1'!D5 -> Descrição do Serviço | E5: ='1'!E5 -> Componente Substituído | F5: ='1'!F5 -> Observações | G5: ='1'!G5 -> MTTR (Tempo médio de reparo/minutos) | H5: ='1'!H5 -> MTBF (Tempo médio entre reparos/minuto)
G6: =IF(B6="","",(B6-A6)*1440)
G7: =IF(B7="","",(B7-A7)*1440) | H7: =IF(A7="","",(A7-B6)*1440)
G8: =IF(B8="","",(B8-A8)*1440) | H8: =IF(A8="","",(A8-B7)*1440)
G9: =IF(B9="","",(B9-A9)*1440) | H9: =IF(A9="","",(A9-B8)*1440)
G10: =IF(B10="","",(B10-A10)*1440) | H10: =IF(A10="","",(A10-B9)*1440)
G11: =IF(B11="","",(B11-A11)*1440) | H11: =IF(A11="","",(A11-B10)*1440)
G12: =IF(B12="","",(B12-A12)*1440) | H12: =IF(A12="","",(A12-B11)*1440)
G13: =IF(B13="","",(B13-A13)*1440) | H13: =IF(A13="","",(A13-B12)*1440)
G14: =IF(B14="","",(B14-A14)*1440) | H14: =IF(A14="","",(A14-B13)*1440)
G15: =IF(B15="","",(B15-A15)*1440) | H15: =IF(A15="","",(A15-B14)*1440)
G16: =IF(B16="","",(B16-A16)*1440) | H16: =IF(A16="","",(A16-B15)*1440)
G17: =IF(B17="","",(B17-A17)*1440) | H17: =IF(A17="","",(A17-B16)*1440)
G18: =IF(B18="","",(B18-A18)*1440) | H18: =IF(A18="","",(A18-B17)*1440)
... G24: =IF(B24="","",(B24-A24)*1440) | H24: =IF(A24="","",(A24-B23)*1440)
G25: =IF(B25="","",(B25-A25)*1440) | H25: =IF(A25="","",(A25-B24)*1440) | K25: MTTR | L25: MTBF
G26: =IF(B26="","",(B26-A26)*1440) | H26: =IF(A26="","",(A26-B25)*1440) | J26: Janeiro
G27: =IF(B27="","",(B27-A27)*1440) | H27: =IF(A27="","",(A27-B26)*1440) | J27: Fevereiro
G28: =IF(B28="","",(B28-A28)*1440) | H28: =IF(A28="","",(A28-B27)*1440) | J28: Março
G29: =IF(B29="","",(B29-A29)*1440) | H29: =IF(A29="","",(A29-B28)*1440) | J29: Abril
G30: =IF(B30="","",(B30-A30)*1440) | H30: =IF(A30="","",(A30-B29)*1440) | J30: Maio
G31: =IF(B31="","",(B31-A31)*1440) | H31: =IF(A31="","",(A31-B30)*1440) | J31: Junho
G32: =IF(B32="","",(B32-A32)*1440) | H32: =IF(A32="","",(A32-B31)*1440) | J32: Julho
G33: =IF(B33="","",(B33-A33)*1440) | H33: =IF(A33="","",(A33-B32)*1440) | J33: Agosto
G34: =IF(B34="","",(B34-A34)*1440) | H34: =IF(A34="","",(A34-B33)*1440) | J34: Setembro
G35: =IF(B35="","",(B35-A35)*1440) | H35: =IF(A35="","",(A35-B34)*1440) | J35: Outubro
G36: =IF(B36="","",(B36-A36)*1440) | H36: =IF(A36="","",(A36-B35)*1440) | J36: Novembro
F37: Média Total: | G37: =AVERAGE(G6:G36) -> #DIV/0! | H37: =AVERAGE(H7:H36) -> #DIV/0! | J37: Dezembro

Sheet 6
A1: Controle de MTTR e MTBF
A3: Máquina: | F3: Responsável:
A5: ='1'!A5 -> Data/Hora Inicial | B5: ='1'!B5 -> Data/Hora Final | C5: ='1'!C5 -> Problema Detectado | D5: ='1'!D5 -> Descrição do Serviço | E5: ='1'!E5 -> Componente Substituído | F5: ='1'!F5 -> Observações | G5: ='1'!G5 -> MTTR (Tempo médio de reparo/minutos) | H5: ='1'!H5 -> MTBF (Tempo médio entre reparos/minuto)
G6: =IF(B6="","",(B6-A6)*1440)
G7: =IF(B7="","",(B7-A7)*1440) | H7: =IF(A7="","",(A7-B6)*1440)
G8: =IF(B8="","",(B8-A8)*1440) | H8: =IF(A8="","",(A8-B7)*1440)
G9: =IF(B9="","",(B9-A9)*1440) | H9: =IF(A9="","",(A9-B8)*1440)
G10: =IF(B10="","",(B10-A10)*1440) | H10: =IF(A10="","",(A10-B9)*1440)
G11: =IF(B11="","",(B11-A11)*1440) | H11: =IF(A11="","",(A11-B10)*1440)
G12: =IF(B12="","",(B12-A12)*1440) | H12: =IF(A12="","",(A12-B11)*1440)
G13: =IF(B13="","",(B13-A13)*1440) | H13: =IF(A13="","",(A13-B12)*1440)
G14: =IF(B14="","",(B14-A14)*1440) | H14: =IF(A14="","",(A14-B13)*1440)
G15: =IF(B15="","",(B15-A15)*1440) | H15: =IF(A15="","",(A15-B14)*1440)
G16: =IF(B16="","",(B16-A16)*1440) | H16: =IF(A16="","",(A16-B15)*1440)
G17: =IF(B17="","",(B17-A17)*1440) | H17: =IF(A17="","",(A17-B16)*1440)
G18: =IF(B18="","",(B18-A18)*1440) | H18: =IF(A18="","",(A18-B17)*1440)
... G24: =IF(B24="","",(B24-A24)*1440) | H24: =IF(A24="","",(A24-B23)*1440)
G25: =IF(B25="","",(B25-A25)*1440) | H25: =IF(A25="","",(A25-B24)*1440) | K25: MTTR | L25: MTBF
G26: =IF(B26="","",(B26-A26)*1440) | H26: =IF(A26="","",(A26-B25)*1440) | J26: Janeiro
G27: =IF(B27="","",(B27-A27)*1440) | H27: =IF(A27="","",(A27-B26)*1440) | J27: Fevereiro
G28: =IF(B28="","",(B28-A28)*1440) | H28: =IF(A28="","",(A28-B27)*1440) | J28: Março
G29: =IF(B29="","",(B29-A29)*1440) | H29: =IF(A29="","",(A29-B28)*1440) | J29: Abril
G30: =IF(B30="","",(B30-A30)*1440) | H30: =IF(A30="","",(A30-B29)*1440) | J30: Maio
G31: =IF(B31="","",(B31-A31)*1440) | H31: =IF(A31="","",(A31-B30)*1440) | J31: Junho
G32: =IF(B32="","",(B32-A32)*1440) | H32: =IF(A32="","",(A32-B31)*1440) | J32: Julho
G33: =IF(B33="","",(B33-A33)*1440) | H33: =IF(A33="","",(A33-B32)*1440) | J33: Agosto
G34: =IF(B34="","",(B34-A34)*1440) | H34: =IF(A34="","",(A34-B33)*1440) | J34: Setembro
G35: =IF(B35="","",(B35-A35)*1440) | H35: =IF(A35="","",(A35-B34)*1440) | J35: Outubro
G36: =IF(B36="","",(B36-A36)*1440) | H36: =IF(A36="","",(A36-B35)*1440) | J36: Novembro
F37: Média Total: | G37: =AVERAGE(G6:G36) -> #DIV/0! | H37: =AVERAGE(H7:H36) -> #DIV/0! | J37: Dezembro

Sheet 7
A1: Controle de MTTR e MTBF
A3: Máquina: | F3: Responsável:
A5: ='1'!A5 -> Data/Hora Inicial | B5: ='1'!B5 -> Data/Hora Final | C5: ='1'!C5 -> Problema Detectado | D5: ='1'!D5 -> Descrição do Serviço | E5: ='1'!E5 -> Componente Substituído | F5: ='1'!F5 -> Observações | G5: ='1'!G5 -> MTTR (Tempo médio de reparo/minutos) | H5: ='1'!H5 -> MTBF (Tempo médio entre reparos/minuto)
G6: =IF(B6="","",(B6-A6)*1440)
G7: =IF(B7="","",(B7-A7)*1440) | H7: =IF(A7="","",(A7-B6)*1440)
G8: =IF(B8="","",(B8-A8)*1440) | H8: =IF(A8="","",(A8-B7)*1440)
G9: =IF(B9="","",(B9-A9)*1440) | H9: =IF(A9="","",(A9-B8)*1440)
G10: =IF(B10="","",(B10-A10)*1440) | H10: =IF(A10="","",(A10-B9)*1440)
G11: =IF(B11="","",(B11-A11)*1440) | H11: =IF(A11="","",(A11-B10)*1440)
G12: =IF(B12="","",(B12-A12)*1440) | H12: =IF(A12="","",(A12-B11)*1440)
G13: =IF(B13="","",(B13-A13)*1440) | H13: =IF(A13="","",(A13-B12)*1440)
G14: =IF(B14="","",(B14-A14)*1440) | H14: =IF(A14="","",(A14-B13)*1440)
G15: =IF(B15="","",(B15-A15)*1440) | H15: =IF(A15="","",(A15-B14)*1440)
G16: =IF(B16="","",(B16-A16)*1440) | H16: =IF(A16="","",(A16-B15)*1440)
G17: =IF(B17="","",(B17-A17)*1440) | H17: =IF(A17="","",(A17-B16)*1440)
G18: =IF(B18="","",(B18-A18)*1440) | H18: =IF(A18="","",(A18-B17)*1440)
... G24: =IF(B24="","",(B24-A24)*1440) | H24: =IF(A24="","",(A24-B23)*1440)
G25: =IF(B25="","",(B25-A25)*1440) | H25: =IF(A25="","",(A25-B24)*1440) | K25: MTTR | L25: MTBF
G26: =IF(B26="","",(B26-A26)*1440) | H26: =IF(A26="","",(A26-B25)*1440) | J26: Janeiro
G27: =IF(B27="","",(B27-A27)*1440) | H27: =IF(A27="","",(A27-B26)*1440) | J27: Fevereiro
G28: =IF(B28="","",(B28-A28)*1440) | H28: =IF(A28="","",(A28-B27)*1440) | J28: Março
G29: =IF(B29="","",(B29-A29)*1440) | H29: =IF(A29="","",(A29-B28)*1440) | J29: Abril
G30: =IF(B30="","",(B30-A30)*1440) | H30: =IF(A30="","",(A30-B29)*1440) | J30: Maio
G31: =IF(B31="","",(B31-A31)*1440) | H31: =IF(A31="","",(A31-B30)*1440) | J31: Junho
G32: =IF(B32="","",(B32-A32)*1440) | H32: =IF(A32="","",(A32-B31)*1440) | J32: Julho
G33: =IF(B33="","",(B33-A33)*1440) | H33: =IF(A33="","",(A33-B32)*1440) | J33: Agosto
G34: =IF(B34="","",(B34-A34)*1440) | H34: =IF(A34="","",(A34-B33)*1440) | J34: Setembro
G35: =IF(B35="","",(B35-A35)*1440) | H35: =IF(A35="","",(A35-B34)*1440) | J35: Outubro
G36: =IF(B36="","",(B36-A36)*1440) | H36: =IF(A36="","",(A36-B35)*1440) | J36: Novembro
F37: Média Total: | G37: =AVERAGE(G6:G36) -> #DIV/0! | H37: =AVERAGE(H7:H36) -> #DIV/0! | J37: Dezembro

Sheet 8
A1: Controle de MTTR e MTBF
A3: Máquina: | F3: Responsável:
A5: ='1'!A5 -> Data/Hora Inicial | B5: ='1'!B5 -> Data/Hora Final | C5: ='1'!C5 -> Problema Detectado | D5: ='1'!D5 -> Descrição do Serviço | E5: ='1'!E5 -> Componente Substituído | F5: ='1'!F5 -> Observações | G5: ='1'!G5 -> MTTR (Tempo médio de reparo/minutos) | H5: ='1'!H5 -> MTBF (Tempo médio entre reparos/minuto)
G6: =IF(B6="","",(B6-A6)*1440)
G7: =IF(B7="","",(B7-A7)*1440) | H7: =IF(A7="","",(A7-B6)*1440)
G8: =IF(B8="","",(B8-A8)*1440) | H8: =IF(A8="","",(A8-B7)*1440)
G9: =IF(B9="","",(B9-A9)*1440) | H9: =IF(A9="","",(A9-B8)*1440)
G10: =IF(B10="","",(B10-A10)*1440) | H10: =IF(A10="","",(A10-B9)*1440)
G11: =IF(B11="","",(B11-A11)*1440) | H11: =IF(A11="","",(A11-B10)*1440)
G12: =IF(B12="","",(B12-A12)*1440) | H12: =IF(A12="","",(A12-B11)*1440)
G13: =IF(B13="","",(B13-A13)*1440) | H13: =IF(A13="","",(A13-B12)*1440)
G14: =IF(B14="","",(B14-A14)*1440) | H14: =IF(A14="","",(A14-B13)*1440)
G15: =IF(B15="","",(B15-A15)*1440) | H15: =IF(A15="","",(A15-B14)*1440)
G16: =IF(B16="","",(B16-A16)*1440) | H16: =IF(A16="","",(A16-B15)*1440)
G17: =IF(B17="","",(B17-A17)*1440) | H17: =IF(A17="","",(A17-B16)*1440)
G18: =IF(B18="","",(B18-A18)*1440) | H18: =IF(A18="","",(A18-B17)*1440)
... G24: =IF(B24="","",(B24-A24)*1440) | H24: =IF(A24="","",(A24-B23)*1440)
G25: =IF(B25="","",(B25-A25)*1440) | H25: =IF(A25="","",(A25-B24)*1440) | K25: MTTR | L25: MTBF
G26: =IF(B26="","",(B26-A26)*1440) | H26: =IF(A26="","",(A26-B25)*1440) | J26: Janeiro
G27: =IF(B27="","",(B27-A27)*1440) | H27: =IF(A27="","",(A27-B26)*1440) | J27: Fevereiro
G28: =IF(B28="","",(B28-A28)*1440) | H28: =IF(A28="","",(A28-B27)*1440) | J28: Março
G29: =IF(B29="","",(B29-A29)*1440) | H29: =IF(A29="","",(A29-B28)*1440) | J29: Abril
G30: =IF(B30="","",(B30-A30)*1440) | H30: =IF(A30="","",(A30-B29)*1440) | J30: Maio
G31: =IF(B31="","",(B31-A31)*1440) | H31: =IF(A31="","",(A31-B30)*1440) | J31: Junho
G32: =IF(B32="","",(B32-A32)*1440) | H32: =IF(A32="","",(A32-B31)*1440) | J32: Julho
G33: =IF(B33="","",(B33-A33)*1440) | H33: =IF(A33="","",(A33-B32)*1440) | J33: Agosto
G34: =IF(B34="","",(B34-A34)*1440) | H34: =IF(A34="","",(A34-B33)*1440) | J34: Setembro
G35: =IF(B35="","",(B35-A35)*1440) | H35: =IF(A35="","",(A35-B34)*1440) | J35: Outubro
G36: =IF(B36="","",(B36-A36)*1440) | H36: =IF(A36="","",(A36-B35)*1440) | J36: Novembro
F37: Média Total: | G37: =AVERAGE(G6:G36) -> #DIV/0! | H37: =AVERAGE(H7:H36) -> #DIV/0! | J37: Dezembro

Sheet 9
A1: Controle de MTTR e MTBF
A3: Máquina: | F3: Responsável:
A5: ='1'!A5 -> Data/Hora Inicial | B5: ='1'!B5 -> Data/Hora Final | C5: ='1'!C5 -> Problema Detectado | D5: ='1'!D5 -> Descrição do Serviço | E5: ='1'!E5 -> Componente Substituído | F5: ='1'!F5 -> Observações | G5: ='1'!G5 -> MTTR (Tempo médio de reparo/minutos) | H5: ='1'!H5 -> MTBF (Tempo médio entre reparos/minuto)
G6: =IF(B6="","",(B6-A6)*1440)
G7: =IF(B7="","",(B7-A7)*1440) | H7: =IF(A7="","",(A7-B6)*1440)
G8: =IF(B8="","",(B8-A8)*1440) | H8: =IF(A8="","",(A8-B7)*1440)
G9: =IF(B9="","",(B9-A9)*1440) | H9: =IF(A9="","",(A9-B8)*1440)
G10: =IF(B10="","",(B10-A10)*1440) | H10: =IF(A10="","",(A10-B9)*1440)
G11: =IF(B11="","",(B11-A11)*1440) | H11: =IF(A11="","",(A11-B10)*1440)
G12: =IF(B12="","",(B12-A12)*1440) | H12: =IF(A12="","",(A12-B11)*1440)
G13: =IF(B13="","",(B13-A13)*1440) | H13: =IF(A13="","",(A13-B12)*1440)
G14: =IF(B14="","",(B14-A14)*1440) | H14: =IF(A14="","",(A14-B13)*1440)
G15: =IF(B15="","",(B15-A15)*1440) | H15: =IF(A15="","",(A15-B14)*1440)
G16: =IF(B16="","",(B16-A16)*1440) | H16: =IF(A16="","",(A16-B15)*1440)
G17: =IF(B17="","",(B17-A17)*1440) | H17: =IF(A17="","",(A17-B16)*1440)
G18: =IF(B18="","",(B18-A18)*1440) | H18: =IF(A18="","",(A18-B17)*1440)
... G24: =IF(B24="","",(B24-A24)*1440) | H24: =IF(A24="","",(A24-B23)*1440)
G25: =IF(B25="","",(B25-A25)*1440) | H25: =IF(A25="","",(A25-B24)*1440) | K25: MTTR | L25: MTBF
G26: =IF(B26="","",(B26-A26)*1440) | H26: =IF(A26="","",(A26-B25)*1440) | J26: Janeiro
G27: =IF(B27="","",(B27-A27)*1440) | H27: =IF(A27="","",(A27-B26)*1440) | J27: Fevereiro
G28: =IF(B28="","",(B28-A28)*1440) | H28: =IF(A28="","",(A28-B27)*1440) | J28: Março
G29: =IF(B29="","",(B29-A29)*1440) | H29: =IF(A29="","",(A29-B28)*1440) | J29: Abril
G30: =IF(B30="","",(B30-A30)*1440) | H30: =IF(A30="","",(A30-B29)*1440) | J30: Maio
G31: =IF(B31="","",(B31-A31)*1440) | H31: =IF(A31="","",(A31-B30)*1440) | J31: Junho
G32: =IF(B32="","",(B32-A32)*1440) | H32: =IF(A32="","",(A32-B31)*1440) | J32: Julho
G33: =IF(B33="","",(B33-A33)*1440) | H33: =IF(A33="","",(A33-B32)*1440) | J33: Agosto
G34: =IF(B34="","",(B34-A34)*1440) | H34: =IF(A34="","",(A34-B33)*1440) | J34: Setembro
G35: =IF(B35="","",(B35-A35)*1440) | H35: =IF(A35="","",(A35-B34)*1440) | J35: Outubro
G36: =IF(B36="","",(B36-A36)*1440) | H36: =IF(A36="","",(A36-B35)*1440) | J36: Novembro
F37: Média Total: | G37: =AVERAGE(G6:G36) -> #DIV/0! | H37: =AVERAGE(H7:H36) -> #DIV/0! | J37: Dezembro

Sheet 10
A1: Controle de MTTR e MTBF
A3: Máquina: | F3: Responsável:
A5: ='1'!A5 -> Data/Hora Inicial | B5: ='1'!B5 -> Data/Hora Final | C5: ='1'!C5 -> Problema Detectado | D5: ='1'!D5 -> Descrição do Serviço | E5: ='1'!E5 -> Componente Substituído | F5: ='1'!F5 -> Observações | G5: ='1'!G5 -> MTTR (Tempo médio de reparo/minutos) | H5: ='1'!H5 -> MTBF (Tempo médio entre reparos/minuto)
G6: =IF(B6="","",(B6-A6)*1440)
G7: =IF(B7="","",(B7-A7)*1440) | H7: =IF(A7="","",(A7-B6)*1440)
G8: =IF(B8="","",(B8-A8)*1440) | H8: =IF(A8="","",(A8-B7)*1440)
G9: =IF(B9="","",(B9-A9)*1440) | H9: =IF(A9="","",(A9-B8)*1440)
G10: =IF(B10="","",(B10-A10)*1440) | H10: =IF(A10="","",(A10-B9)*1440)
G11: =IF(B11="","",(B11-A11)*1440) | H11: =IF(A11="","",(A11-B10)*1440)
G12: =IF(B12="","",(B12-A12)*1440) | H12: =IF(A12="","",(A12-B11)*1440)
G13: =IF(B13="","",(B13-A13)*1440) | H13: =IF(A13="","",(A13-B12)*1440)
G14: =IF(B14="","",(B14-A14)*1440) | H14: =IF(A14="","",(A14-B13)*1440)
G15: =IF(B15="","",(B15-A15)*1440) | H15: =IF(A15="","",(A15-B14)*1440)
G16: =IF(B16="","",(B16-A16)*1440) | H16: =IF(A16="","",(A16-B15)*1440)
G17: =IF(B17="","",(B17-A17)*1440) | H17: =IF(A17="","",(A17-B16)*1440)
G18: =IF(B18="","",(B18-A18)*1440) | H18: =IF(A18="","",(A18-B17)*1440)
... G24: =IF(B24="","",(B24-A24)*1440) | H24: =IF(A24="","",(A24-B23)*1440)
G25: =IF(B25="","",(B25-A25)*1440) | H25: =IF(A25="","",(A25-B24)*1440) | K25: MTTR | L25: MTBF
G26: =IF(B26="","",(B26-A26)*1440) | H26: =IF(A26="","",(A26-B25)*1440) | J26: Janeiro
G27: =IF(B27="","",(B27-A27)*1440) | H27: =IF(A27="","",(A27-B26)*1440) | J27: Fevereiro
G28: =IF(B28="","",(B28-A28)*1440) | H28: =IF(A28="","",(A28-B27)*1440) | J28: Março
G29: =IF(B29="","",(B29-A29)*1440) | H29: =IF(A29="","",(A29-B28)*1440) | J29: Abril
G30: =IF(B30="","",(B30-A30)*1440) | H30: =IF(A30="","",(A30-B29)*1440) | J30: Maio
G31: =IF(B31="","",(B31-A31)*1440) | H31: =IF(A31="","",(A31-B30)*1440) | J31: Junho
G32: =IF(B32="","",(B32-A32)*1440) | H32: =IF(A32="","",(A32-B31)*1440) | J32: Julho
G33: =IF(B33="","",(B33-A33)*1440) | H33: =IF(A33="","",(A33-B32)*1440) | J33: Agosto
G34: =IF(B34="","",(B34-A34)*1440) | H34: =IF(A34="","",(A34-B33)*1440) | J34: Setembro
G35: =IF(B35="","",(B35-A35)*1440) | H35: =IF(A35="","",(A35-B34)*1440) | J35: Outubro
G36: =IF(B36="","",(B36-A36)*1440) | H36: =IF(A36="","",(A36-B35)*1440) | J36: Novembro
F37: Média Total: | G37: =AVERAGE(G6:G36) -> #DIV/0! | H37: =AVERAGE(H7:H36) -> #DIV/0! | J37: Dezembro

Sheet 11
A1: Controle de MTTR e MTBF
A3: Máquina: | F3: Responsável:
A5: ='1'!A5 -> Data/Hora Inicial | B5: ='1'!B5 -> Data/Hora Final | C5: ='1'!C5 -> Problema Detectado | D5: ='1'!D5 -> Descrição do Serviço | E5: ='1'!E5 -> Componente Substituído | F5: ='1'!F5 -> Observações | G5: ='1'!G5 -> MTTR (Tempo médio de reparo/minutos) | H5: ='1'!H5 -> MTBF (Tempo médio entre reparos/minuto)
G6: =IF(B6="","",(B6-A6)*1440)
G7: =IF(B7="","",(B7-A7)*1440) | H7: =IF(A7="","",(A7-B6)*1440)
G8: =IF(B8="","",(B8-A8)*1440) | H8: =IF(A8="","",(A8-B7)*1440)
G9: =IF(B9="","",(B9-A9)*1440) | H9: =IF(A9="","",(A9-B8)*1440)
G10: =IF(B10="","",(B10-A10)*1440) | H10: =IF(A10="","",(A10-B9)*1440)
G11: =IF(B11="","",(B11-A11)*1440) | H11: =IF(A11="","",(A11-B10)*1440)
G12: =IF(B12="","",(B12-A12)*1440) | H12: =IF(A12="","",(A12-B11)*1440)
G13: =IF(B13="","",(B13-A13)*1440) | H13: =IF(A13="","",(A13-B12)*1440)
G14: =IF(B14="","",(B14-A14)*1440) | H14: =IF(A14="","",(A14-B13)*1440)
G15: =IF(B15="","",(B15-A15)*1440) | H15: =IF(A15="","",(A15-B14)*1440)
G16: =IF(B16="","",(B16-A16)*1440) | H16: =IF(A16="","",(A16-B15)*1440)
G17: =IF(B17="","",(B17-A17)*1440) | H17: =IF(A17="","",(A17-B16)*1440)
G18: =IF(B18="","",(B18-A18)*1440) | H18: =IF(A18="","",(A18-B17)*1440)
... G24: =IF(B24="","",(B24-A24)*1440) | H24: =IF(A24="","",(A24-B23)*1440)
G25: =IF(B25="","",(B25-A25)*1440) | H25: =IF(A25="","",(A25-B24)*1440) | K25: MTTR | L25: MTBF
G26: =IF(B26="","",(B26-A26)*1440) | H26: =IF(A26="","",(A26-B25)*1440) | J26: Janeiro
G27: =IF(B27="","",(B27-A27)*1440) | H27: =IF(A27="","",(A27-B26)*1440) | J27: Fevereiro
G28: =IF(B28="","",(B28-A28)*1440) | H28: =IF(A28="","",(A28-B27)*1440) | J28: Março
G29: =IF(B29="","",(B29-A29)*1440) | H29: =IF(A29="","",(A29-B28)*1440) | J29: Abril
G30: =IF(B30="","",(B30-A30)*1440) | H30: =IF(A30="","",(A30-B29)*1440) | J30: Maio
G31: =IF(B31="","",(B31-A31)*1440) | H31: =IF(A31="","",(A31-B30)*1440) | J31: Junho
G32: =IF(B32="","",(B32-A32)*1440) | H32: =IF(A32="","",(A32-B31)*1440) | J32: Julho
G33: =IF(B33="","",(B33-A33)*1440) | H33: =IF(A33="","",(A33-B32)*1440) | J33: Agosto
G34: =IF(B34="","",(B34-A34)*1440) | H34: =IF(A34="","",(A34-B33)*1440) | J34: Setembro
G35: =IF(B35="","",(B35-A35)*1440) | H35: =IF(A35="","",(A35-B34)*1440) | J35: Outubro
G36: =IF(B36="","",(B36-A36)*1440) | H36: =IF(A36="","",(A36-B35)*1440) | J36: Novembro
F37: Média Total: | G37: =AVERAGE(G6:G36) -> #DIV/0! | H37: =AVERAGE(H7:H36) -> #DIV/0! | J37: Dezembro

Sheet 12
A1: Controle de MTTR e MTBF
A3: Máquina: | F3: Responsável:
A5: ='1'!A5 -> Data/Hora Inicial | B5: ='1'!B5 -> Data/Hora Final | C5: ='1'!C5 -> Problema Detectado | D5: ='1'!D5 -> Descrição do Serviço | E5: ='1'!E5 -> Componente Substituído | F5: ='1'!F5 -> Observações | G5: ='1'!G5 -> MTTR (Tempo médio de reparo/minutos) | H5: ='1'!H5 -> MTBF (Tempo médio entre reparos/minuto)
G6: =IF(B6="","",(B6-A6)*1440)
G7: =IF(B7="","",(B7-A7)*1440) | H7: =IF(A7="","",(A7-B6)*1440)
G8: =IF(B8="","",(B8-A8)*1440) | H8: =IF(A8="","",(A8-B7)*1440)
G9: =IF(B9="","",(B9-A9)*1440) | H9: =IF(A9="","",(A9-B8)*1440)
G10: =IF(B10="","",(B10-A10)*1440) | H10: =IF(A10="","",(A10-B9)*1440)
G11: =IF(B11="","",(B11-A11)*1440) | H11: =IF(A11="","",(A11-B10)*1440)
G12: =IF(B12="","",(B12-A12)*1440) | H12: =IF(A12="","",(A12-B11)*1440)
G13: =IF(B13="","",(B13-A13)*1440) | H13: =IF(A13="","",(A13-B12)*1440)
G14: =IF(B14="","",(B14-A14)*1440) | H14: =IF(A14="","",(A14-B13)*1440)
G15: =IF(B15="","",(B15-A15)*1440) | H15: =IF(A15="","",(A15-B14)*1440)
G16: =IF(B16="","",(B16-A16)*1440) | H16: =IF(A16="","",(A16-B15)*1440)
G17: =IF(B17="","",(B17-A17)*1440) | H17: =IF(A17="","",(A17-B16)*1440)
G18: =IF(B18="","",(B18-A18)*1440) | H18: =IF(A18="","",(A18-B17)*1440)
... G24: =IF(B24="","",(B24-A24)*1440) | H24: =IF(A24="","",(A24-B23)*1440)
G25: =IF(B25="","",(B25-A25)*1440) | H25: =IF(A25="","",(A25-B24)*1440) | K25: MTTR | L25: MTBF
G26: =IF(B26="","",(B26-A26)*1440) | H26: =IF(A26="","",(A26-B25)*1440) | J26: Janeiro
G27: =IF(B27="","",(B27-A27)*1440) | H27: =IF(A27="","",(A27-B26)*1440) | J27: Fevereiro
G28: =IF(B28="","",(B28-A28)*1440) | H28: =IF(A28="","",(A28-B27)*1440) | J28: Março
G29: =IF(B29="","",(B29-A29)*1440) | H29: =IF(A29="","",(A29-B28)*1440) | J29: Abril
G30: =IF(B30="","",(B30-A30)*1440) | H30: =IF(A30="","",(A30-B29)*1440) | J30: Maio
G31: =IF(B31="","",(B31-A31)*1440) | H31: =IF(A31="","",(A31-B30)*1440) | J31: Junho
G32: =IF(B32="","",(B32-A32)*1440) | H32: =IF(A32="","",(A32-B31)*1440) | J32: Julho
G33: =IF(B33="","",(B33-A33)*1440) | H33: =IF(A33="","",(A33-B32)*1440) | J33: Agosto
G34: =IF(B34="","",(B34-A34)*1440) | H34: =IF(A34="","",(A34-B33)*1440) | J34: Setembro
G35: =IF(B35="","",(B35-A35)*1440) | H35: =IF(A35="","",(A35-B34)*1440) | J35: Outubro
G36: =IF(B36="","",(B36-A36)*1440) | H36: =IF(A36="","",(A36-B35)*1440) | J36: Novembro
F37: Média Total: | G37: =AVERAGE(G6:G36) -> #DIV/0! | H37: =AVERAGE(H7:H36) -> #DIV/0! | J37: Dezembro

Sheet 13
A1: Controle de MTTR e MTBF
A3: Máquina: | F3: Responsável:
A5: ='1'!A5 -> Data/Hora Inicial | B5: ='1'!B5 -> Data/Hora Final | C5: ='1'!C5 -> Problema Detectado | D5: ='1'!D5 -> Descrição do Serviço | E5: ='1'!E5 -> Componente Substituído | F5: ='1'!F5 -> Observações | G5: ='1'!G5 -> MTTR (Tempo médio de reparo/minutos) | H5: ='1'!H5 -> MTBF (Tempo médio entre reparos/minuto)
G6: =IF(B6="","",(B6-A6)*1440)
G7: =IF(B7="","",(B7-A7)*1440) | H7: =IF(A7="","",(A7-B6)*1440)
G8: =IF(B8="","",(B8-A8)*1440) | H8: =IF(A8="","",(A8-B7)*1440)
G9: =IF(B9="","",(B9-A9)*1440) | H9: =IF(A9="","",(A9-B8)*1440)
G10: =IF(B10="","",(B10-A10)*1440) | H10: =IF(A10="","",(A10-B9)*1440)
G11: =IF(B11="","",(B11-A11)*1440) | H11: =IF(A11="","",(A11-B10)*1440)
G12: =IF(B12="","",(B12-A12)*1440) | H12: =IF(A12="","",(A12-B11)*1440)
G13: =IF(B13="","",(B13-A13)*1440) | H13: =IF(A13="","",(A13-B12)*1440)
G14: =IF(B14="","",(B14-A14)*1440) | H14: =IF(A14="","",(A14-B13)*1440)
G15: =IF(B15="","",(B15-A15)*1440) | H15: =IF(A15="","",(A15-B14)*1440)
G16: =IF(B16="","",(B16-A16)*1440) | H16: =IF(A16="","",(A16-B15)*1440)
G17: =IF(B17="","",(B17-A17)*1440) | H17: =IF(A17="","",(A17-B16)*1440)
G18: =IF(B18="","",(B18-A18)*1440) | H18: =IF(A18="","",(A18-B17)*1440)
... G24: =IF(B24="","",(B24-A24)*1440) | H24: =IF(A24="","",(A24-B23)*1440)
G25: =IF(B25="","",(B25-A25)*1440) | H25: =IF(A25="","",(A25-B24)*1440) | K25: MTTR | L25: MTBF
G26: =IF(B26="","",(B26-A26)*1440) | H26: =IF(A26="","",(A26-B25)*1440) | J26: Janeiro
G27: =IF(B27="","",(B27-A27)*1440) | H27: =IF(A27="","",(A27-B26)*1440) | J27: Fevereiro
G28: =IF(B28="","",(B28-A28)*1440) | H28: =IF(A28="","",(A28-B27)*1440) | J28: Março
G29: =IF(B29="","",(B29-A29)*1440) | H29: =IF(A29="","",(A29-B28)*1440) | J29: Abril
G30: =IF(B30="","",(B30-A30)*1440) | H30: =IF(A30="","",(A30-B29)*1440) | J30: Maio
G31: =IF(B31="","",(B31-A31)*1440) | H31: =IF(A31="","",(A31-B30)*1440) | J31: Junho
G32: =IF(B32="","",(B32-A32)*1440) | H32: =IF(A32="","",(A32-B31)*1440) | J32: Julho
G33: =IF(B33="","",(B33-A33)*1440) | H33: =IF(A33="","",(A33-B32)*1440) | J33: Agosto
G34: =IF(B34="","",(B34-A34)*1440) | H34: =IF(A34="","",(A34-B33)*1440) | J34: Setembro
G35: =IF(B35="","",(B35-A35)*1440) | H35: =IF(A35="","",(A35-B34)*1440) | J35: Outubro
G36: =IF(B36="","",(B36-A36)*1440) | H36: =IF(A36="","",(A36-B35)*1440) | J36: Novembro
F37: Média Total: | G37: =AVERAGE(G6:G36) -> #DIV/0! | H37: =AVERAGE(H7:H36) -> #DIV/0! | J37: Dezembro

Sheet 14
A1: Controle de MTTR e MTBF
A3: Máquina: | F3: Responsável:
A5: ='1'!A5 -> Data/Hora Inicial | B5: ='1'!B5 -> Data/Hora Final | C5: ='1'!C5 -> Problema Detectado | D5: ='1'!D5 -> Descrição do Serviço | E5: ='1'!E5 -> Componente Substituído | F5: ='1'!F5 -> Observações | G5: ='1'!G5 -> MTTR (Tempo médio de reparo/minutos) | H5: ='1'!H5 -> MTBF (Tempo médio entre reparos/minuto)
G6: =IF(B6="","",(B6-A6)*1440)
G7: =IF(B7="","",(B7-A7)*1440) | H7: =IF(A7="","",(A7-B6)*1440)
G8: =IF(B8="","",(B8-A8)*1440) | H8: =IF(A8="","",(A8-B7)*1440)
G9: =IF(B9="","",(B9-A9)*1440) | H9: =IF(A9="","",(A9-B8)*1440)
G10: =IF(B10="","",(B10-A10)*1440) | H10: =IF(A10="","",(A10-B9)*1440)
G11: =IF(B11="","",(B11-A11)*1440) | H11: =IF(A11="","",(A11-B10)*1440)
G12: =IF(B12="","",(B12-A12)*1440) | H12: =IF(A12="","",(A12-B11)*1440)
G13: =IF(B13="","",(B13-A13)*1440) | H13: =IF(A13="","",(A13-B12)*1440)
G14: =IF(B14="","",(B14-A14)*1440) | H14: =IF(A14="","",(A14-B13)*1440)
G15: =IF(B15="","",(B15-A15)*1440) | H15: =IF(A15="","",(A15-B14)*1440)
G16: =IF(B16="","",(B16-A16)*1440) | H16: =IF(A16="","",(A16-B15)*1440)
G17: =IF(B17="","",(B17-A17)*1440) | H17: =IF(A17="","",(A17-B16)*1440)
G18: =IF(B18="","",(B18-A18)*1440) | H18: =IF(A18="","",(A18-B17)*1440)
... G24: =IF(B24="","",(B24-A24)*1440) | H24: =IF(A24="","",(A24-B23)*1440)
G25: =IF(B25="","",(B25-A25)*1440) | H25: =IF(A25="","",(A25-B24)*1440) | K25: MTTR | L25: MTBF
G26: =IF(B26="","",(B26-A26)*1440) | H26: =IF(A26="","",(A26-B25)*1440) | J26: Janeiro
G27: =IF(B27="","",(B27-A27)*1440) | H27: =IF(A27="","",(A27-B26)*1440) | J27: Fevereiro
G28: =IF(B28="","",(B28-A28)*1440) | H28: =IF(A28="","",(A28-B27)*1440) | J28: Março
G29: =IF(B29="","",(B29-A29)*1440) | H29: =IF(A29="","",(A29-B28)*1440) | J29: Abril
G30: =IF(B30="","",(B30-A30)*1440) | H30: =IF(A30="","",(A30-B29)*1440) | J30: Maio
G31: =IF(B31="","",(B31-A31)*1440) | H31: =IF(A31="","",(A31-B30)*1440) | J31: Junho
G32: =IF(B32="","",(B32-A32)*1440) | H32: =IF(A32="","",(A32-B31)*1440) | J32: Julho
G33: =IF(B33="","",(B33-A33)*1440) | H33: =IF(A33="","",(A33-B32)*1440) | J33: Agosto
G34: =IF(B34="","",(B34-A34)*1440) | H34: =IF(A34="","",(A34-B33)*1440) | J34: Setembro
G35: =IF(B35="","",(B35-A35)*1440) | H35: =IF(A35="","",(A35-B34)*1440) | J35: Outubro
G36: =IF(B36="","",(B36-A36)*1440) | H36: =IF(A36="","",(A36-B35)*1440) | J36: Novembro
F37: Média Total: | G37: =AVERAGE(G6:G36) -> #DIV/0! | H37: =AVERAGE(H7:H36) -> #DIV/0! | J37: Dezembro

Sheet 15
A1: Controle de MTTR e MTBF
A3: Máquina: | F3: Responsável:
A5: ='1'!A5 -> Data/Hora Inicial | B5: ='1'!B5 -> Data/Hora Final | C5: ='1'!C5 -> Problema Detectado | D5: ='1'!D5 -> Descrição do Serviço | E5: ='1'!E5 -> Componente Substituído | F5: ='1'!F5 -> Observações | G5: ='1'!G5 -> MTTR (Tempo médio de reparo/minutos) | H5: ='1'!H5 -> MTBF (Tempo médio entre reparos/minuto)
G6: =IF(B6="","",(B6-A6)*1440)
G7: =IF(B7="","",(B7-A7)*1440) | H7: =IF(A7="","",(A7-B6)*1440)
G8: =IF(B8="","",(B8-A8)*1440) | H8: =IF(A8="","",(A8-B7)*1440)
G9: =IF(B9="","",(B9-A9)*1440) | H9: =IF(A9="","",(A9-B8)*1440)
G10: =IF(B10="","",(B10-A10)*1440) | H10: =IF(A10="","",(A10-B9)*1440)
G11: =IF(B11="","",(B11-A11)*1440) | H11: =IF(A11="","",(A11-B10)*1440)
G12: =IF(B12="","",(B12-A12)*1440) | H12: =IF(A12="","",(A12-B11)*1440)
G13: =IF(B13="","",(B13-A13)*1440) | H13: =IF(A13="","",(A13-B12)*1440)
G14: =IF(B14="","",(B14-A14)*1440) | H14: =IF(A14="","",(A14-B13)*1440)
G15: =IF(B15="","",(B15-A15)*1440) | H15: =IF(A15="","",(A15-B14)*1440)
G16: =IF(B16="","",(B16-A16)*1440) | H16: =IF(A16="","",(A16-B15)*1440)
G17: =IF(B17="","",(B17-A17)*1440) | H17: =IF(A17="","",(A17-B16)*1440)
G18: =IF(B18="","",(B18-A18)*1440) | H18: =IF(A18="","",(A18-B17)*1440)
... G24: =IF(B24="","",(B24-A24)*1440) | H24: =IF(A24="","",(A24-B23)*1440)
G25: =IF(B25="","",(B25-A25)*1440) | H25: =IF(A25="","",(A25-B24)*1440) | K25: MTTR | L25: MTBF
G26: =IF(B26="","",(B26-A26)*1440) | H26: =IF(A26="","",(A26-B25)*1440) | J26: Janeiro
G27: =IF(B27="","",(B27-A27)*1440) | H27: =IF(A27="","",(A27-B26)*1440) | J27: Fevereiro
G28: =IF(B28="","",(B28-A28)*1440) | H28: =IF(A28="","",(A28-B27)*1440) | J28: Março
G29: =IF(B29="","",(B29-A29)*1440) | H29: =IF(A29="","",(A29-B28)*1440) | J29: Abril
G30: =IF(B30="","",(B30-A30)*1440) | H30: =IF(A30="","",(A30-B29)*1440) | J30: Maio
G31: =IF(B31="","",(B31-A31)*1440) | H31: =IF(A31="","",(A31-B30)*1440) | J31: Junho
G32: =IF(B32="","",(B32-A32)*1440) | H32: =IF(A32="","",(A32-B31)*1440) | J32: Julho
G33: =IF(B33="","",(B33-A33)*1440) | H33: =IF(A33="","",(A33-B32)*1440) | J33: Agosto
G34: =IF(B34="","",(B34-A34)*1440) | H34: =IF(A34="","",(A34-B33)*1440) | J34: Setembro
G35: =IF(B35="","",(B35-A35)*1440) | H35: =IF(A35="","",(A35-B34)*1440) | J35: Outubro
G36: =IF(B36="","",(B36-A36)*1440) | H36: =IF(A36="","",(A36-B35)*1440) | J36: Novembro
F37: Média Total: | G37: =AVERAGE(G6:G36) -> #DIV/0! | H37: =AVERAGE(H7:H36) -> #DIV/0! | J37: Dezembro

Sheet 16
A1: Controle de MTTR e MTBF
A3: Máquina: | F3: Responsável:
A5: ='1'!A5 -> Data/Hora Inicial | B5: ='1'!B5 -> Data/Hora Final | C5: ='1'!C5 -> Problema Detectado | D5: ='1'!D5 -> Descrição do Serviço | E5: ='1'!E5 -> Componente Substituído | F5: ='1'!F5 -> Observações | G5: ='1'!G5 -> MTTR (Tempo médio de reparo/minutos) | H5: ='1'!H5 -> MTBF (Tempo médio entre reparos/minuto)
G6: =IF(B6="","",(B6-A6)*1440)
G7: =IF(B7="","",(B7-A7)*1440) | H7: =IF(A7="","",(A7-B6)*1440)
G8: =IF(B8="","",(B8-A8)*1440) | H8: =IF(A8="","",(A8-B7)*1440)
G9: =IF(B9="","",(B9-A9)*1440) | H9: =IF(A9="","",(A9-B8)*1440)
G10: =IF(B10="","",(B10-A10)*1440) | H10: =IF(A10="","",(A10-B9)*1440)
G11: =IF(B11="","",(B11-A11)*1440) | H11: =IF(A11="","",(A11-B10)*1440)
G12: =IF(B12="","",(B12-A12)*1440) | H12: =IF(A12="","",(A12-B11)*1440)
G13: =IF(B13="","",(B13-A13)*1440) | H13: =IF(A13="","",(A13-B12)*1440)
G14: =IF(B14="","",(B14-A14)*1440) | H14: =IF(A14="","",(A14-B13)*1440)
G15: =IF(B15="","",(B15-A15)*1440) | H15: =IF(A15="","",(A15-B14)*1440)
G16: =IF(B16="","",(B16-A16)*1440) | H16: =IF(A16="","",(A16-B15)*1440)
G17: =IF(B17="","",(B17-A17)*1440) | H17: =IF(A17="","",(A17-B16)*1440)
G18: =IF(B18="","",(B18-A18)*1440) | H18: =IF(A18="","",(A18-B17)*1440)
... G24: =IF(B24="","",(B24-A24)*1440) | H24: =IF(A24="","",(A24-B23)*1440)
G25: =IF(B25="","",(B25-A25)*1440) | H25: =IF(A25="","",(A25-B24)*1440) | K25: MTTR | L25: MTBF
G26: =IF(B26="","",(B26-A26)*1440) | H26: =IF(A26="","",(A26-B25)*1440) | J26: Janeiro
G27: =IF(B27="","",(B27-A27)*1440) | H27: =IF(A27="","",(A27-B26)*1440) | J27: Fevereiro
G28: =IF(B28="","",(B28-A28)*1440) | H28: =IF(A28="","",(A28-B27)*1440) | J28: Março
G29: =IF(B29="","",(B29-A29)*1440) | H29: =IF(A29="","",(A29-B28)*1440) | J29: Abril
G30: =IF(B30="","",(B30-A30)*1440) | H30: =IF(A30="","",(A30-B29)*1440) | J30: Maio
G31: =IF(B31="","",(B31-A31)*1440) | H31: =IF(A31="","",(A31-B30)*1440) | J31: Junho
G32: =IF(B32="","",(B32-A32)*1440) | H32: =IF(A32="","",(A32-B31)*1440) | J32: Julho
G33: =IF(B33="","",(B33-A33)*1440) | H33: =IF(A33="","",(A33-B32)*1440) | J33: Agosto
G34: =IF(B34="","",(B34-A34)*1440) | H34: =IF(A34="","",(A34-B33)*1440) | J34: Setembro
G35: =IF(B35="","",(B35-A35)*1440) | H35: =IF(A35="","",(A35-B34)*1440) | J35: Outubro
G36: =IF(B36="","",(B36-A36)*1440) | H36: =IF(A36="","",(A36-B35)*1440) | J36: Novembro
F37: Média Total: | G37: =AVERAGE(G6:G36) -> #DIV/0! | H37: =AVERAGE(H7:H36) -> #DIV/0! | J37: Dezembro

Sheet TOTALIZAÇÃO
A1: TOTALIZAÇÃO MTTR E MTBF - 2018
B3: 1- MÁQUINA 1 | D3: 2 - MÁQUINA 2 | F3: 3- MÁQUINA 3 | H3: 4 - MÁQUINA 4 | J3: 5 - MÁQUINA 5 | L3: 6 - MÁQUINA 6 | N3: 7 - MÁQUINA 7 | P3: 8 - MÁQUINA 8 | R3: 9 - MÁQUINA 9 | T3: 10 - MÁQUINA 10 | V3: 11 - MÁQUINA 11 | X3: 12 - MÁQUINA 12 | Z3: 13 - MÁQUINA 13 | AB3: 14 - MÁQUINA 14 | AD3: 15 - MÁQUINA 15 | AF3: 16 - MÁQUINA 16 | AH3: TOTAL | AJ3: MÉDIA GERAL
B4: MTTR | C4: MTBF | D4: MTTR | E4: MTBF | F4: MTTR | G4: MTBF | H4: MTTR | I4: MTBF | J4: MTTR | K4: MTBF | L4: MTTR | M4: MTBF | N4: MTTR | O4: MTBF | P4: MTTR | Q4: MTBF | R4: MTTR | S4: MTBF | T4: MTTR | U4: MTBF | V4: MTTR | W4: MTBF | X4: MTTR | Y4: MTBF | Z4: MTTR | AA4: MTBF | AB4: MTTR | AC4: MTBR | AD4: MTTR | AE4: MTBF | AF4: MTTR | AG4: MTBF | AH4: MTTR | AI4: MTBF | AJ4: MTBR | AK4: MTBF
A5: Janeiro | B5: ='1'!K26 -> 0 | C5: ='1'!L26 -> 0 | D5: ='2'!K26 -> 0 | E5: ='2'!L26 -> 0 | F5: ='3'!K26 -> 0 | G5: ='3'!L26 -> 0 | H5: ='4'!K26 -> 0 | I5: ='4'!L26 -> 0 | J5: ='5'!K26 -> 0 | K5: ='5'!L26 -> 0 | L5: ='6'!K26 -> 0 | M5: ='6'!L26 -> 0 | N5: ='7'!K26 -> 0 | O5: ='7'!L26 -> 0 | P5: ='8'!K26 -> 0 | Q5: ='8'!L26 -> 0 | R5: ='9'!K26 -> 0 | S5: ='9'!L26 -> 0 | T5: ='10'!K26 -> 0 | U5: ='10'!L26 -> 0 | V5: ='11'!K26 -> 0 | W5: ='11'!L26 -> 0 | X5: ='12'!K26 -> 0 | Y5: ='12'!L26 -> 0 | Z5: ='13'!K26 -> 0 | AA5: ='13'!L26 -> 0 | AB5: ='14'!K26 -> 0 | AC5: ='14'!L26 -> 0 | AD5: ='15'!K26 -> 0 | AE5: ='15'!L26 -> 0 | AF5: ='16'!K26 -> 0 | AG5: ='16'!L26 -> 0 | AH5: =SUM(B5+D5+F5+H5+J5+L5+N5+P5+R5+T5+V5+X5+Z5+AB5+AD5+AF5) -> 0 | AI5: =SUM(C5+E5+G5+I5+K5+M5+O5+Q5+S5+U5+W5+Y5+AA5+AC5+AE5+AG5) -> 0 | AJ5: =AH5/17 -> 0 | AK5: =AI5/17 -> 0
A6: Fevereiro | B6: ='1'!K27 -> 0 | C6: ='1'!L27 -> 0 | D6: ='2'!K27 -> 0 | E6: ='2'!L27 -> 0 | F6: ='3'!K27 -> 0 | G6: ='3'!L27 -> 0 | H6: ='4'!K27 -> 0 | I6: ='4'!L27 -> 0 | J6: ='5'!K27 -> 0 | K6: ='5'!L27 -> 0 | L6: ='6'!K27 -> 0 | M6: ='6'!L27 -> 0 | N6: ='7'!K27 -> 0 | O6: ='7'!L27 -> 0 | P6: ='8'!K27 -> 0 | Q6: ='8'!L27 -> 0 | R6: ='9'!K27 -> 0 | S6: ='9'!L27 -> 0 | T6: ='10'!K27 -> 0 | U6: ='10'!L27 -> 0 | V6: ='11'!K27 -> 0 | W6: ='11'!L27 -> 0 | X6: ='12'!K27 -> 0 | Y6: ='12'!L27 -> 0 | Z6: ='13'!K27 -> 0 | AA6: ='13'!L27 -> 0 | AB6: ='14'!K27 -> 0 | AC6: ='14'!L27 -> 0 | AD6: ='15'!K27 -> 0 | AE6: ='15'!L27 -> 0 | AF6: ='16'!K27 -> 0 | AG6: ='16'!L27 -> 0 | AH6: =SUM(B6+D6+F6+H6+J6+L6+N6+P6+R6+T6+V6+X6+Z6+AB6+AD6+AF6) -> 0 | AI6: =SUM(C6+E6+G6+I6+K6+M6+O6+Q6+S6+U6+W6+Y6+AA6+AC6+AE6+AG6) -> 0 | AJ6: =AH6/17 -> 0 | AK6: =AI6/17 -> 0
A7: Março | B7: ='1'!K28 -> 0 | C7: ='1'!L28 -> 0 | D7: ='2'!K28 -> 0 | E7: ='2'!L28 -> 0 | F7: ='3'!K28 -> 0 | G7: ='3'!L28 -> 0 | H7: ='4'!K28 -> 0 | I7: ='4'!L28 -> 0 | J7: ='5'!K28 -> 0 | K7: ='5'!L28 -> 0 | L7: ='6'!K28 -> 0 | M7: ='6'!L28 -> 0 | N7: ='7'!K28 -> 0 | O7: ='7'!L28 -> 0 | P7: ='8'!K28 -> 0 | Q7: ='8'!L28 -> 0 | R7: ='9'!K28 -> 0 | S7: ='9'!L28 -> 0 | T7: ='10'!K28 -> 0 | U7: ='10'!L28 -> 0 | V7: ='11'!K28 -> 0 | W7: ='11'!L28 -> 0 | X7: ='12'!K28 -> 0 | Y7: ='12'!L28 -> 0 | Z7: ='13'!K28 -> 0 | AA7: ='13'!L28 -> 0 | AB7: ='14'!K28 -> 0 | AC7: ='14'!L28 -> 0 | AD7: ='15'!K28 -> 0 | AE7: ='15'!L28 -> 0 | AF7: ='16'!K28 -> 0 | AG7: ='16'!L28 -> 0 | AH7: =SUM(B7+D7+F7+H7+J7+L7+N7+P7+R7+T7+V7+X7+Z7+AB7+AD7+AF7) -> 0 | AI7: =SUM(C7+E7+G7+I7+K7+M7+O7+Q7+S7+U7+W7+Y7+AA7+AC7+AE7+AG7) -> 0 | AJ7: =AH7/17 -> 0 | AK7: =AI7/17 -> 0
A8: Abril | B8: ='1'!K29 -> 0 | C8: ='1'!L29 -> 0 | D8: ='2'!K29 -> 0 | E8: ='2'!L29 -> 0 | F8: ='3'!K29 -> 0 | G8: ='3'!L29 -> 0 | H8: ='4'!K29 -> 0 | I8: ='4'!L29 -> 0 | J8: ='5'!K29 -> 0 | K8: ='5'!L29 -> 0 | L8: ='6'!K29 -> 0 | M8: ='6'!L29 -> 0 | N8: ='7'!K29 -> 0 | O8: ='7'!L29 -> 0 | P8: ='8'!K29 -> 0 | Q8: ='8'!L29 -> 0 | R8: ='9'!K29 -> 0 | S8: ='9'!L29 -> 0 | T8: ='10'!K29 -> 0 | U8: ='10'!L29 -> 0 | V8: ='11'!K29 -> 0 | W8: ='11'!L29 -> 0 | X8: ='12'!K29 -> 0 | Y8: ='12'!L29 -> 0 | Z8: ='13'!K29 -> 0 | AA8: ='13'!L29 -> 0 | AB8: ='14'!K29 -> 0 | AC8: ='14'!L29 -> 0 | AD8: ='15'!K29 -> 0 | AE8: ='15'!L29 -> 0 | AF8: ='16'!K29 -> 0 | AG8: ='16'!L29 -> 0 | AH8: =SUM(B8+D8+F8+H8+J8+L8+N8+P8+R8+T8+V8+X8+Z8+AB8+AD8+AF8) -> 0 | AI8: =SUM(C8+E8+G8+I8+K8+M8+O8+Q8+S8+U8+W8+Y8+AA8+AC8+AE8+AG8) -> 0 | AJ8: =AH8/17 -> 0 | AK8: =AI8/17 -> 0
A9: Maio | B9: ='1'!K30 -> 0 | C9: ='1'!L30 -> 0 | D9: ='2'!K30 -> 0 | E9: ='2'!L30 -> 0 | F9: ='3'!K30 -> 0 | G9: ='3'!L30 -> 0 | H9: ='4'!K30 -> 0 | I9: ='4'!L30 -> 0 | J9: ='5'!K30 -> 0 | K9: ='5'!L30 -> 0 | L9: ='6'!K30 -> 0 | M9: ='6'!L30 -> 0 | N9: ='7'!K30 -> 0 | O9: ='7'!L30 -> 0 | P9: ='8'!K30 -> 0 | Q9: ='8'!L30 -> 0 | R9: ='9'!K30 -> 0 | S9: ='9'!L30 -> 0 | T9: ='10'!K30 -> 0 | U9: ='10'!L30 -> 0 | V9: ='11'!K30 -> 0 | W9: ='11'!L30 -> 0 | X9: ='12'!K30 -> 0 | Y9: ='12'!L30 -> 0 | Z9: ='13'!K30 -> 0 | AA9: ='13'!L30 -> 0 | AB9: ='14'!K30 -> 0 | AC9: ='14'!L30 -> 0 | AD9: ='15'!K30 -> 0 | AE9: ='15'!L30 -> 0 | AF9: ='16'!K30 -> 0 | AG9: ='16'!L30 -> 0 | AH9: =SUM(B9+D9+F9+H9+J9+L9+N9+P9+R9+T9+V9+X9+Z9+AB9+AD9+AF9) -> 0 | AI9: =SUM(C9+E9+G9+I9+K9+M9+O9+Q9+S9+U9+W9+Y9+AA9+AC9+AE9+AG9) -> 0 | AJ9: =AH9/17 -> 0 | AK9: =AI9/17 -> 0
A10: Junho | B10: ='1'!K31 -> 0 | C10: ='1'!L31 -> 0 | D10: ='2'!K31 -> 0 | E10: ='2'!L31 -> 0 | F10: ='3'!K31 -> 0 | G10: ='3'!L31 -> 0 | H10: ='4'!K31 -> 0 | I10: ='4'!L31 -> 0 | J10: ='5'!K31 -> 0 | K10: ='5'!L31 -> 0 | L10: ='6'!K31 -> 0 | M10: ='6'!L31 -> 0 | N10: ='7'!K31 -> 0 | O10: ='7'!L31 -> 0 | P10: ='8'!K31 -> 0 | Q10: ='8'!L31 -> 0 | R10: ='9'!K31 -> 0 | S10: ='9'!L31 -> 0 | T10: ='10'!K31 -> 0 | U10: ='10'!L31 -> 0 | V10: ='11'!K31 -> 0 | W10: ='11'!L31 -> 0 | X10: ='12'!K31 -> 0 | Y10: ='12'!L31 -> 0 | Z10: ='13'!K31 -> 0 | AA10: ='13'!L31 -> 0 | AB10: ='14'!K31 -> 0 | AC10: ='14'!L31 -> 0 | AD10: ='15'!K31 -> 0 | AE10: ='15'!L31 -> 0 | AF10: ='16'!K31 -> 0 | AG10: ='16'!L31 -> 0 | AH10: =SUM(B10+D10+F10+H10+J10+L10+N10+P10+R10+T10+V10+X10+Z10+AB10+AD10+AF10) -> 0 | AI10: =SUM(C10+E10+G10+I10+K10+M10+O10+Q10+S10+U10+W10+Y10+AA10+AC10+AE10+AG10) -> 0 | AJ10: =AH10/17 -> 0 | AK10: =AI10/17 -> 0
A11: Julho | B11: ='1'!K32 -> 0 | C11: ='1'!L32 -> 0 | D11: ='2'!K32 -> 0 | E11: ='2'!L32 -> 0 | F11: ='3'!K32 -> 0 | G11: ='3'!L32 -> 0 | H11: ='4'!K32 -> 0 | I11: ='4'!L32 -> 0 | J11: ='5'!K32 -> 0 | K11: ='5'!L32 -> 0 | L11: ='6'!K32 -> 0 | M11: ='6'!L32 -> 0 | N11: ='7'!K32 -> 0 | O11: ='7'!L32 -> 0 | P11: ='8'!K32 -> 0 | Q11: ='8'!L32 -> 0 | R11: ='9'!K32 -> 0 | S11: ='9'!L32 -> 0 | T11: ='10'!K32 -> 0 | U11: ='10'!L32 -> 0 | V11: ='11'!K32 -> 0 | W11: ='11'!L32 -> 0 | X11: ='12'!K32 -> 0 | Y11: ='12'!L32 -> 0 | Z11: ='13'!K32 -> 0 | AA11: ='13'!L32 -> 0 | AB11: ='14'!K32 -> 0 | AC11: ='14'!L32 -> 0 | AD11: ='15'!K32 -> 0 | AE11: ='15'!L32 -> 0 | AF11: ='16'!K32 -> 0 | AG11: ='16'!L32 -> 0 | AH11: =SUM(B11+D11+F11+H11+J11+L11+N11+P11+R11+T11+V11+X11+Z11+AB11+AD11+AF11) -> 0 | AI11: =SUM(C11+E11+G11+I11+K11+M11+O11+Q11+S11+U11+W11+Y11+AA11+AC11+AE11+AG11) -> 0 | AJ11: =AH11/17 -> 0 | AK11: =AI11/17 -> 0
A12: Agosto | B12: ='1'!K33 -> 0 | C12: ='1'!L33 -> 0 | D12: ='2'!K33 -> 0 | E12: ='2'!L33 -> 0 | F12: ='3'!K33 -> 0 | G12: ='3'!L33 -> 0 | H12: ='4'!K33 -> 0 | I12: ='4'!L33 -> 0 | J12: ='5'!K33 -> 0 | K12: ='5'!L33 -> 0 | L12: ='6'!K33 -> 0 | M12: ='6'!L33 -> 0 | N12: ='7'!K33 -> 0 | O12: ='7'!L33 -> 0 | P12: ='8'!K33 -> 0 | Q12: ='8'!L33 -> 0 | R12: ='9'!K33 -> 0 | S12: ='9'!L33 -> 0 | T12: ='10'!K33 -> 0 | U12: ='10'!L33 -> 0 | V12: ='11'!K33 -> 0 | W12: ='11'!L33 -> 0 | X12: ='12'!K33 -> 0 | Y12: ='12'!L33 -> 0 | Z12: ='13'!K33 -> 0 | AA12: ='13'!L33 -> 0 | AB12: ='14'!K33 -> 0 | AC12: ='14'!L33 -> 0 | AD12: ='15'!K33 -> 0 | AE12: ='15'!L33 -> 0 | AF12: ='16'!K33 -> 0 | AG12: ='16'!L33 -> 0 | AH12: =SUM(B12+D12+F12+H12+J12+L12+N12+P12+R12+T12+V12+X12+Z12+AB12+AD12+AF12) -> 0 | AI12: =SUM(C12+E12+G12+I12+K12+M12+O12+Q12+S12+U12+W12+Y12+AA12+AC12+AE12+AG12) -> 0 | AJ12: =AH12/17 -> 0 | AK12: =AI12/17 -> 0
A13: Setembro | B13: ='1'!K34 -> 0 | C13: ='1'!L34 -> 0 | D13: ='2'!K34 -> 0 | E13: ='2'!L34 -> 0 | F13: ='3'!K34 -> 0 | G13: ='3'!L34 -> 0 | H13: ='4'!K34 -> 0 | I13: ='4'!L34 -> 0 | J13: ='5'!K34 -> 0 | K13: ='5'!L34 -> 0 | L13: ='6'!K34 -> 0 | M13: ='6'!L34 -> 0 | N13: ='7'!K34 -> 0 | O13: ='7'!L34 -> 0 | P13: ='8'!K34 -> 0 | Q13: ='8'!L34 -> 0 | R13: ='9'!K34 -> 0 | S13: ='9'!L34 -> 0 | T13: ='10'!K34 -> 0 | U13: ='10'!L34 -> 0 | V13: ='11'!K34 -> 0 | W13: ='11'!L34 -> 0 | X13: ='12'!K34 -> 0 | Y13: ='12'!L34 -> 0 | Z13: ='13'!K34 -> 0 | AA13: ='13'!L34 -> 0 | AB13: ='14'!K34 -> 0 | AC13: ='14'!L34 -> 0 | AD13: ='15'!K34 -> 0 | AE13: ='15'!L34 -> 0 | AF13: ='16'!K34 -> 0 | AG13: ='16'!L34 -> 0 | AH13: =SUM(B13+D13+F13+H13+J13+L13+N13+P13+R13+T13+V13+X13+Z13+AB13+AD13+AF13) -> 0 | AI13: =SUM(C13+E13+G13+I13+K13+M13+O13+Q13+S13+U13+W13+Y13+AA13+AC13+AE13+AG13) -> 0 | AJ13: =AH13/17 -> 0 | AK13: =AI13/17 -> 0
A14: Outubro | B14: ='1'!K35 -> 0 | C14: ='1'!L35 -> 0 | D14: ='2'!K35 -> 0 | E14: ='2'!L35 -> 0 | F14: ='3'!K35 -> 0 | G14: ='3'!L35 -> 0 | H14: ='4'!K35 -> 0 | I14: ='4'!L35 -> 0 | J14: ='5'!K35 -> 0 | K14: ='5'!L35 -> 0 | L14: ='6'!K35 -> 0 | M14: ='6'!L35 -> 0 | N14: ='7'!K35 -> 0 | O14: ='7'!L35 -> 0 | P14: ='8'!K35 -> 0 | Q14: ='8'!L35 -> 0 | R14: ='9'!K35 -> 0 | S14: ='9'!L35 -> 0 | T14: ='10'!K35 -> 0 | U14: ='10'!L35 -> 0 | V14: ='11'!K35 -> 0 | W14: ='11'!L35 -> 0 | X14: ='12'!K35 -> 0 | Y14: ='12'!L35 -> 0 | Z14: ='13'!K35 -> 0 | AA14: ='13'!L35 -> 0 | AB14: ='14'!K35 -> 0 | AC14: ='14'!L35 -> 0 | AD14: ='15'!K35 -> 0 | AE14: ='15'!L35 -> 0 | AF14: ='16'!K35 -> 0 | AG14: ='16'!L35 -> 0 | AH14: =SUM(B14+D14+F14+H14+J14+L14+N14+P14+R14+T14+V14+X14+Z14+AB14+AD14+AF14) -> 0 | AI14: =SUM(C14+E14+G14+I14+K14+M14+O14+Q14+S14+U14+W14+Y14+AA14+AC14+AE14+AG14) -> 0 | AJ14: =AH14/17 -> 0 | AK14: =AI14/17 -> 0
A15: Novembro | B15: ='1'!K36 -> 0 | C15: ='1'!L36 -> 0 | D15: ='2'!K36 -> 0 | E15: ='2'!L36 -> 0 | F15: ='3'!K36 -> 0 | G15: ='3'!L36 -> 0 | H15: ='4'!K36 -> 0 | I15: ='4'!L36 -> 0 | J15: ='5'!K36 -> 0 | K15: ='5'!L36 -> 0 | L15: ='6'!K36 -> 0 | M15: ='6'!L36 -> 0 | N15: ='7'!K36 -> 0 | O15: ='7'!L36 -> 0 | P15: ='8'!K36 -> 0 | Q15: ='8'!L36 -> 0 | R15: ='9'!K36 -> 0 | S15: ='9'!L36 -> 0 | T15: ='10'!K36 -> 0 | U15: ='10'!L36 -> 0 | V15: ='11'!K36 -> 0 | W15: ='11'!L36 -> 0 | X15: ='12'!K36 -> 0 | Y15: ='12'!L36 -> 0 | Z15: ='13'!K36 -> 0 | AA15: ='13'!L36 -> 0 | AB15: ='14'!K36 -> 0 | AC15: ='14'!L36 -> 0 | AD15: ='15'!K36 -> 0 | AE15: ='15'!L36 -> 0 | AF15: ='16'!K36 -> 0 | AG15: ='16'!L36 -> 0 | AH15: =SUM(B15+D15+F15+H15+J15+L15+N15+P15+R15+T15+V15+X15+Z15+AB15+AD15+AF15) -> 0 | AI15: =SUM(C15+E15+G15+I15+K15+M15+O15+Q15+S15+U15+W15+Y15+AA15+AC15+AE15+AG15) -> 0 | AJ15: =AH15/17 -> 0 | AK15: =AI15/17 -> 0
A16: Dezembro | B16: ='1'!K37 -> 0 | C16: ='1'!L37 -> 0 | D16: ='2'!K37 -> 0 | E16: ='2'!L37 -> 0 | F16: ='3'!K37 -> 0 | G16: ='3'!L37 -> 0 | H16: ='4'!K37 -> 0 | I16: ='4'!L37 -> 0 | J16: ='5'!K37 -> 0 | K16: ='5'!L37 -> 0 | L16: ='6'!K37 -> 0 | M16: ='6'!L37 -> 0 | N16: ='7'!K37 -> 0 | O16: ='7'!L37 -> 0 | P16: ='8'!K37 -> 0 | Q16: ='8'!L37 -> 0 | R16: ='9'!K37 -> 0 | S16: ='9'!L37 -> 0 | T16: ='10'!K37 -> 0 | U16: ='10'!L37 -> 0 | V16: ='11'!K37 -> 0 | W16: ='11'!L37 -> 0 | X16: ='12'!K37 -> 0 | Y16: ='12'!L37 -> 0 | Z16: ='13'!K37 -> 0 | AA16: ='13'!L37 -> 0 | AB16: ='14'!K37 -> 0 | AC16: ='14'!L37 -> 0 | AD16: ='15'!K37 -> 0 | AE16: ='15'!L37 -> 0 | AF16: ='16'!K37 -> 0 | AG16: ='16'!L37 -> 0 | AH16: =SUM(B16+D16+F16+H16+J16+L16+N16+P16+R16+T16+V16+X16+Z16+AB16+AD16+AF16) -> 0 | AI16: =SUM(C16+E16+G16+I16+K16+M16+O16+Q16+S16+U16+W16+Y16+AA16+AC16+AE16+AG16) -> 0 | AJ16: =AH16/17 -> 0 | AK16: =AI16/17 -> 0
