Workbook

Sheet Formulário
A1: Relatório de Manutenção Corretiva - MTTR, MTBF e Disponibilidade
A3: Máquina: | D3: Responsável:
A5: Data/Hora Inicial | B5: Data/Hora Final | C5: Problema Detectado | D5: Descrição do Serviço | E5: Componente Substituído | F5: Observações
A13: Observações (cuidados futuros):
F16: Rev 01

Sheet 1
A1: Controle de MTTR, MTBF e Disponibilidade
A3: Máquina: | F3: Responsável:
A5: Data/Hora Inicial | B5: Data/Hora Final | C5: Problema Detectado | D5: Descrição do Serviço | E5: Componente Substituído | F5: Observações | G5: MTTR (Tempo médio de reparo/minutos) | H5: MTBF (Tempo médio entre reparos/minuto) | I5: Disponibilidade
G6: =IF(B6="","",(B6-A6)*1440) | I6: =(H6/(H6+G6))*100 -> #VALUE!
G7: =IF(B7="","",(B7-A6)*1440) | H7: =IF(A7="","",(A7-B6)*1440) | I7: =(H7/(H7+G7))*100 -> #VALUE!
G8: =IF(B8="","",(B8-A8)*1440) | H8: =IF(A8="","",(A8-B7)*1440) | I8: =(H8/(H8+G8))*100 -> #VALUE!
G9: =IF(B9="","",(B9-A9)*1440) | H9: =IF(A9="","",(A9-B8)*1440) | I9: =(H9/(H9+G9))*100 -> #VALUE!
G10: =IF(B10="","",(B10-A10)*1440) | H10: =IF(A10="","",(A10-B9)*1440) | I10: =(H10/(H10+G10))*100 -> #VALUE!
G11: =IF(B11="","",(B11-A11)*1440) | H11: =IF(A11="","",(A11-B10)*1440) | I11: =(H11/(H11+G11))*100 -> #VALUE!
G12: =IF(B12="","",(B12-A12)*1440) | H12: =IF(A12="","",(A12-B11)*1440) | I12: =(H12/(H12+G12))*100 -> #VALUE!
G13: =IF(B13="","",(B13-A13)*1440) | H13: =IF(A13="","",(A13-B12)*1440) | I13: =(H13/(H13+G13))*100 -> #VALUE!
G14: =IF(B14="","",(B14-A14)*1440) | H14: =IF(A14="","",(A14-B13)*1440) | I14: =(H14/(H14+G14))*100 -> #VALUE!
G15: =IF(B15="","",(B15-A15)*1440) | H15: =IF(A15="","",(A15-B14)*1440) | I15: =(H15/(H15+G15))*100 -> #VALUE!
G16: =IF(B16="","",(B16-A16)*1440) | H16: =IF(A16="","",(A16-B15)*1440) | I16: =(H16/(H16+G16))*100 -> #VALUE!
G17: =IF(B17="","",(B17-A17)*1440) | H17: =IF(A17="","",(A17-B16)*1440) | I17: =(H17/(H17+G17))*100 -> #VALUE!
G18: =IF(B18="","",(B18-A18)*1440) | H18: =IF(A18="","",(A18-B17)*1440) | I18: =(H18/(H18+G18))*100 -> #VALUE!
G19: =IF(B19="","",(B19-A19)*1440) | H19: =IF(A19="","",(A19-B18)*1440) | I19: =(H19/(H19+G19))*100 -> #VALUE!
G20: =IF(B20="","",(B20-A20)*1440) | H20: =IF(A20="","",(A20-B19)*1440) | I20: =(H20/(H20+G20))*100 -> #VALUE!
I21: =(H21/(H21+G21))*100 -> #DIV/0!
G22: =IF(B22="","",(B22-A22)*1440) | H22: =IF(A22="","",(A22-B21)*1440) | I22: =(H22/(H22+G22))*100 -> #VALUE!
G23: =IF(B23="","",(B23-A23)*1440) | H23: =IF(A23="","",(A23-B22)*1440) | I23: =(H23/(H23+G23))*100 -> #VALUE!
G24: =IF(B24="","",(B24-A24)*1440) | H24: =IF(A24="","",(A24-B23)*1440) | I24: =(H24/(H24+G24))*100 -> #VALUE!
G25: =IF(B25="","",(B25-A25)*1440) | H25: =IF(A25="","",(A25-B24)*1440) | I25: =(H25/(H25+G25))*100 -> #VALUE! | K25: MTTR | L25: MTBF | M25: Disponibilidade
G26: =IF(B26="","",(B26-A26)*1440) | H26: =IF(A26="","",(A26-B25)*1440) | I26: =(H26/(H26+G26))*100 -> #VALUE! | J26: Janeiro
G27: =IF(B27="","",(B27-A27)*1440) | H27: =IF(A27="","",(A27-B26)*1440) | I27: =(H27/(H27+G27))*100 -> #VALUE! | J27: Fevereiro
G28: =IF(B28="","",(B28-A28)*1440) | H28: =IF(A28="","",(A28-B27)*1440) | I28: =(H28/(H28+G28))*100 -> #VALUE! | J28: Março
G29: =IF(B29="","",(B29-A29)*1440) | H29: =IF(A29="","",(A29-B28)*1440) | I29: =(H29/(H29+G29))*100 -> #VALUE! | J29: Abril
G30: =IF(B30="","",(B30-A30)*1440) | H30: =IF(A30="","",(A30-B29)*1440) | I30: =(H30/(H30+G30))*100 -> #VALUE! | J30: Maio
G31: =IF(B31="","",(B31-A31)*1440) | H31: =IF(A31="","",(A31-B30)*1440) | I31: =(H31/(H31+G31))*100 -> #VALUE! | J31: Junho
G32: =IF(B32="","",(B32-A32)*1440) | H32: =IF(A32="","",(A32-B31)*1440) | I32: =(H32/(H32+G32))*100 -> #VALUE! | J32: Julho
G33: =IF(B33="","",(B33-A33)*1440) | H33: =IF(A33="","",(A33-B32)*1440) | I33: =(H33/(H33+G33))*100 -> #VALUE! | J33: Agosto
G34: =IF(B34="","",(B34-A34)*1440) | H34: =IF(A34="","",(A34-B33)*1440) | I34: =(H34/(H34+G34))*100 -> #VALUE! | J34: Setembro
G35: =IF(B35="","",(B35-A35)*1440) | H35: =IF(A35="","",(A35-B34)*1440) | I35: =(H35/(H35+G35))*100 -> #VALUE! | J35: Outubro
G36: =IF(B36="","",(B36-A36)*1440) | H36: =IF(A36="","",(A36-B35)*1440) | I36: =(H36/(H36+G36))*100 -> #VALUE! | J36: Novembro
F37: Média Total: | G37: =AVERAGE(G6:G36) -> #DIV/0! | H37: =AVERAGE(H7:H36) -> #DIV/0! | I37: =H37/(H37+G37)*100 -> #DIV/0! | J37: Dezembro

Sheet 2
A1: Controle de MTTR, MTBF e Disponibilidade
A3: Máquina: | F3: Responsável:
A5: Data/Hora Inicial | B5: Data/Hora Final | C5: Problema Detectado | D5: Descrição do Serviço | E5: Componente Substituído | F5: Observações | G5: MTTR (Tempo médio de reparo/minutos) | H5: MTBF (Tempo médio entre reparos/minuto) | I5: Disponibilidade
G6: =IF(B6="","",(B6-A6)*1440) | I6: =(H6/(H6+G6))*100 -> #VALUE!
G7: =IF(B7="","",(B7-A6)*1440) | H7: =IF(A7="","",(A7-B6)*1440) | I7: =(H7/(H7+G7))*100 -> #VALUE!
G8: =IF(B8="","",(B8-A8)*1440) | H8: =IF(A8="","",(A8-B7)*1440) | I8: =(H8/(H8+G8))*100 -> #VALUE!
G9: =IF(B9="","",(B9-A9)*1440) | H9: =IF(A9="","",(A9-B8)*1440) | I9: =(H9/(H9+G9))*100 -> #VALUE!
G10: =IF(B10="","",(B10-A10)*1440) | H10: =IF(A10="","",(A10-B9)*1440) | I10: =(H10/(H10+G10))*100 -> #VALUE!
G11: =IF(B11="","",(B11-A11)*1440) | H11: =IF(A11="","",(A11-B10)*1440) | I11: =(H11/(H11+G11))*100 -> #VALUE!
G12: =IF(B12="","",(B12-A12)*1440) | H12: =IF(A12="","",(A12-B11)*1440) | I12: =(H12/(H12+G12))*100 -> #VALUE!
G13: =IF(B13="","",(B13-A13)*1440) | H13: =IF(A13="","",(A13-B12)*1440) | I13: =(H13/(H13+G13))*100 -> #VALUE!
G14: =IF(B14="","",(B14-A14)*1440) | H14: =IF(A14="","",(A14-B13)*1440) | I14: =(H14/(H14+G14))*100 -> #VALUE!
G15: =IF(B15="","",(B15-A15)*1440) | H15: =IF(A15="","",(A15-B14)*1440) | I15: =(H15/(H15+G15))*100 -> #VALUE!
G16: =IF(B16="","",(B16-A16)*1440) | H16: =IF(A16="","",(A16-B15)*1440) | I16: =(H16/(H16+G16))*100 -> #VALUE!
G17: =IF(B17="","",(B17-A17)*1440) | H17: =IF(A17="","",(A17-B16)*1440) | I17: =(H17/(H17+G17))*100 -> #VALUE!
G18: =IF(B18="","",(B18-A18)*1440) | H18: =IF(A18="","",(A18-B17)*1440) | I18: =(H18/(H18+G18))*100 -> #VALUE!
G19: =IF(B19="","",(B19-A19)*1440) | H19: =IF(A19="","",(A19-B18)*1440) | I19: =(H19/(H19+G19))*100 -> #VALUE!
G20: =IF(B20="","",(B20-A20)*1440) | H20: =IF(A20="","",(A20-B19)*1440) | I20: =(H20/(H20+G20))*100 -> #VALUE!
I21: =H21/(H21+G21)*100 -> #DIV/0!
G22: =IF(B22="","",(B22-A22)*1440) | H22: =IF(A22="","",(A22-B21)*1440) | I22: =H22/(H22+G22)*100 -> #VALUE!
G23: =IF(B23="","",(B23-A23)*1440) | H23: =IF(A23="","",(A23-B22)*1440) | I23: =H23/(H23+G23)*100 -> #VALUE!
G24: =IF(B24="","",(B24-A24)*1440) | H24: =IF(A24="","",(A24-B23)*1440) | I24: =H24/(H24+G24)*100 -> #VALUE!
G25: =IF(B25="","",(B25-A25)*1440) | H25: =IF(A25="","",(A25-B24)*1440) | I25: =H25/(H25+G25)*100 -> #VALUE! | K25: MTTR | L25: MTBF | M25: Disponibilidade
G26: =IF(B26="","",(B26-A26)*1440) | H26: =IF(A26="","",(A26-B25)*1440) | I26: =H26/(H26+G26)*100 -> #VALUE! | J26: Janeiro
G27: =IF(B27="","",(B27-A27)*1440) | H27: =IF(A27="","",(A27-B26)*1440) | I27: =H27/(H27+G27)*100 -> #VALUE! | J27: Fevereiro
G28: =IF(B28="","",(B28-A28)*1440) | H28: =IF(A28="","",(A28-B27)*1440) | I28: =H28/(H28+G28)*100 -> #VALUE! | J28: Março
G29: =IF(B29="","",(B29-A29)*1440) | H29: =IF(A29="","",(A29-B28)*1440) | I29: =H29/(H29+G29)*100 -> #VALUE! | J29: Abril
G30: =IF(B30="","",(B30-A30)*1440) | H30: =IF(A30="","",(A30-B29)*1440) | I30: =H30/(H30+G30)*100 -> #VALUE! | J30: Maio
G31: =IF(B31="","",(B31-A31)*1440) | H31: =IF(A31="","",(A31-B30)*1440) | I31: =H31/(H31+G31)*100 -> #VALUE! | J31: Junho
G32: =IF(B32="","",(B32-A32)*1440) | H32: =IF(A32="","",(A32-B31)*1440) | I32: =H32/(H32+G32)*100 -> #VALUE! | J32: Julho
G33: =IF(B33="","",(B33-A33)*1440) | H33: =IF(A33="","",(A33-B32)*1440) | I33: =H33/(H33+G33)*100 -> #VALUE! | J33: Agosto
G34: =IF(B34="","",(B34-A34)*1440) | H34: =IF(A34="","",(A34-B33)*1440) | I34: =H34/(H34+G34)*100 -> #VALUE! | J34: Setembro
G35: =IF(B35="","",(B35-A35)*1440) | H35: =IF(A35="","",(A35-B34)*1440) | I35: =H35/(H35+G35)*100 -> #VALUE! | J35: Outubro
G36: =IF(B36="","",(B36-A36)*1440) | H36: =IF(A36="","",(A36-B35)*1440) | I36: =H36/(H36+G36)*100 -> #VALUE! | J36: Novembro
F37: Média Total: | G37: =AVERAGE(G6:G36) -> #DIV/0! | H37: =AVERAGE(H7:H36) -> #DIV/0! | I37: =H37/(H37+G37)*100 -> #DIV/0! | J37: Dezembro

Sheet 3
A1: Controle de MTTR, MTBF e Disponibilidade
A3: Máquina: | F3: Responsável:
A5: Data/Hora Inicial | B5: Data/Hora Final | C5: Problema Detectado | D5: Descrição do Serviço | E5: Componente Substituído | F5: Observações | G5: MTTR (Tempo médio de reparo/minutos) | H5: MTBF (Tempo médio entre reparos/minuto) | I5: Disponibilidade
G6: =IF(B6="","",(B6-A6)*1440) | I6: =(H6/(H6+G6))*100 -> #VALUE!
G7: =IF(B7="","",(B7-A6)*1440) | H7: =IF(A7="","",(A7-B6)*1440) | I7: =(H7/(H7+G7))*100 -> #VALUE!
G8: =IF(B8="","",(B8-A8)*1440) | H8: =IF(A8="","",(A8-B7)*1440) | I8: =(H8/(H8+G8))*100 -> #VALUE!
G9: =IF(B9="","",(B9-A9)*1440) | H9: =IF(A9="","",(A9-B8)*1440) | I9: =(H9/(H9+G9))*100 -> #VALUE!
G10: =IF(B10="","",(B10-A10)*1440) | H10: =IF(A10="","",(A10-B9)*1440) | I10: =(H10/(H10+G10))*100 -> #VALUE!
G11: =IF(B11="","",(B11-A11)*1440) | H11: =IF(A11="","",(A11-B10)*1440) | I11: =(H11/(H11+G11))*100 -> #VALUE!
G12: =IF(B12="","",(B12-A12)*1440) | H12: =IF(A12="","",(A12-B11)*1440) | I12: =(H12/(H12+G12))*100 -> #VALUE!
G13: =IF(B13="","",(B13-A13)*1440) | H13: =IF(A13="","",(A13-B12)*1440) | I13: =(H13/(H13+G13))*100 -> #VALUE!
G14: =IF(B14="","",(B14-A14)*1440) | H14: =IF(A14="","",(A14-B13)*1440) | I14: =(H14/(H14+G14))*100 -> #VALUE!
G15: =IF(B15="","",(B15-A15)*1440) | H15: =IF(A15="","",(A15-B14)*1440) | I15: =(H15/(H15+G15))*100 -> #VALUE!
G16: =IF(B16="","",(B16-A16)*1440) | H16: =IF(A16="","",(A16-B15)*1440) | I16: =(H16/(H16+G16))*100 -> #VALUE!
G17: =IF(B17="","",(B17-A17)*1440) | H17: =IF(A17="","",(A17-B16)*1440) | I17: =(H17/(H17+G17))*100 -> #VALUE!
G18: =IF(B18="","",(B18-A18)*1440) | H18: =IF(A18="","",(A18-B17)*1440) | I18: =(H18/(H18+G18))*100 -> #VALUE!
G19: =IF(B19="","",(B19-A19)*1440) | H19: =IF(A19="","",(A19-B18)*1440) | I19: =(H19/(H19+G19))*100 -> #VALUE!
G20: =IF(B20="","",(B20-A20)*1440) | H20: =IF(A20="","",(A20-B19)*1440) | I20: =(H20/(H20+G20))*100 -> #VALUE!
I21: =H21/(H21+G21)*100 -> #DIV/0!
G22: =IF(B22="","",(B22-A22)*1440) | H22: =IF(A22="","",(A22-B21)*1440) | I22: =H22/(H22+G22)*100 -> #VALUE!
G23: =IF(B23="","",(B23-A23)*1440) | H23: =IF(A23="","",(A23-B22)*1440) | I23: =H23/(H23+G23)*100 -> #VALUE!
G24: =IF(B24="","",(B24-A24)*1440) | H24: =IF(A24="","",(A24-B23)*1440) | I24: =H24/(H24+G24)*100 -> #VALUE!
G25: =IF(B25="","",(B25-A25)*1440) | H25: =IF(A25="","",(A25-B24)*1440) | I25: =H25/(H25+G25)*100 -> #VALUE! | K25: MTTR | L25: MTBF | M25: Disponibilidade
G26: =IF(B26="","",(B26-A26)*1440) | H26: =IF(A26="","",(A26-B25)*1440) | I26: =H26/(H26+G26)*100 -> #VALUE! | J26: Janeiro
G27: =IF(B27="","",(B27-A27)*1440) | H27: =IF(A27="","",(A27-B26)*1440) | I27: =H27/(H27+G27)*100 -> #VALUE! | J27: Fevereiro
G28: =IF(B28="","",(B28-A28)*1440) | H28: =IF(A28="","",(A28-B27)*1440) | I28: =H28/(H28+G28)*100 -> #VALUE! | J28: Março
G29: =IF(B29="","",(B29-A29)*1440) | H29: =IF(A29="","",(A29-B28)*1440) | I29: =H29/(H29+G29)*100 -> #VALUE! | J29: Abril
G30: =IF(B30="","",(B30-A30)*1440) | H30: =IF(A30="","",(A30-B29)*1440) | I30: =H30/(H30+G30)*100 -> #VALUE! | J30: Maio
G31: =IF(B31="","",(B31-A31)*1440) | H31: =IF(A31="","",(A31-B30)*1440) | I31: =H31/(H31+G31)*100 -> #VALUE! | J31: Junho
G32: =IF(B32="","",(B32-A32)*1440) | H32: =IF(A32="","",(A32-B31)*1440) | I32: =H32/(H32+G32)*100 -> #VALUE! | J32: Julho
G33: =IF(B33="","",(B33-A33)*1440) | H33: =IF(A33="","",(A33-B32)*1440) | I33: =H33/(H33+G33)*100 -> #VALUE! | J33: Agosto
G34: =IF(B34="","",(B34-A34)*1440) | H34: =IF(A34="","",(A34-B33)*1440) | I34: =H34/(H34+G34)*100 -> #VALUE! | J34: Setembro
G35: =IF(B35="","",(B35-A35)*1440) | H35: =IF(A35="","",(A35-B34)*1440) | I35: =H35/(H35+G35)*100 -> #VALUE! | J35: Outubro
G36: =IF(B36="","",(B36-A36)*1440) | H36: =IF(A36="","",(A36-B35)*1440) | I36: =H36/(H36+G36)*100 -> #VALUE! | J36: Novembro
F37: Média Total: | G37: =AVERAGE(G6:G36) -> #DIV/0! | H37: =AVERAGE(H7:H36) -> #DIV/0! | I37: =H37/(H37+G37)*100 -> #DIV/0! | J37: Dezembro

Sheet 4
A1: Controle de MTTR, MTBF e Disponibilidade
A3: Máquina: | F3: Responsável:
A5: ='1'!A5 -> Data/Hora Inicial | B5: ='1'!B5 -> Data/Hora Final | C5: ='1'!C5 -> Problema Detectado | D5: ='1'!D5 -> Descrição do Serviço | E5: ='1'!E5 -> Componente Substituído | F5: ='1'!F5 -> Observações | G5: ='1'!G5 -> MTTR (Tempo médio de reparo/minutos) | H5: ='1'!H5 -> MTBF (Tempo médio entre reparos/minuto) | I5: Disponibilidade
G6: =IF(B6="","",(B6-A6)*1440) | I6: =(H6/(H6+G6))*100 -> #VALUE!
G7: =IF(B7="","",(B7-A7)*1440) | H7: =IF(A7="","",(A7-B6)*1440) | I7: =(H7/(H7+G7))*100 -> #VALUE!
G8: =IF(B8="","",(B8-A8)*1440) | H8: =IF(A8="","",(A8-B7)*1440) | I8: =(H8/(H8+G8))*100 -> #VALUE!
G9: =IF(B9="","",(B9-A9)*1440) | H9: =IF(A9="","",(A9-B8)*1440) | I9: =(H9/(H9+G9))*100 -> #VALUE!
G10: =IF(B10="","",(B10-A10)*1440) | H10: =IF(A10="","",(A10-B9)*1440) | I10: =(H10/(H10+G10))*100 -> #VALUE!
G11: =IF(B11="","",(B11-A11)*1440) | H11: =IF(A11="","",(A11-B10)*1440) | I11: =(H11/(H11+G11))*100 -> #VALUE!
G12: =IF(B12="","",(B12-A12)*1440) | H12: =IF(A12="","",(A12-B11)*1440) | I12: =(H12/(H12+G12))*100 -> #VALUE!
G13: =IF(B13="","",(B13-A13)*1440) | H13: =IF(A13="","",(A13-B12)*1440) | I13: =(H13/(H13+G13))*100 -> #VALUE!
G14: =IF(B14="","",(B14-A14)*1440) | H14: =IF(A14="","",(A14-B13)*1440) | I14: =(H14/(H14+G14))*100 -> #VALUE!
G15: =IF(B15="","",(B15-A15)*1440) | H15: =IF(A15="","",(A15-B14)*1440) | I15: =(H15/(H15+G15))*100 -> #VALUE!
G16: =IF(B16="","",(B16-A16)*1440) | H16: =IF(A16="","",(A16-B15)*1440) | I16: =(H16/(H16+G16))*100 -> #VALUE!
G17: =IF(B17="","",(B17-A17)*1440) | H17: =IF(A17="","",(A17-B16)*1440) | I17: =(H17/(H17+G17))*100 -> #VALUE!
G18: =IF(B18="","",(B18-A18)*1440) | H18: =IF(A18="","",(A18-B17)*1440) | I18: =(H18/(H18+G18))*100 -> #VALUE!
... G24: =IF(B24="","",(B24-A24)*1440) | H24: =IF(A24="","",(A24-B23)*1440) | I24: =(H24/(H24+G24))*100 -> #VALUE!
G25: =IF(B25="","",(B25-A25)*1440) | H25: =IF(A25="","",(A25-B24)*1440) | I25: =(H25/(H25+G25))*100 -> #VALUE! | K25: MTTR | L25: MTBF | M25: Disponibilidade
G26: =IF(B26="","",(B26-A26)*1440) | H26: =IF(A26="","",(A26-B25)*1440) | I26: =(H26/(H26+G26))*100 -> #VALUE! | J26: Janeiro
G27: =IF(B27="","",(B27-A27)*1440) | H27: =IF(A27="","",(A27-B26)*1440) | I27: =(H27/(H27+G27))*100 -> #VALUE! | J27: Fevereiro
G28: =IF(B28="","",(B28-A28)*1440) | H28: =IF(A28="","",(A28-B27)*1440) | I28: =(H28/(H28+G28))*100 -> #VALUE! | J28: Março
G29: =IF(B29="","",(B29-A29)*1440) | H29: =IF(A29="","",(A29-B28)*1440) | I29: =(H29/(H29+G29))*100 -> #VALUE! | J29: Abril
G30: =IF(B30="","",(B30-A30)*1440) | H30: =IF(A30="","",(A30-B29)*1440) | I30: =(H30/(H30+G30))*100 -> #VALUE! | J30: Maio
G31: =IF(B31="","",(B31-A31)*1440) | H31: =IF(A31="","",(A31-B30)*1440) | I31: =(H31/(H31+G31))*100 -> #VALUE! | J31: Junho
G32: =IF(B32="","",(B32-A32)*1440) | H32: =IF(A32="","",(A32-B31)*1440) | I32: =(H32/(H32+G32))*100 -> #VALUE! | J32: Julho
G33: =IF(B33="","",(B33-A33)*1440) | H33: =IF(A33="","",(A33-B32)*1440) | I33: =(H33/(H33+G33))*100 -> #VALUE! | J33: Agosto
G34: =IF(B34="","",(B34-A34)*1440) | H34: =IF(A34="","",(A34-B33)*1440) | I34: =(H34/(H34+G34))*100 -> #VALUE! | J34: Setembro
G35: =IF(B35="","",(B35-A35)*1440) | H35: =IF(A35="","",(A35-B34)*1440) | I35: =(H35/(H35+G35))*100 -> #VALUE! | J35: Outubro
G36: =IF(B36="","",(B36-A36)*1440) | H36: =IF(A36="","",(A36-B35)*1440) | I36: =(H36/(H36+G36))*100 -> #VALUE! | J36: Novembro
F37: Média Total: | G37: =AVERAGE(G6:G36) -> #DIV/0! | H37: =AVERAGE(H7:H36) -> #DIV/0! | I37: =AVERAGE(I6:I36) -> #VALUE! | J37: Dezembro

Sheet 5
A1: Controle de MTTR, MTBF e Disponibilidade
A3: Máquina: | F3: Responsável:
A5: ='1'!A5 -> Data/Hora Inicial | B5: ='1'!B5 -> Data/Hora Final | C5: ='1'!C5 -> Problema Detectado | D5: ='1'!D5 -> Descrição do Serviço | E5: ='1'!E5 -> Componente Substituído | F5: ='1'!F5 -> Observações | G5: ='1'!G5 -> MTTR (Tempo médio de reparo/minutos) | H5: ='1'!H5 -> MTBF (Tempo médio entre reparos/minuto) | I5: Disponibilidade
G6: =IF(B6="","",(B6-A6)*1440) | I6: =(H6/(H6+G6))*100 -> #VALUE!
G7: =IF(B7="","",(B7-A7)*1440) | H7: =IF(A7="","",(A7-B6)*1440) | I7: =(H7/(H7+G7))*100 -> #VALUE!
G8: =IF(B8="","",(B8-A8)*1440) | H8: =IF(A8="","",(A8-B7)*1440) | I8: =(H8/(H8+G8))*100 -> #VALUE!
G9: =IF(B9="","",(B9-A9)*1440) | H9: =IF(A9="","",(A9-B8)*1440) | I9: =(H9/(H9+G9))*100 -> #VALUE!
G10: =IF(B10="","",(B10-A10)*1440) | H10: =IF(A10="","",(A10-B9)*1440) | I10: =(H10/(H10+G10))*100 -> #VALUE!
G11: =IF(B11="","",(B11-A11)*1440) | H11: =IF(A11="","",(A11-B10)*1440) | I11: =(H11/(H11+G11))*100 -> #VALUE!
G12: =IF(B12="","",(B12-A12)*1440) | H12: =IF(A12="","",(A12-B11)*1440) | I12: =(H12/(H12+G12))*100 -> #VALUE!
G13: =IF(B13="","",(B13-A13)*1440) | H13: =IF(A13="","",(A13-B12)*1440) | I13: =(H13/(H13+G13))*100 -> #VALUE!
G14: =IF(B14="","",(B14-A14)*1440) | H14: =IF(A14="","",(A14-B13)*1440) | I14: =(H14/(H14+G14))*100 -> #VALUE!
G15: =IF(B15="","",(B15-A15)*1440) | H15: =IF(A15="","",(A15-B14)*1440) | I15: =(H15/(H15+G15))*100 -> #VALUE!
G16: =IF(B16="","",(B16-A16)*1440) | H16: =IF(A16="","",(A16-B15)*1440) | I16: =(H16/(H16+G16))*100 -> #VALUE!
G17: =IF(B17="","",(B17-A17)*1440) | H17: =IF(A17="","",(A17-B16)*1440) | I17: =(H17/(H17+G17))*100 -> #VALUE!
G18: =IF(B18="","",(B18-A18)*1440) | H18: =IF(A18="","",(A18-B17)*1440) | I18: =(H18/(H18+G18))*100 -> #VALUE!
... G24: =IF(B24="","",(B24-A24)*1440) | H24: =IF(A24="","",(A24-B23)*1440) | I24: =(H24/(H24+G24))*100 -> #VALUE!
G25: =IF(B25="","",(B25-A25)*1440) | H25: =IF(A25="","",(A25-B24)*1440) | I25: =(H25/(H25+G25))*100 -> #VALUE! | K25: MTTR | L25: MTBF | M25: Disponibilidade
G26: =IF(B26="","",(B26-A26)*1440) | H26: =IF(A26="","",(A26-B25)*1440) | I26: =(H26/(H26+G26))*100 -> #VALUE! | J26: Janeiro
G27: =IF(B27="","",(B27-A27)*1440) | H27: =IF(A27="","",(A27-B26)*1440) | I27: =(H27/(H27+G27))*100 -> #VALUE! | J27: Fevereiro
G28: =IF(B28="","",(B28-A28)*1440) | H28: =IF(A28="","",(A28-B27)*1440) | I28: =(H28/(H28+G28))*100 -> #VALUE! | J28: Março
G29: =IF(B29="","",(B29-A29)*1440) | H29: =IF(A29="","",(A29-B28)*1440) | I29: =(H29/(H29+G29))*100 -> #VALUE! | J29: Abril
G30: =IF(B30="","",(B30-A30)*1440) | H30: =IF(A30="","",(A30-B29)*1440) | I30: =(H30/(H30+G30))*100 -> #VALUE! | J30: Maio
G31: =IF(B31="","",(B31-A31)*1440) | H31: =IF(A31="","",(A31-B30)*1440) | I31: =(H31/(H31+G31))*100 -> #VALUE! | J31: Junho
G32: =IF(B32="","",(B32-A32)*1440) | H32: =IF(A32="","",(A32-B31)*1440) | I32: =(H32/(H32+G32))*100 -> #VALUE! | J32: Julho
G33: =IF(B33="","",(B33-A33)*1440) | H33: =IF(A33="","",(A33-B32)*1440) | I33: =(H33/(H33+G33))*100 -> #VALUE! | J33: Agosto
G34: =IF(B34="","",(B34-A34)*1440) | H34: =IF(A34="","",(A34-B33)*1440) | I34: =(H34/(H34+G34))*100 -> #VALUE! | J34: Setembro
G35: =IF(B35="","",(B35-A35)*1440) | H35: =IF(A35="","",(A35-B34)*1440) | I35: =(H35/(H35+G35))*100 -> #VALUE! | J35: Outubro
G36: =IF(B36="","",(B36-A36)*1440) | H36: =IF(A36="","",(A36-B35)*1440) | I36: =(H36/(H36+G36))*100 -> #VALUE! | J36: Novembro
F37: Média Total: | G37: =AVERAGE(G6:G36) -> #DIV/0! | H37: =AVERAGE(H7:H36) -> #DIV/0! | I37: =AVERAGE(I6:I36) -> #VALUE! | J37: Dezembro

Sheet 6
A1: Controle de MTTR, MTBF e Disponibilidade
A3: Máquina: | F3: Responsável:
A5: ='1'!A5 -> Data/Hora Inicial | B5: ='1'!B5 -> Data/Hora Final | C5: ='1'!C5 -> Problema Detectado | D5: ='1'!D5 -> Descrição do Serviço | E5: ='1'!E5 -> Componente Substituído | F5: ='1'!F5 -> Observações | G5: ='1'!G5 -> MTTR (Tempo médio de reparo/minutos) | H5: ='1'!H5 -> MTBF (Tempo médio entre reparos/minuto) | I5: Disponibilidade
G6: =IF(B6="","",(B6-A6)*1440) | I6: =(H6/(H6+G6))*100 -> #VALUE!
G7: =IF(B7="","",(B7-A7)*1440) | H7: =IF(A7="","",(A7-B6)*1440) | I7: =(H7/(H7+G7))*100 -> #VALUE!
G8: =IF(B8="","",(B8-A8)*1440) | H8: =IF(A8="","",(A8-B7)*1440) | I8: =(H8/(H8+G8))*100 -> #VALUE!
G9: =IF(B9="","",(B9-A9)*1440) | H9: =IF(A9="","",(A9-B8)*1440) | I9: =(H9/(H9+G9))*100 -> #VALUE!
G10: =IF(B10="","",(B10-A10)*1440) | H10: =IF(A10="","",(A10-B9)*1440) | I10: =(H10/(H10+G10))*100 -> #VALUE!
G11: =IF(B11="","",(B11-A11)*1440) | H11: =IF(A11="","",(A11-B10)*1440) | I11: =(H11/(H11+G11))*100 -> #VALUE!
G12: =IF(B12="","",(B12-A12)*1440) | H12: =IF(A12="","",(A12-B11)*1440) | I12: =(H12/(H12+G12))*100 -> #VALUE!
G13: =IF(B13="","",(B13-A13)*1440) | H13: =IF(A13="","",(A13-B12)*1440) | I13: =(H13/(H13+G13))*100 -> #VALUE!
G14: =IF(B14="","",(B14-A14)*1440) | H14: =IF(A14="","",(A14-B13)*1440) | I14: =(H14/(H14+G14))*100 -> #VALUE!
G15: =IF(B15="","",(B15-A15)*1440) | H15: =IF(A15="","",(A15-B14)*1440) | I15: =(H15/(H15+G15))*100 -> #VALUE!
G16: =IF(B16="","",(B16-A16)*1440) | H16: =IF(A16="","",(A16-B15)*1440) | I16: =(H16/(H16+G16))*100 -> #VALUE!
G17: =IF(B17="","",(B17-A17)*1440) | H17: =IF(A17="","",(A17-B16)*1440) | I17: =(H17/(H17+G17))*100 -> #VALUE!
G18: =IF(B18="","",(B18-A18)*1440) | H18: =IF(A18="","",(A18-B17)*1440) | I18: =(H18/(H18+G18))*100 -> #VALUE!
... G24: =IF(B24="","",(B24-A24)*1440) | H24: =IF(A24="","",(A24-B23)*1440) | I24: =(H24/(H24+G24))*100 -> #VALUE!
G25: =IF(B25="","",(B25-A25)*1440) | H25: =IF(A25="","",(A25-B24)*1440) | I25: =(H25/(H25+G25))*100 -> #VALUE! | K25: MTTR | L25: MTBF | M25: Disponibilidade
G26: =IF(B26="","",(B26-A26)*1440) | H26: =IF(A26="","",(A26-B25)*1440) | I26: =(H26/(H26+G26))*100 -> #VALUE! | J26: Janeiro
G27: =IF(B27="","",(B27-A27)*1440) | H27: =IF(A27="","",(A27-B26)*1440) | I27: =(H27/(H27+G27))*100 -> #VALUE! | J27: Fevereiro
G28: =IF(B28="","",(B28-A28)*1440) | H28: =IF(A28="","",(A28-B27)*1440) | I28: =(H28/(H28+G28))*100 -> #VALUE! | J28: Março
G29: =IF(B29="","",(B29-A29)*1440) | H29: =IF(A29="","",(A29-B28)*1440) | I29: =(H29/(H29+G29))*100 -> #VALUE! | J29: Abril
G30: =IF(B30="","",(B30-A30)*1440) | H30: =IF(A30="","",(A30-B29)*1440) | I30: =(H30/(H30+G30))*100 -> #VALUE! | J30: Maio
G31: =IF(B31="","",(B31-A31)*1440) | H31: =IF(A31="","",(A31-B30)*1440) | I31: =(H31/(H31+G31))*100 -> #VALUE! | J31: Junho
G32: =IF(B32="","",(B32-A32)*1440) | H32: =IF(A32="","",(A32-B31)*1440) | I32: =(H32/(H32+G32))*100 -> #VALUE! | J32: Julho
G33: =IF(B33="","",(B33-A33)*1440) | H33: =IF(A33="","",(A33-B32)*1440) | I33: =(H33/(H33+G33))*100 -> #VALUE! | J33: Agosto
G34: =IF(B34="","",(B34-A34)*1440) | H34: =IF(A34="","",(A34-B33)*1440) | I34: =(H34/(H34+G34))*100 -> #VALUE! | J34: Setembro
G35: =IF(B35="","",(B35-A35)*1440) | H35: =IF(A35="","",(A35-B34)*1440) | I35: =(H35/(H35+G35))*100 -> #VALUE! | J35: Outubro
G36: =IF(B36="","",(B36-A36)*1440) | H36: =IF(A36="","",(A36-B35)*1440) | I36: =(H36/(H36+G36))*100 -> #VALUE! | J36: Novembro
F37: Média Total: | G37: =AVERAGE(G6:G36) -> #DIV/0! | H37: =AVERAGE(H7:H36) -> #DIV/0! | I37: =AVERAGE(I6:I36) -> #VALUE! | J37: Dezembro

Sheet 7
A1: Controle de MTTR, MTBF e Disponibilidade
A3: Máquina: | F3: Responsável:
A5: ='1'!A5 -> Data/Hora Inicial | B5: ='1'!B5 -> Data/Hora Final | C5: ='1'!C5 -> Problema Detectado | D5: ='1'!D5 -> Descrição do Serviço | E5: ='1'!E5 -> Componente Substituído | F5: ='1'!F5 -> Observações | G5: ='1'!G5 -> MTTR (Tempo médio de reparo/minutos) | H5: ='1'!H5 -> MTBF (Tempo médio entre reparos/minuto) | I5: Disponibilidade
G6: =IF(B6="","",(B6-A6)*1440) | I6: =(H6/(H6+G6))*100 -> #VALUE!
G7: =IF(B7="","",(B7-A7)*1440) | H7: =IF(A7="","",(A7-B6)*1440) | I7: =(H7/(H7+G7))*100 -> #VALUE!
G8: =IF(B8="","",(B8-A8)*1440) | H8: =IF(A8="","",(A8-B7)*1440) | I8: =(H8/(H8+G8))*100 -> #VALUE!
G9: =IF(B9="","",(B9-A9)*1440) | H9: =IF(A9="","",(A9-B8)*1440) | I9: =(H9/(H9+G9))*100 -> #VALUE!
G10: =IF(B10="","",(B10-A10)*1440) | H10: =IF(A10="","",(A10-B9)*1440) | I10: =(H10/(H10+G10))*100 -> #VALUE!
G11: =IF(B11="","",(B11-A11)*1440) | H11: =IF(A11="","",(A11-B10)*1440) | I11: =(H11/(H11+G11))*100 -> #VALUE!
G12: =IF(B12="","",(B12-A12)*1440) | H12: =IF(A12="","",(A12-B11)*1440) | I12: =(H12/(H12+G12))*100 -> #VALUE!
G13: =IF(B13="","",(B13-A13)*1440) | H13: =IF(A13="","",(A13-B12)*1440) | I13: =(H13/(H13+G13))*100 -> #VALUE!
G14: =IF(B14="","",(B14-A14)*1440) | H14: =IF(A14="","",(A14-B13)*1440) | I14: =(H14/(H14+G14))*100 -> #VALUE!
G15: =IF(B15="","",(B15-A15)*1440) | H15: =IF(A15="","",(A15-B14)*1440) | I15: =(H15/(H15+G15))*100 -> #VALUE!
G16: =IF(B16="","",(B16-A16)*1440) | H16: =IF(A16="","",(A16-B15)*1440) | I16: =(H16/(H16+G16))*100 -> #VALUE!
G17: =IF(B17="","",(B17-A17)*1440) | H17: =IF(A17="","",(A17-B16)*1440) | I17: =(H17/(H17+G17))*100 -> #VALUE!
G18: =IF(B18="","",(B18-A18)*1440) | H18: =IF(A18="","",(A18-B17)*1440) | I18: =(H18/(H18+G18))*100 -> #VALUE!
... G24: =IF(B24="","",(B24-A24)*1440) | H24: =IF(A24="","",(A24-B23)*1440) | I24: =(H24/(H24+G24))*100 -> #VALUE!
G25: =IF(B25="","",(B25-A25)*1440) | H25: =IF(A25="","",(A25-B24)*1440) | I25: =(H25/(H25+G25))*100 -> #VALUE! | K25: MTTR | L25: MTBF | M25: Disponibilidade
G26: =IF(B26="","",(B26-A26)*1440) | H26: =IF(A26="","",(A26-B25)*1440) | I26: =(H26/(H26+G26))*100 -> #VALUE! | J26: Janeiro
G27: =IF(B27="","",(B27-A27)*1440) | H27: =IF(A27="","",(A27-B26)*1440) | I27: =(H27/(H27+G27))*100 -> #VALUE! | J27: Fevereiro
G28: =IF(B28="","",(B28-A28)*1440) | H28: =IF(A28="","",(A28-B27)*1440) | I28: =(H28/(H28+G28))*100 -> #VALUE! | J28: Março
G29: =IF(B29="","",(B29-A29)*1440) | H29: =IF(A29="","",(A29-B28)*1440) | I29: =(H29/(H29+G29))*100 -> #VALUE! | J29: Abril
G30: =IF(B30="","",(B30-A30)*1440) | H30: =IF(A30="","",(A30-B29)*1440) | I30: =(H30/(H30+G30))*100 -> #VALUE! | J30: Maio
G31: =IF(B31="","",(B31-A31)*1440) | H31: =IF(A31="","",(A31-B30)*1440) | I31: =(H31/(H31+G31))*100 -> #VALUE! | J31: Junho
G32: =IF(B32="","",(B32-A32)*1440) | H32: =IF(A32="","",(A32-B31)*1440) | I32: =(H32/(H32+G32))*100 -> #VALUE! | J32: Julho
G33: =IF(B33="","",(B33-A33)*1440) | H33: =IF(A33="","",(A33-B32)*1440) | I33: =(H33/(H33+G33))*100 -> #VALUE! | J33: Agosto
G34: =IF(B34="","",(B34-A34)*1440) | H34: =IF(A34="","",(A34-B33)*1440) | I34: =(H34/(H34+G34))*100 -> #VALUE! | J34: Setembro
G35: =IF(B35="","",(B35-A35)*1440) | H35: =IF(A35="","",(A35-B34)*1440) | I35: =(H35/(H35+G35))*100 -> #VALUE! | J35: Outubro
G36: =IF(B36="","",(B36-A36)*1440) | H36: =IF(A36="","",(A36-B35)*1440) | I36: =(H36/(H36+G36))*100 -> #VALUE! | J36: Novembro
F37: Média Total: | G37: =AVERAGE(G6:G36) -> #DIV/0! | H37: =AVERAGE(H7:H36) -> #DIV/0! | I37: =AVERAGE(I6:I36) -> #VALUE! | J37: Dezembro

Sheet 8
A1: Controle de MTTR, MTBF e Disponibilidade
A3: Máquina: | F3: Responsável:
A5: ='1'!A5 -> Data/Hora Inicial | B5: ='1'!B5 -> Data/Hora Final | C5: ='1'!C5 -> Problema Detectado | D5: ='1'!D5 -> Descrição do Serviço | E5: ='1'!E5 -> Componente Substituído | F5: ='1'!F5 -> Observações | G5: ='1'!G5 -> MTTR (Tempo médio de reparo/minutos) | H5: ='1'!H5 -> MTBF (Tempo médio entre reparos/minuto) | I5: Disponibilidade
G6: =IF(B6="","",(B6-A6)*1440) | I6: =(H6/(H6+G6))*100 -> #VALUE!
G7: =IF(B7="","",(B7-A7)*1440) | H7: =IF(A7="","",(A7-B6)*1440) | I7: =(H7/(H7+G7))*100 -> #VALUE!
G8: =IF(B8="","",(B8-A8)*1440) | H8: =IF(A8="","",(A8-B7)*1440) | I8: =(H8/(H8+G8))*100 -> #VALUE!
G9: =IF(B9="","",(B9-A9)*1440) | H9: =IF(A9="","",(A9-B8)*1440) | I9: =(H9/(H9+G9))*100 -> #VALUE!
G10: =IF(B10="","",(B10-A10)*1440) | H10: =IF(A10="","",(A10-B9)*1440) | I10: =(H10/(H10+G10))*100 -> #VALUE!
G11: =IF(B11="","",(B11-A11)*1440) | H11: =IF(A11="","",(A11-B10)*1440) | I11: =(H11/(H11+G11))*100 -> #VALUE!
G12: =IF(B12="","",(B12-A12)*1440) | H12: =IF(A12="","",(A12-B11)*1440) | I12: =(H12/(H12+G12))*100 -> #VALUE!
G13: =IF(B13="","",(B13-A13)*1440) | H13: =IF(A13="","",(A13-B12)*1440) | I13: =(H13/(H13+G13))*100 -> #VALUE!
G14: =IF(B14="","",(B14-A14)*1440) | H14: =IF(A14="","",(A14-B13)*1440) | I14: =(H14/(H14+G14))*100 -> #VALUE!
G15: =IF(B15="","",(B15-A15)*1440) | H15: =IF(A15="","",(A15-B14)*1440) | I15: =(H15/(H15+G15))*100 -> #VALUE!
G16: =IF(B16="","",(B16-A16)*1440) | H16: =IF(A16="","",(A16-B15)*1440) | I16: =(H16/(H16+G16))*100 -> #VALUE!
G17: =IF(B17="","",(B17-A17)*1440) | H17: =IF(A17="","",(A17-B16)*1440) | I17: =(H17/(H17+G17))*100 -> #VALUE!
G18: =IF(B18="","",(B18-A18)*1440) | H18: =IF(A18="","",(A18-B17)*1440) | I18: =(H18/(H18+G18))*100 -> #VALUE!
... G24: =IF(B24="","",(B24-A24)*1440) | H24: =IF(A24="","",(A24-B23)*1440) | I24: =(H24/(H24+G24))*100 -> #VALUE!
G25: =IF(B25="","",(B25-A25)*1440) | H25: =IF(A25="","",(A25-B24)*1440) | I25: =(H25/(H25+G25))*100 -> #VALUE! | K25: MTTR | L25: MTBF | M25: Disponibilidade
G26: =IF(B26="","",(B26-A26)*1440) | H26: =IF(A26="","",(A26-B25)*1440) | I26: =(H26/(H26+G26))*100 -> #VALUE! | J26: Janeiro
G27: =IF(B27="","",(B27-A27)*1440) | H27: =IF(A27="","",(A27-B26)*1440) | I27: =(H27/(H27+G27))*100 -> #VALUE! | J27: Fevereiro
G28: =IF(B28="","",(B28-A28)*1440) | H28: =IF(A28="","",(A28-B27)*1440) | I28: =(H28/(H28+G28))*100 -> #VALUE! | J28: Março
G29: =IF(B29="","",(B29-A29)*1440) | H29: =IF(A29="","",(A29-B28)*1440) | I29: =(H29/(H29+G29))*100 -> #VALUE! | J29: Abril
G30: =IF(B30="","",(B30-A30)*1440) | H30: =IF(A30="","",(A30-B29)*1440) | I30: =(H30/(H30+G30))*100 -> #VALUE! | J30: Maio
G31: =IF(B31="","",(B31-A31)*1440) | H31: =IF(A31="","",(A31-B30)*1440) | I31: =(H31/(H31+G31))*100 -> #VALUE! | J31: Junho
G32: =IF(B32="","",(B32-A32)*1440) | H32: =IF(A32="","",(A32-B31)*1440) | I32: =(H32/(H32+G32))*100 -> #VALUE! | J32: Julho
G33: =IF(B33="","",(B33-A33)*1440) | H33: =IF(A33="","",(A33-B32)*1440) | I33: =(H33/(H33+G33))*100 -> #VALUE! | J33: Agosto
G34: =IF(B34="","",(B34-A34)*1440) | H34: =IF(A34="","",(A34-B33)*1440) | I34: =(H34/(H34+G34))*100 -> #VALUE! | J34: Setembro
G35: =IF(B35="","",(B35-A35)*1440) | H35: =IF(A35="","",(A35-B34)*1440) | I35: =(H35/(H35+G35))*100 -> #VALUE! | J35: Outubro
G36: =IF(B36="","",(B36-A36)*1440) | H36: =IF(A36="","",(A36-B35)*1440) | I36: =(H36/(H36+G36))*100 -> #VALUE! | J36: Novembro
F37: Média Total: | G37: =AVERAGE(G6:G36) -> #DIV/0! | H37: =AVERAGE(H7:H36) -> #DIV/0! | I37: =AVERAGE(I6:I36) -> #VALUE! | J37: Dezembro

Sheet 9
A1: Controle de MTTR, MTBF e Disponibilidade
A3: Máquina: | F3: Responsável:
A5: ='1'!A5 -> Data/Hora Inicial | B5: ='1'!B5 -> Data/Hora Final | C5: ='1'!C5 -> Problema Detectado | D5: ='1'!D5 -> Descrição do Serviço | E5: ='1'!E5 -> Componente Substituído | F5: ='1'!F5 -> Observações | G5: ='1'!G5 -> MTTR (Tempo médio de reparo/minutos) | H5: ='1'!H5 -> MTBF (Tempo médio entre reparos/minuto) | I5: Disponibilidade
G6: =IF(B6="","",(B6-A6)*1440) | I6: =(H6/(H6+G6))*100 -> #VALUE!
G7: =IF(B7="","",(B7-A7)*1440) | H7: =IF(A7="","",(A7-B6)*1440) | I7: =(H7/(H7+G7))*100 -> #VALUE!
G8: =IF(B8="","",(B8-A8)*1440) | H8: =IF(A8="","",(A8-B7)*1440) | I8: =(H8/(H8+G8))*100 -> #VALUE!
G9: =IF(B9="","",(B9-A9)*1440) | H9: =IF(A9="","",(A9-B8)*1440) | I9: =(H9/(H9+G9))*100 -> #VALUE!
G10: =IF(B10="","",(B10-A10)*1440) | H10: =IF(A10="","",(A10-B9)*1440) | I10: =(H10/(H10+G10))*100 -> #VALUE!
G11: =IF(B11="","",(B11-A11)*1440) | H11: =IF(A11="","",(A11-B10)*1440) | I11: =(H11/(H11+G11))*100 -> #VALUE!
G12: =IF(B12="","",(B12-A12)*1440) | H12: =IF(A12="","",(A12-B11)*1440) | I12: =(H12/(H12+G12))*100 -> #VALUE!
G13: =IF(B13="","",(B13-A13)*1440) | H13: =IF(A13="","",(A13-B12)*1440) | I13: =(H13/(H13+G13))*100 -> #VALUE!
G14: =IF(B14="","",(B14-A14)*1440) | H14: =IF(A14="","",(A14-B13)*1440) | I14: =(H14/(H14+G14))*100 -> #VALUE!
G15: =IF(B15="","",(B15-A15)*1440) | H15: =IF(A15="","",(A15-B14)*1440) | I15: =(H15/(H15+G15))*100 -> #VALUE!
G16: =IF(B16="","",(B16-A16)*1440) | H16: =IF(A16="","",(A16-B15)*1440) | I16: =(H16/(H16+G16))*100 -> #VALUE!
G17: =IF(B17="","",(B17-A17)*1440) | H17: =IF(A17="","",(A17-B16)*1440) | I17: =(H17/(H17+G17))*100 -> #VALUE!
G18: =IF(B18="","",(B18-A18)*1440) | H18: =IF(A18="","",(A18-B17)*1440) | I18: =(H18/(H18+G18))*100 -> #VALUE!
... G24: =IF(B24="","",(B24-A24)*1440) | H24: =IF(A24="","",(A24-B23)*1440) | I24: =(H24/(H24+G24))*100 -> #VALUE!
G25: =IF(B25="","",(B25-A25)*1440) | H25: =IF(A25="","",(A25-B24)*1440) | I25: =(H25/(H25+G25))*100 -> #VALUE! | K25: MTTR | L25: MTBF | M25: Disponibilidade
G26: =IF(B26="","",(B26-A26)*1440) | H26: =IF(A26="","",(A26-B25)*1440) | I26: =(H26/(H26+G26))*100 -> #VALUE! | J26: Janeiro
G27: =IF(B27="","",(B27-A27)*1440) | H27: =IF(A27="","",(A27-B26)*1440) | I27: =(H27/(H27+G27))*100 -> #VALUE! | J27: Fevereiro
G28: =IF(B28="","",(B28-A28)*1440) | H28: =IF(A28="","",(A28-B27)*1440) | I28: =(H28/(H28+G28))*100 -> #VALUE! | J28: Março
G29: =IF(B29="","",(B29-A29)*1440) | H29: =IF(A29="","",(A29-B28)*1440) | I29: =(H29/(H29+G29))*100 -> #VALUE! | J29: Abril
G30: =IF(B30="","",(B30-A30)*1440) | H30: =IF(A30="","",(A30-B29)*1440) | I30: =(H30/(H30+G30))*100 -> #VALUE! | J30: Maio
G31: =IF(B31="","",(B31-A31)*1440) | H31: =IF(A31="","",(A31-B30)*1440) | I31: =(H31/(H31+G31))*100 -> #VALUE! | J31: Junho
G32: =IF(B32="","",(B32-A32)*1440) | H32: =IF(A32="","",(A32-B31)*1440) | I32: =(H32/(H32+G32))*100 -> #VALUE! | J32: Julho
G33: =IF(B33="","",(B33-A33)*1440) | H33: =IF(A33="","",(A33-B32)*1440) | I33: =(H33/(H33+G33))*100 -> #VALUE! | J33: Agosto
G34: =IF(B34="","",(B34-A34)*1440) | H34: =IF(A34="","",(A34-B33)*1440) | I34: =(H34/(H34+G34))*100 -> #VALUE! | J34: Setembro
G35: =IF(B35="","",(B35-A35)*1440) | H35: =IF(A35="","",(A35-B34)*1440) | I35: =(H35/(H35+G35))*100 -> #VALUE! | J35: Outubro
G36: =IF(B36="","",(B36-A36)*1440) | H36: =IF(A36="","",(A36-B35)*1440) | I36: =(H36/(H36+G36))*100 -> #VALUE! | J36: Novembro
F37: Média Total: | G37: =AVERAGE(G6:G36) -> #DIV/0! | H37: =AVERAGE(H7:H36) -> #DIV/0! | I37: =AVERAGE(I6:I36) -> #VALUE! | J37: Dezembro

Sheet 10
A1: Controle de MTTR e MTBFControle de MTTR, MTBF e Disponibilidade
A3: Máquina: | F3: Responsável:
A5: ='1'!A5 -> Data/Hora Inicial | B5: ='1'!B5 -> Data/Hora Final | C5: ='1'!C5 -> Problema Detectado | D5: ='1'!D5 -> Descrição do Serviço | E5: ='1'!E5 -> Componente Substituído | F5: ='1'!F5 -> Observações | G5: ='1'!G5 -> MTTR (Tempo médio de reparo/minutos) | H5: ='1'!H5 -> MTBF (Tempo médio entre reparos/minuto) | I5: Disponibilidade
G6: =IF(B6="","",(B6-A6)*1440) | I6: =(H6/(H6+G6))*100 -> #VALUE!
G7: =IF(B7="","",(B7-A7)*1440) | H7: =IF(A7="","",(A7-B6)*1440) | I7: =(H7/(H7+G7))*100 -> #VALUE!
G8: =IF(B8="","",(B8-A8)*1440) | H8: =IF(A8="","",(A8-B7)*1440) | I8: =(H8/(H8+G8))*100 -> #VALUE!
G9: =IF(B9="","",(B9-A9)*1440) | H9: =IF(A9="","",(A9-B8)*1440) | I9: =(H9/(H9+G9))*100 -> #VALUE!
G10: =IF(B10="","",(B10-A10)*1440) | H10: =IF(A10="","",(A10-B9)*1440) | I10: =(H10/(H10+G10))*100 -> #VALUE!
G11: =IF(B11="","",(B11-A11)*1440) | H11: =IF(A11="","",(A11-B10)*1440) | I11: =(H11/(H11+G11))*100 -> #VALUE!
G12: =IF(B12="","",(B12-A12)*1440) | H12: =IF(A12="","",(A12-B11)*1440) | I12: =(H12/(H12+G12))*100 -> #VALUE!
G13: =IF(B13="","",(B13-A13)*1440) | H13: =IF(A13="","",(A13-B12)*1440) | I13: =(H13/(H13+G13))*100 -> #VALUE!
G14: =IF(B14="","",(B14-A14)*1440) | H14: =IF(A14="","",(A14-B13)*1440) | I14: =(H14/(H14+G14))*100 -> #VALUE!
G15: =IF(B15="","",(B15-A15)*1440) | H15: =IF(A15="","",(A15-B14)*1440) | I15: =(H15/(H15+G15))*100 -> #VALUE!
G16: =IF(B16="","",(B16-A16)*1440) | H16: =IF(A16="","",(A16-B15)*1440) | I16: =(H16/(H16+G16))*100 -> #VALUE!
G17: =IF(B17="","",(B17-A17)*1440) | H17: =IF(A17="","",(A17-B16)*1440) | I17: =(H17/(H17+G17))*100 -> #VALUE!
G18: =IF(B18="","",(B18-A18)*1440) | H18: =IF(A18="","",(A18-B17)*1440) | I18: =(H18/(H18+G18))*100 -> #VALUE!
... G24: =IF(B24="","",(B24-A24)*1440) | H24: =IF(A24="","",(A24-B23)*1440) | I24: =(H24/(H24+G24))*100 -> #VALUE!
G25: =IF(B25="","",(B25-A25)*1440) | H25: =IF(A25="","",(A25-B24)*1440) | I25: =(H25/(H25+G25))*100 -> #VALUE! | K25: MTTR | L25: MTBF | M25: Disponibilidade
G26: =IF(B26="","",(B26-A26)*1440) | H26: =IF(A26="","",(A26-B25)*1440) | I26: =(H26/(H26+G26))*100 -> #VALUE! | J26: Janeiro
G27: =IF(B27="","",(B27-A27)*1440) | H27: =IF(A27="","",(A27-B26)*1440) | I27: =(H27/(H27+G27))*100 -> #VALUE! | J27: Fevereiro
G28: =IF(B28="","",(B28-A28)*1440) | H28: =IF(A28="","",(A28-B27)*1440) | I28: =(H28/(H28+G28))*100 -> #VALUE! | J28: Março
G29: =IF(B29="","",(B29-A29)*1440) | H29: =IF(A29="","",(A29-B28)*1440) | I29: =(H29/(H29+G29))*100 -> #VALUE! | J29: Abril
G30: =IF(B30="","",(B30-A30)*1440) | H30: =IF(A30="","",(A30-B29)*1440) | I30: =(H30/(H30+G30))*100 -> #VALUE! | J30: Maio
G31: =IF(B31="","",(B31-A31)*1440) | H31: =IF(A31="","",(A31-B30)*1440) | I31: =(H31/(H31+G31))*100 -> #VALUE! | J31: Junho
G32: =IF(B32="","",(B32-A32)*1440) | H32: =IF(A32="","",(A32-B31)*1440) | I32: =(H32/(H32+G32))*100 -> #VALUE! | J32: Julho
G33: =IF(B33="","",(B33-A33)*1440) | H33: =IF(A33="","",(A33-B32)*1440) | I33: =(H33/(H33+G33))*100 -> #VALUE! | J33: Agosto
G34: =IF(B34="","",(B34-A34)*1440) | H34: =IF(A34="","",(A34-B33)*1440) | I34: =(H34/(H34+G34))*100 -> #VALUE! | J34: Setembro
G35: =IF(B35="","",(B35-A35)*1440) | H35: =IF(A35="","",(A35-B34)*1440) | I35: =(H35/(H35+G35))*100 -> #VALUE! | J35: Outubro
G36: =IF(B36="","",(B36-A36)*1440) | H36: =IF(A36="","",(A36-B35)*1440) | I36: =(H36/(H36+G36))*100 -> #VALUE! | J36: Novembro
F37: Média Total: | G37: =AVERAGE(G6:G36) -> #DIV/0! | H37: =AVERAGE(H7:H36) -> #DIV/0! | I37: =AVERAGE(I6:I36) -> #VALUE! | J37: Dezembro

Sheet 11
A1: Controle de MTTR, MTBF e Disponibilidade
A3: Máquina: | F3: Responsável:
A5: ='1'!A5 -> Data/Hora Inicial | B5: ='1'!B5 -> Data/Hora Final | C5: ='1'!C5 -> Problema Detectado | D5: ='1'!D5 -> Descrição do Serviço | E5: ='1'!E5 -> Componente Substituído | F5: ='1'!F5 -> Observações | G5: ='1'!G5 -> MTTR (Tempo médio de reparo/minutos) | H5: ='1'!H5 -> MTBF (Tempo médio entre reparos/minuto) | I5: Disponibilidade
G6: =IF(B6="","",(B6-A6)*1440) | I6: =(H6/(H6+G6))*100 -> #VALUE!
G7: =IF(B7="","",(B7-A7)*1440) | H7: =IF(A7="","",(A7-B6)*1440) | I7: =(H7/(H7+G7))*100 -> #VALUE!
G8: =IF(B8="","",(B8-A8)*1440) | H8: =IF(A8="","",(A8-B7)*1440) | I8: =(H8/(H8+G8))*100 -> #VALUE!
G9: =IF(B9="","",(B9-A9)*1440) | H9: =IF(A9="","",(A9-B8)*1440) | I9: =(H9/(H9+G9))*100 -> #VALUE!
G10: =IF(B10="","",(B10-A10)*1440) | H10: =IF(A10="","",(A10-B9)*1440) | I10: =(H10/(H10+G10))*100 -> #VALUE!
G11: =IF(B11="","",(B11-A11)*1440) | H11: =IF(A11="","",(A11-B10)*1440) | I11: =(H11/(H11+G11))*100 -> #VALUE!
G12: =IF(B12="","",(B12-A12)*1440) | H12: =IF(A12="","",(A12-B11)*1440) | I12: =(H12/(H12+G12))*100 -> #VALUE!
G13: =IF(B13="","",(B13-A13)*1440) | H13: =IF(A13="","",(A13-B12)*1440) | I13: =(H13/(H13+G13))*100 -> #VALUE!
G14: =IF(B14="","",(B14-A14)*1440) | H14: =IF(A14="","",(A14-B13)*1440) | I14: =(H14/(H14+G14))*100 -> #VALUE!
G15: =IF(B15="","",(B15-A15)*1440) | H15: =IF(A15="","",(A15-B14)*1440) | I15: =(H15/(H15+G15))*100 -> #VALUE!
G16: =IF(B16="","",(B16-A16)*1440) | H16: =IF(A16="","",(A16-B15)*1440) | I16: =(H16/(H16+G16))*100 -> #VALUE!
G17: =IF(B17="","",(B17-A17)*1440) | H17: =IF(A17="","",(A17-B16)*1440) | I17: =(H17/(H17+G17))*100 -> #VALUE!
G18: =IF(B18="","",(B18-A18)*1440) | H18: =IF(A18="","",(A18-B17)*1440) | I18: =(H18/(H18+G18))*100 -> #VALUE!
... G24: =IF(B24="","",(B24-A24)*1440) | H24: =IF(A24="","",(A24-B23)*1440) | I24: =(H24/(H24+G24))*100 -> #VALUE!
G25: =IF(B25="","",(B25-A25)*1440) | H25: =IF(A25="","",(A25-B24)*1440) | I25: =(H25/(H25+G25))*100 -> #VALUE! | K25: MTTR | L25: MTBF | M25: Disponibilidade
G26: =IF(B26="","",(B26-A26)*1440) | H26: =IF(A26="","",(A26-B25)*1440) | I26: =(H26/(H26+G26))*100 -> #VALUE! | J26: Janeiro
G27: =IF(B27="","",(B27-A27)*1440) | H27: =IF(A27="","",(A27-B26)*1440) | I27: =(H27/(H27+G27))*100 -> #VALUE! | J27: Fevereiro
G28: =IF(B28="","",(B28-A28)*1440) | H28: =IF(A28="","",(A28-B27)*1440) | I28: =(H28/(H28+G28))*100 -> #VALUE! | J28: Março
G29: =IF(B29="","",(B29-A29)*1440) | H29: =IF(A29="","",(A29-B28)*1440) | I29: =(H29/(H29+G29))*100 -> #VALUE! | J29: Abril
G30: =IF(B30="","",(B30-A30)*1440) | H30: =IF(A30="","",(A30-B29)*1440) | I30: =(H30/(H30+G30))*100 -> #VALUE! | J30: Maio
G31: =IF(B31="","",(B31-A31)*1440) | H31: =IF(A31="","",(A31-B30)*1440) | I31: =(H31/(H31+G31))*100 -> #VALUE! | J31: Junho
G32: =IF(B32="","",(B32-A32)*1440) | H32: =IF(A32="","",(A32-B31)*1440) | I32: =(H32/(H32+G32))*100 -> #VALUE! | J32: Julho
G33: =IF(B33="","",(B33-A33)*1440) | H33: =IF(A33="","",(A33-B32)*1440) | I33: =(H33/(H33+G33))*100 -> #VALUE! | J33: Agosto
G34: =IF(B34="","",(B34-A34)*1440) | H34: =IF(A34="","",(A34-B33)*1440) | I34: =(H34/(H34+G34))*100 -> #VALUE! | J34: Setembro
G35: =IF(B35="","",(B35-A35)*1440) | H35: =IF(A35="","",(A35-B34)*1440) | I35: =(H35/(H35+G35))*100 -> #VALUE! | J35: Outubro
G36: =IF(B36="","",(B36-A36)*1440) | H36: =IF(A36="","",(A36-B35)*1440) | I36: =(H36/(H36+G36))*100 -> #VALUE! | J36: Novembro
F37: Média Total: | G37: =AVERAGE(G6:G36) -> #DIV/0! | H37: =AVERAGE(H7:H36) -> #DIV/0! | I37: =AVERAGE(I6:I36) -> #VALUE! | J37: Dezembro

Sheet 12
A1: Controle de MTTR, MTBF e Disponibilidade
A3: Máquina: | F3: Responsável:
A5: ='1'!A5 -> Data/Hora Inicial | B5: ='1'!B5 -> Data/Hora Final | C5: ='1'!C5 -> Problema Detectado | D5: ='1'!D5 -> Descrição do Serviço | E5: ='1'!E5 -> Componente Substituído | F5: ='1'!F5 -> Observações | G5: ='1'!G5 -> MTTR (Tempo médio de reparo/minutos) | H5: ='1'!H5 -> MTBF (Tempo médio entre reparos/minuto) | I5: Disponibilidade
G6: =IF(B6="","",(B6-A6)*1440) | I6: =(H6/(H6+G6))*100 -> #VALUE!
G7: =IF(B7="","",(B7-A7)*1440) | H7: =IF(A7="","",(A7-B6)*1440) | I7: =(H7/(H7+G7))*100 -> #VALUE!
G8: =IF(B8="","",(B8-A8)*1440) | H8: =IF(A8="","",(A8-B7)*1440) | I8: =(H8/(H8+G8))*100 -> #VALUE!
G9: =IF(B9="","",(B9-A9)*1440) | H9: =IF(A9="","",(A9-B8)*1440) | I9: =(H9/(H9+G9))*100 -> #VALUE!
G10: =IF(B10="","",(B10-A10)*1440) | H10: =IF(A10="","",(A10-B9)*1440) | I10: =(H10/(H10+G10))*100 -> #VALUE!
G11: =IF(B11="","",(B11-A11)*1440) | H11: =IF(A11="","",(A11-B10)*1440) | I11: =(H11/(H11+G11))*100 -> #VALUE!
G12: =IF(B12="","",(B12-A12)*1440) | H12: =IF(A12="","",(A12-B11)*1440) | I12: =(H12/(H12+G12))*100 -> #VALUE!
G13: =IF(B13="","",(B13-A13)*1440) | H13: =IF(A13="","",(A13-B12)*1440) | I13: =(H13/(H13+G13))*100 -> #VALUE!
G14: =IF(B14="","",(B14-A14)*1440) | H14: =IF(A14="","",(A14-B13)*1440) | I14: =(H14/(H14+G14))*100 -> #VALUE!
G15: =IF(B15="","",(B15-A15)*1440) | H15: =IF(A15="","",(A15-B14)*1440) | I15: =(H15/(H15+G15))*100 -> #VALUE!
G16: =IF(B16="","",(B16-A16)*1440) | H16: =IF(A16="","",(A16-B15)*1440) | I16: =(H16/(H16+G16))*100 -> #VALUE!
G17: =IF(B17="","",(B17-A17)*1440) | H17: =IF(A17="","",(A17-B16)*1440) | I17: =(H17/(H17+G17))*100 -> #VALUE!
G18: =IF(B18="","",(B18-A18)*1440) | H18: =IF(A18="","",(A18-B17)*1440) | I18: =(H18/(H18+G18))*100 -> #VALUE!
... G24: =IF(B24="","",(B24-A24)*1440) | H24: =IF(A24="","",(A24-B23)*1440) | I24: =(H24/(H24+G24))*100 -> #VALUE!
G25: =IF(B25="","",(B25-A25)*1440) | H25: =IF(A25="","",(A25-B24)*1440) | I25: =(H25/(H25+G25))*100 -> #VALUE! | K25: MTTR | L25: MTBF | M25: Disponibilidade
G26: =IF(B26="","",(B26-A26)*1440) | H26: =IF(A26="","",(A26-B25)*1440) | I26: =(H26/(H26+G26))*100 -> #VALUE! | J26: Janeiro
G27: =IF(B27="","",(B27-A27)*1440) | H27: =IF(A27="","",(A27-B26)*1440) | I27: =(H27/(H27+G27))*100 -> #VALUE! | J27: Fevereiro
G28: =IF(B28="","",(B28-A28)*1440) | H28: =IF(A28="","",(A28-B27)*1440) | I28: =(H28/(H28+G28))*100 -> #VALUE! | J28: Março
G29: =IF(B29="","",(B29-A29)*1440) | H29: =IF(A29="","",(A29-B28)*1440) | I29: =(H29/(H29+G29))*100 -> #VALUE! | J29: Abril
G30: =IF(B30="","",(B30-A30)*1440) | H30: =IF(A30="","",(A30-B29)*1440) | I30: =(H30/(H30+G30))*100 -> #VALUE! | J30: Maio
G31: =IF(B31="","",(B31-A31)*1440) | H31: =IF(A31="","",(A31-B30)*1440) | I31: =(H31/(H31+G31))*100 -> #VALUE! | J31: Junho
G32: =IF(B32="","",(B32-A32)*1440) | H32: =IF(A32="","",(A32-B31)*1440) | I32: =(H32/(H32+G32))*100 -> #VALUE! | J32: Julho
G33: =IF(B33="","",(B33-A33)*1440) | H33: =IF(A33="","",(A33-B32)*1440) | I33: =(H33/(H33+G33))*100 -> #VALUE! | J33: Agosto
G34: =IF(B34="","",(B34-A34)*1440) | H34: =IF(A34="","",(A34-B33)*1440) | I34: =(H34/(H34+G34))*100 -> #VALUE! | J34: Setembro
G35: =IF(B35="","",(B35-A35)*1440) | H35: =IF(A35="","",(A35-B34)*1440) | I35: =(H35/(H35+G35))*100 -> #VALUE! | J35: Outubro
G36: =IF(B36="","",(B36-A36)*1440) | H36: =IF(A36="","",(A36-B35)*1440) | I36: =(H36/(H36+G36))*100 -> #VALUE! | J36: Novembro
F37: Média Total: | G37: =AVERAGE(G6:G36) -> #DIV/0! | H37: =AVERAGE(H7:H36) -> #DIV/0! | I37: =AVERAGE(I6:I36) -> #VALUE! | J37: Dezembro

Sheet 13
A1: Controle de MTTR, MTBF e Disponibilidade
A3: Máquina: | F3: Responsável:
A5: ='1'!A5 -> Data/Hora Inicial | B5: ='1'!B5 -> Data/Hora Final | C5: ='1'!C5 -> Problema Detectado | D5: ='1'!D5 -> Descrição do Serviço | E5: ='1'!E5 -> Componente Substituído | F5: ='1'!F5 -> Observações | G5: ='1'!G5 -> MTTR (Tempo médio de reparo/minutos) | H5: ='1'!H5 -> MTBF (Tempo médio entre reparos/minuto) | I5: Disponibilidade
G6: =IF(B6="","",(B6-A6)*1440) | I6: =(H6/(H6+G6))*100 -> #VALUE!
G7: =IF(B7="","",(B7-A7)*1440) | H7: =IF(A7="","",(A7-B6)*1440) | I7: =(H7/(H7+G7))*100 -> #VALUE!
G8: =IF(B8="","",(B8-A8)*1440) | H8: =IF(A8="","",(A8-B7)*1440) | I8: =(H8/(H8+G8))*100 -> #VALUE!
G9: =IF(B9="","",(B9-A9)*1440) | H9: =IF(A9="","",(A9-B8)*1440) | I9: =(H9/(H9+G9))*100 -> #VALUE!
G10: =IF(B10="","",(B10-A10)*1440) | H10: =IF(A10="","",(A10-B9)*1440) | I10: =(H10/(H10+G10))*100 -> #VALUE!
G11: =IF(B11="","",(B11-A11)*1440) | H11: =IF(A11="","",(A11-B10)*1440) | I11: =(H11/(H11+G11))*100 -> #VALUE!
G12: =IF(B12="","",(B12-A12)*1440) | H12: =IF(A12="","",(A12-B11)*1440) | I12: =(H12/(H12+G12))*100 -> #VALUE!
G13: =IF(B13="","",(B13-A13)*1440) | H13: =IF(A13="","",(A13-B12)*1440) | I13: =(H13/(H13+G13))*100 -> #VALUE!
G14: =IF(B14="","",(B14-A14)*1440) | H14: =IF(A14="","",(A14-B13)*1440) | I14: =(H14/(H14+G14))*100 -> #VALUE!
G15: =IF(B15="","",(B15-A15)*1440) | H15: =IF(A15="","",(A15-B14)*1440) | I15: =(H15/(H15+G15))*100 -> #VALUE!
G16: =IF(B16="","",(B16-A16)*1440) | H16: =IF(A16="","",(A16-B15)*1440) | I16: =(H16/(H16+G16))*100 -> #VALUE!
G17: =IF(B17="","",(B17-A17)*1440) | H17: =IF(A17="","",(A17-B16)*1440) | I17: =(H17/(H17+G17))*100 -> #VALUE!
G18: =IF(B18="","",(B18-A18)*1440) | H18: =IF(A18="","",(A18-B17)*1440) | I18: =(H18/(H18+G18))*100 -> #VALUE!
... G24: =IF(B24="","",(B24-A24)*1440) | H24: =IF(A24="","",(A24-B23)*1440) | I24: =(H24/(H24+G24))*100 -> #VALUE!
G25: =IF(B25="","",(B25-A25)*1440) | H25: =IF(A25="","",(A25-B24)*1440) | I25: =(H25/(H25+G25))*100 -> #VALUE! | K25: MTTR | L25: MTBF | M25: Disponibilidade
G26: =IF(B26="","",(B26-A26)*1440) | H26: =IF(A26="","",(A26-B25)*1440) | I26: =(H26/(H26+G26))*100 -> #VALUE! | J26: Janeiro
G27: =IF(B27="","",(B27-A27)*1440) | H27: =IF(A27="","",(A27-B26)*1440) | I27: =(H27/(H27+G27))*100 -> #VALUE! | J27: Fevereiro
G28: =IF(B28="","",(B28-A28)*1440) | H28: =IF(A28="","",(A28-B27)*1440) | I28: =(H28/(H28+G28))*100 -> #VALUE! | J28: Março
G29: =IF(B29="","",(B29-A29)*1440) | H29: =IF(A29="","",(A29-B28)*1440) | I29: =(H29/(H29+G29))*100 -> #VALUE! | J29: Abril
G30: =IF(B30="","",(B30-A30)*1440) | H30: =IF(A30="","",(A30-B29)*1440) | I30: =(H30/(H30+G30))*100 -> #VALUE! | J30: Maio
G31: =IF(B31="","",(B31-A31)*1440) | H31: =IF(A31="","",(A31-B30)*1440) | I31: =(H31/(H31+G31))*100 -> #VALUE! | J31: Junho
G32: =IF(B32="","",(B32-A32)*1440) | H32: =IF(A32="","",(A32-B31)*1440) | I32: =(H32/(H32+G32))*100 -> #VALUE! | J32: Julho
G33: =IF(B33="","",(B33-A33)*1440) | H33: =IF(A33="","",(A33-B32)*1440) | I33: =(H33/(H33+G33))*100 -> #VALUE! | J33: Agosto
G34: =IF(B34="","",(B34-A34)*1440) | H34: =IF(A34="","",(A34-B33)*1440) | I34: =(H34/(H34+G34))*100 -> #VALUE! | J34: Setembro
G35: =IF(B35="","",(B35-A35)*1440) | H35: =IF(A35="","",(A35-B34)*1440) | I35: =(H35/(H35+G35))*100 -> #VALUE! | J35: Outubro
G36: =IF(B36="","",(B36-A36)*1440) | H36: =IF(A36="","",(A36-B35)*1440) | I36: =(H36/(H36+G36))*100 -> #VALUE! | J36: Novembro
F37: Média Total: | G37: =AVERAGE(G6:G36) -> #DIV/0! | H37: =AVERAGE(H7:H36) -> #DIV/0! | I37: =AVERAGE(I6:I36) -> #VALUE! | J37: Dezembro

Sheet 14
A1: Controle de MTTR, MTBF e Disponibilidade
A3: Máquina: | F3: Responsável:
A5: ='1'!A5 -> Data/Hora Inicial | B5: ='1'!B5 -> Data/Hora Final | C5: ='1'!C5 -> Problema Detectado | D5: ='1'!D5 -> Descrição do Serviço | E5: ='1'!E5 -> Componente Substituído | F5: ='1'!F5 -> Observações | G5: ='1'!G5 -> MTTR (Tempo médio de reparo/minutos) | H5: ='1'!H5 -> MTBF (Tempo médio entre reparos/minuto) | I5: Disponibilidade
G6: =IF(B6="","",(B6-A6)*1440) | I6: =(H6/(H6+G6))*100 -> #VALUE!
G7: =IF(B7="","",(B7-A7)*1440) | H7: =IF(A7="","",(A7-B6)*1440) | I7: =(H7/(H7+G7))*100 -> #VALUE!
G8: =IF(B8="","",(B8-A8)*1440) | H8: =IF(A8="","",(A8-B7)*1440) | I8: =(H8/(H8+G8))*100 -> #VALUE!
G9: =IF(B9="","",(B9-A9)*1440) | H9: =IF(A9="","",(A9-B8)*1440) | I9: =(H9/(H9+G9))*100 -> #VALUE!
G10: =IF(B10="","",(B10-A10)*1440) | H10: =IF(A10="","",(A10-B9)*1440) | I10: =(H10/(H10+G10))*100 -> #VALUE!
G11: =IF(B11="","",(B11-A11)*1440) | H11: =IF(A11="","",(A11-B10)*1440) | I11: =(H11/(H11+G11))*100 -> #VALUE!
G12: =IF(B12="","",(B12-A12)*1440) | H12: =IF(A12="","",(A12-B11)*1440) | I12: =(H12/(H12+G12))*100 -> #VALUE!
G13: =IF(B13="","",(B13-A13)*1440) | H13: =IF(A13="","",(A13-B12)*1440) | I13: =(H13/(H13+G13))*100 -> #VALUE!
G14: =IF(B14="","",(B14-A14)*1440) | H14: =IF(A14="","",(A14-B13)*1440) | I14: =(H14/(H14+G14))*100 -> #VALUE!
G15: =IF(B15="","",(B15-A15)*1440) | H15: =IF(A15="","",(A15-B14)*1440) | I15: =(H15/(H15+G15))*100 -> #VALUE!
G16: =IF(B16="","",(B16-A16)*1440) | H16: =IF(A16="","",(A16-B15)*1440) | I16: =(H16/(H16+G16))*100 -> #VALUE!
G17: =IF(B17="","",(B17-A17)*1440) | H17: =IF(A17="","",(A17-B16)*1440) | I17: =(H17/(H17+G17))*100 -> #VALUE!
G18: =IF(B18="","",(B18-A18)*1440) | H18: =IF(A18="","",(A18-B17)*1440) | I18: =(H18/(H18+G18))*100 -> #VALUE!
... G24: =IF(B24="","",(B24-A24)*1440) | H24: =IF(A24="","",(A24-B23)*1440) | I24: =(H24/(H24+G24))*100 -> #VALUE!
G25: =IF(B25="","",(B25-A25)*1440) | H25: =IF(A25="","",(A25-B24)*1440) | I25: =(H25/(H25+G25))*100 -> #VALUE! | K25: MTTR | L25: MTBF | M25: Disponibilidade
G26: =IF(B26="","",(B26-A26)*1440) | H26: =IF(A26="","",(A26-B25)*1440) | I26: =(H26/(H26+G26))*100 -> #VALUE! | J26: Janeiro
G27: =IF(B27="","",(B27-A27)*1440) | H27: =IF(A27="","",(A27-B26)*1440) | I27: =(H27/(H27+G27))*100 -> #VALUE! | J27: Fevereiro
G28: =IF(B28="","",(B28-A28)*1440) | H28: =IF(A28="","",(A28-B27)*1440) | I28: =(H28/(H28+G28))*100 -> #VALUE! | J28: Março
G29: =IF(B29="","",(B29-A29)*1440) | H29: =IF(A29="","",(A29-B28)*1440) | I29: =(H29/(H29+G29))*100 -> #VALUE! | J29: Abril
G30: =IF(B30="","",(B30-A30)*1440) | H30: =IF(A30="","",(A30-B29)*1440) | I30: =(H30/(H30+G30))*100 -> #VALUE! | J30: Maio
G31: =IF(B31="","",(B31-A31)*1440) | H31: =IF(A31="","",(A31-B30)*1440) | I31: =(H31/(H31+G31))*100 -> #VALUE! | J31: Junho
G32: =IF(B32="","",(B32-A32)*1440) | H32: =IF(A32="","",(A32-B31)*1440) | I32: =(H32/(H32+G32))*100 -> #VALUE! | J32: Julho
G33: =IF(B33="","",(B33-A33)*1440) | H33: =IF(A33="","",(A33-B32)*1440) | I33: =(H33/(H33+G33))*100 -> #VALUE! | J33: Agosto
G34: =IF(B34="","",(B34-A34)*1440) | H34: =IF(A34="","",(A34-B33)*1440) | I34: =(H34/(H34+G34))*100 -> #VALUE! | J34: Setembro
G35: =IF(B35="","",(B35-A35)*1440) | H35: =IF(A35="","",(A35-B34)*1440) | I35: =(H35/(H35+G35))*100 -> #VALUE! | J35: Outubro
G36: =IF(B36="","",(B36-A36)*1440) | H36: =IF(A36="","",(A36-B35)*1440) | I36: =(H36/(H36+G36))*100 -> #VALUE! | J36: Novembro
F37: Média Total: | G37: =AVERAGE(G6:G36) -> #DIV/0! | H37: =AVERAGE(H7:H36) -> #DIV/0! | I37: =AVERAGE(I6:I36) -> #VALUE! | J37: Dezembro

Sheet 15
A1: Controle de MTTR, MTBF e Disponibilidade
A3: Máquina: | F3: Responsável:
A5: ='1'!A5 -> Data/Hora Inicial | B5: ='1'!B5 -> Data/Hora Final | C5: ='1'!C5 -> Problema Detectado | D5: ='1'!D5 -> Descrição do Serviço | E5: ='1'!E5 -> Componente Substituído | F5: ='1'!F5 -> Observações | G5: ='1'!G5 -> MTTR (Tempo médio de reparo/minutos) | H5: ='1'!H5 -> MTBF (Tempo médio entre reparos/minuto) | I5: Disponibilidade
G6: =IF(B6="","",(B6-A6)*1440) | I6: =(H6/(H6+G6))*100 -> #VALUE!
G7: =IF(B7="","",(B7-A7)*1440) | H7: =IF(A7="","",(A7-B6)*1440) | I7: =(H7/(H7+G7))*100 -> #VALUE!
G8: =IF(B8="","",(B8-A8)*1440) | H8: =IF(A8="","",(A8-B7)*1440) | I8: =(H8/(H8+G8))*100 -> #VALUE!
G9: =IF(B9="","",(B9-A9)*1440) | H9: =IF(A9="","",(A9-B8)*1440) | I9: =(H9/(H9+G9))*100 -> #VALUE!
G10: =IF(B10="","",(B10-A10)*1440) | H10: =IF(A10="","",(A10-B9)*1440) | I10: =(H10/(H10+G10))*100 -> #VALUE!
G11: =IF(B11="","",(B11-A11)*1440) | H11: =IF(A11="","",(A11-B10)*1440) | I11: =(H11/(H11+G11))*100 -> #VALUE!
G12: =IF(B12="","",(B12-A12)*1440) | H12: =IF(A12="","",(A12-B11)*1440) | I12: =(H12/(H12+G12))*100 -> #VALUE!
G13: =IF(B13="","",(B13-A13)*1440) | H13: =IF(A13="","",(A13-B12)*1440) | I13: =(H13/(H13+G13))*100 -> #VALUE!
G14: =IF(B14="","",(B14-A14)*1440) | H14: =IF(A14="","",(A14-B13)*1440) | I14: =(H14/(H14+G14))*100 -> #VALUE!
G15: =IF(B15="","",(B15-A15)*1440) | H15: =IF(A15="","",(A15-B14)*1440) | I15: =(H15/(H15+G15))*100 -> #VALUE!
G16: =IF(B16="","",(B16-A16)*1440) | H16: =IF(A16="","",(A16-B15)*1440) | I16: =(H16/(H16+G16))*100 -> #VALUE!
G17: =IF(B17="","",(B17-A17)*1440) | H17: =IF(A17="","",(A17-B16)*1440) | I17: =(H17/(H17+G17))*100 -> #VALUE!
G18: =IF(B18="","",(B18-A18)*1440) | H18: =IF(A18="","",(A18-B17)*1440) | I18: =(H18/(H18+G18))*100 -> #VALUE!
... G24: =IF(B24="","",(B24-A24)*1440) | H24: =IF(A24="","",(A24-B23)*1440) | I24: =(H24/(H24+G24))*100 -> #VALUE!
G25: =IF(B25="","",(B25-A25)*1440) | H25: =IF(A25="","",(A25-B24)*1440) | I25: =(H25/(H25+G25))*100 -> #VALUE! | K25: MTTR | L25: MTBF | M25: Disponibilidade
G26: =IF(B26="","",(B26-A26)*1440) | H26: =IF(A26="","",(A26-B25)*1440) | I26: =(H26/(H26+G26))*100 -> #VALUE! | J26: Janeiro
G27: =IF(B27="","",(B27-A27)*1440) | H27: =IF(A27="","",(A27-B26)*1440) | I27: =(H27/(H27+G27))*100 -> #VALUE! | J27: Fevereiro
G28: =IF(B28="","",(B28-A28)*1440) | H28: =IF(A28="","",(A28-B27)*1440) | I28: =(H28/(H28+G28))*100 -> #VALUE! | J28: Março
G29: =IF(B29="","",(B29-A29)*1440) | H29: =IF(A29="","",(A29-B28)*1440) | I29: =(H29/(H29+G29))*100 -> #VALUE! | J29: Abril
G30: =IF(B30="","",(B30-A30)*1440) | H30: =IF(A30="","",(A30-B29)*1440) | I30: =(H30/(H30+G30))*100 -> #VALUE! | J30: Maio
G31: =IF(B31="","",(B31-A31)*1440) | H31: =IF(A31="","",(A31-B30)*1440) | I31: =(H31/(H31+G31))*100 -> #VALUE! | J31: Junho
G32: =IF(B32="","",(B32-A32)*1440) | H32: =IF(A32="","",(A32-B31)*1440) | I32: =(H32/(H32+G32))*100 -> #VALUE! | J32: Julho
G33: =IF(B33="","",(B33-A33)*1440) | H33: =IF(A33="","",(A33-B32)*1440) | I33: =(H33/(H33+G33))*100 -> #VALUE! | J33: Agosto
G34: =IF(B34="","",(B34-A34)*1440) | H34: =IF(A34="","",(A34-B33)*1440) | I34: =(H34/(H34+G34))*100 -> #VALUE! | J34: Setembro
G35: =IF(B35="","",(B35-A35)*1440) | H35: =IF(A35="","",(A35-B34)*1440) | I35: =(H35/(H35+G35))*100 -> #VALUE! | J35: Outubro
G36: =IF(B36="","",(B36-A36)*1440) | H36: =IF(A36="","",(A36-B35)*1440) | I36: =(H36/(H36+G36))*100 -> #VALUE! | J36: Novembro
F37: Média Total: | G37: =AVERAGE(G6:G36) -> #DIV/0! | H37: =AVERAGE(H7:H36) -> #DIV/0! | I37: =AVERAGE(I6:I36) -> #VALUE! | J37: Dezembro

Sheet 16
A1: Controle de MTTR, MTBF e Disponibilidade
A3: Máquina: | F3: Responsável:
A5: ='1'!A5 -> Data/Hora Inicial | B5: ='1'!B5 -> Data/Hora Final | C5: ='1'!C5 -> Problema Detectado | D5: ='1'!D5 -> Descrição do Serviço | E5: ='1'!E5 -> Componente Substituído | F5: ='1'!F5 -> Observações | G5: ='1'!G5 -> MTTR (Tempo médio de reparo/minutos) | H5: ='1'!H5 -> MTBF (Tempo médio entre reparos/minuto) | I5: Disponibilidade
G6: =IF(B6="","",(B6-A6)*1440) | I6: =(H6/(H6+G6))*100 -> #VALUE!
G7: =IF(B7="","",(B7-A7)*1440) | H7: =IF(A7="","",(A7-B6)*1440) | I7: =(H7/(H7+G7))*100 -> #VALUE!
G8: =IF(B8="","",(B8-A8)*1440) | H8: =IF(A8="","",(A8-B7)*1440) | I8: =(H8/(H8+G8))*100 -> #VALUE!
G9: =IF(B9="","",(B9-A9)*1440) | H9: =IF(A9="","",(A9-B8)*1440) | I9: =(H9/(H9+G9))*100 -> #VALUE!
G10: =IF(B10="","",(B10-A10)*1440) | H10: =IF(A10="","",(A10-B9)*1440) | I10: =(H10/(H10+G10))*100 -> #VALUE!
G11: =IF(B11="","",(B11-A11)*1440) | H11: =IF(A11="","",(A11-B10)*1440) | I11: =(H11/(H11+G11))*100 -> #VALUE!
G12: =IF(B12="","",(B12-A12)*1440) | H12: =IF(A12="","",(A12-B11)*1440) | I12: =(H12/(H12+G12))*100 -> #VALUE!
G13: =IF(B13="","",(B13-A13)*1440) | H13: =IF(A13="","",(A13-B12)*1440) | I13: =(H13/(H13+G13))*100 -> #VALUE!
G14: =IF(B14="","",(B14-A14)*1440) | H14: =IF(A14="","",(A14-B13)*1440) | I14: =(H14/(H14+G14))*100 -> #VALUE!
G15: =IF(B15="","",(B15-A15)*1440) | H15: =IF(A15="","",(A15-B14)*1440) | I15: =(H15/(H15+G15))*100 -> #VALUE!
G16: =IF(B16="","",(B16-A16)*1440) | H16: =IF(A16="","",(A16-B15)*1440) | I16: =(H16/(H16+G16))*100 -> #VALUE!
G17: =IF(B17="","",(B17-A17)*1440) | H17: =IF(A17="","",(A17-B16)*1440) | I17: =(H17/(H17+G17))*100 -> #VALUE!
G18: =IF(B18="","",(B18-A18)*1440) | H18: =IF(A18="","",(A18-B17)*1440) | I18: =(H18/(H18+G18))*100 -> #VALUE!
... G24: =IF(B24="","",(B24-A24)*1440) | H24: =IF(A24="","",(A24-B23)*1440) | I24: =(H24/(H24+G24))*100 -> #VALUE!
G25: =IF(B25="","",(B25-A25)*1440) | H25: =IF(A25="","",(A25-B24)*1440) | I25: =(H25/(H25+G25))*100 -> #VALUE! | K25: MTTR | L25: MTBF | M25: Disponibilidade
G26: =IF(B26="","",(B26-A26)*1440) | H26: =IF(A26="","",(A26-B25)*1440) | I26: =(H26/(H26+G26))*100 -> #VALUE! | J26: Janeiro
G27: =IF(B27="","",(B27-A27)*1440) | H27: =IF(A27="","",(A27-B26)*1440) | I27: =(H27/(H27+G27))*100 -> #VALUE! | J27: Fevereiro
G28: =IF(B28="","",(B28-A28)*1440) | H28: =IF(A28="","",(A28-B27)*1440) | I28: =(H28/(H28+G28))*100 -> #VALUE! | J28: Março
G29: =IF(B29="","",(B29-A29)*1440) | H29: =IF(A29="","",(A29-B28)*1440) | I29: =(H29/(H29+G29))*100 -> #VALUE! | J29: Abril
G30: =IF(B30="","",(B30-A30)*1440) | H30: =IF(A30="","",(A30-B29)*1440) | I30: =(H30/(H30+G30))*100 -> #VALUE! | J30: Maio
G31: =IF(B31="","",(B31-A31)*1440) | H31: =IF(A31="","",(A31-B30)*1440) | I31: =(H31/(H31+G31))*100 -> #VALUE! | J31: Junho
G32: =IF(B32="","",(B32-A32)*1440) | H32: =IF(A32="","",(A32-B31)*1440) | I32: =(H32/(H32+G32))*100 -> #VALUE! | J32: Julho
G33: =IF(B33="","",(B33-A33)*1440) | H33: =IF(A33="","",(A33-B32)*1440) | I33: =(H33/(H33+G33))*100 -> #VALUE! | J33: Agosto
G34: =IF(B34="","",(B34-A34)*1440) | H34: =IF(A34="","",(A34-B33)*1440) | I34: =(H34/(H34+G34))*100 -> #VALUE! | J34: Setembro
G35: =IF(B35="","",(B35-A35)*1440) | H35: =IF(A35="","",(A35-B34)*1440) | I35: =(H35/(H35+G35))*100 -> #VALUE! | J35: Outubro
G36: =IF(B36="","",(B36-A36)*1440) | H36: =IF(A36="","",(A36-B35)*1440) | I36: =(H36/(H36+G36))*100 -> #VALUE! | J36: Novembro
F37: Média Total: | G37: =AVERAGE(G6:G36) -> #DIV/0! | H37: =AVERAGE(H7:H36) -> #DIV/0! | I37: =AVERAGE(I6:I36) -> #VALUE! | J37: Dezembro

Sheet TOTALIZAÇÃO
A1: TOTALIZAÇÃO MTTR, MTBF e disponibilidade - 2018
B3: 1- MÁQUINA 1 | E3: 2 - MÁQUINA 2 | H3: 3- MÁQUINA 3 | K3: 4 - MÁQUINA 4 | N3: 5 - MÁQUINA 5 | Q3: 6 - MÁQUINA 6 | T3: 7 - MÁQUINA 7 | W3: 8 - MÁQUINA 8 | Z3: 9 - MÁQUINA 9 | AC3: 10 - MÁQUINA 10 | AF3: 11 - MÁQUINA 11 | AI3: 12 - MÁQUINA 12 | AL3: 13 - MÁQUINA 13 | AO3: 14 - MÁQUINA 14 | AR3: 15 - MÁQUINA 15 | AU3: 16 - MÁQUINA 16 | AX3: TOTAL | BA3: MÉDIA GERAL
B4: MTTR | C4: MTBF | D4: Disponibilidade | E4: MTTR | F4: MTBF | G4: Disponibilidade | H4: MTTR | I4: MTBF | J4: Disponibilidade | K4: MTTR | L4: MTBF | M4: Disponibilidade | N4: MTTR | O4: MTBF | P4: Disponibilidade | Q4: MTTR | R4: MTBF | S4: Disponibilidade | T4: MTTR | U4: MTBF | V4: Disponibilidade | W4: MTTR | X4: MTBF | Y4: Disponibilidade | Z4: MTTR | AA4: MTBF | AB4: Disponibilidade | AC4: MTTR | AD4: MTBF | AE4: Disponibilidade | AF4: MTTR | AG4: MTBF | AH4: Disponibilidade | AI4: MTTR | AJ4: MTBF | AK4: Disponibilidade | AL4: MTTR | AM4: MTBF | AN4: Disponibilidade | AO4: MTTR | AP4: MTBR | AQ4: Disponibilidade | AR4: MTTR | AS4: MTBF | AT4: Disponibilidade | AU4: MTTR | AV4: MTBF | AW4: Disponibilidade | AX4: MTTR | AY4: MTBF | AZ4: Disponibilidade | BA4: MTBR | BB4: MTBF | BC4: Disponibilidade
A5: Janeiro | B5: ='1'!K26 -> 0 | C5: ='1'!L26 -> 0 | D5: ='1'!M26 -> 0 | E5: ='2'!K26 -> 0 | F5: ='2'!L26 -> 0 | G5: ='2'!M26 -> 0 | H5: ='3'!K26 -> 0 | I5: ='3'!L26 -> 0 | J5: ='3'!M26 -> 0 | K5: ='4'!K26 -> 0 | L5: ='4'!L26 -> 0 | M5: ='4'!M26 -> 0 | N5: ='5'!K26 -> 0 | O5: ='5'!L26 -> 0 | P5: ='5'!M26 -> 0 | Q5: ='6'!K26 -> 0 | R5: ='6'!L26 -> 0 | S5: ='6'!M26 -> 0 | T5: ='7'!K26 -> 0 | U5: ='7'!L26 -> 0 | V5: ='7'!M26 -> 0 | W5: ='8'!K26 -> 0 | X5: ='8'!L26 -> 0 | Y5: ='8'!M26 -> 0 | Z5: ='9'!K26 -> 0 | AA5: ='9'!L26 -> 0 | AB5: ='9'!M26 -> 0 | AC5: ='10'!K26 -> 0 | AD5: ='10'!L26 -> 0 | AE5: ='10'!M26 -> 0 | AF5: ='11'!K26 -> 0 | AG5: ='11'!L26 -> 0 | AH5: ='11'!M26 -> 0 | AI5: ='12'!K26 -> 0 | AJ5: ='12'!L26 -> 0 | AK5: ='12'!M26 -> 0 | AL5: ='13'!K26 -> 0 | AM5: ='13'!L26 -> 0 | AN5: ='13'!M26 -> 0 | AO5: ='14'!K26 -> 0 | AP5: ='14'!L26 -> 0 | AQ5: ='14'!M26 -> 0 | AR5: ='15'!K26 -> 0 | AS5: ='15'!L26 -> 0 | AT5: ='15'!M26 -> 0 | AU5: ='16'!K26 -> 0 | AV5: ='16'!L26 -> 0 | AW5: ='16'!M26 -> 0 | AX5: =SUM(B5+E5+H5+K5+N5+Q5+T5+W5+Z5+AC5+AF5+AI5+AL5+AO5+AR5+AU5) -> 0 | AY5: =SUM(C5+F5+I5+L5+O5+R5+U5+X5+AA5+AD5+AG5+AJ5+AM5+AP5+AS5+AV5) -> 0 | AZ5: =SUM(AW5,AT5,AQ5,AN5,AK5,AH5,AE5,AB5,Y5,V5,S5,P5,M5,J5,G5,D5) -> 0 | BA5: =AX5/17 -> 0 | BB5: =AY5/17 -> 0 | BC5: =AZ5/17 -> 0
A6: Fevereiro | B6: ='1'!K27 -> 0 | C6: ='1'!L27 -> 0 | D6: ='1'!M27 -> 0 | E6: ='2'!K27 -> 0 | F6: ='2'!L27 -> 0 | G6: ='2'!M27 -> 0 | H6: ='3'!K27 -> 0 | I6: ='3'!L27 -> 0 | J6: ='3'!M27 -> 0 | K6: ='4'!K27 -> 0 | L6: ='4'!L27 -> 0 | M6: ='4'!M27 -> 0 | N6: ='5'!K27 -> 0 | O6: ='5'!L27 -> 0 | P6: ='5'!M27 -> 0 | Q6: ='6'!K27 -> 0 | R6: ='6'!L27 -> 0 | S6: ='6'!M27 -> 0 | T6: ='7'!K27 -> 0 | U6: ='7'!L27 -> 0 | V6: ='7'!M27 -> 0 | W6: ='8'!K27 -> 0 | X6: ='8'!L27 -> 0 | Y6: ='8'!M27 -> 0 | Z6: ='9'!K27 -> 0 | AA6: ='9'!L27 -> 0 | AB6: ='9'!M27 -> 0 | AC6: ='10'!K27 -> 0 | AD6: ='10'!L27 -> 0 | AE6: ='10'!M27 -> 0 | AF6: ='11'!K27 -> 0 | AG6: ='11'!L27 -> 0 | AH6: ='11'!M27 -> 0 | AI6: ='12'!K27 -> 0 | AJ6: ='12'!L27 -> 0 | AK6: ='12'!M27 -> 0 | AL6: ='13'!K27 -> 0 | AM6: ='13'!L27 -> 0 | AN6: ='13'!M27 -> 0 | AO6: ='14'!K27 -> 0 | AP6: ='14'!L27 -> 0 | AQ6: ='14'!M27 -> 0 | AR6: ='15'!K27 -> 0 | AS6: ='15'!L27 -> 0 | AT6: ='15'!M27 -> 0 | AU6: ='16'!K27 -> 0 | AV6: ='16'!L27 -> 0 | AW6: ='16'!M27 -> 0 | AX6: =SUM(B6+E6+H6+K6+N6+Q6+T6+W6+Z6+AC6+AF6+AI6+AL6+AO6+AR6+AU6) -> 0 | AY6: =SUM(C6+F6+I6+L6+O6+R6+U6+X6+AA6+AD6+AG6+AJ6+AM6+AP6+AS6+AV6) -> 0 | AZ6: =SUM(AW6,AT6,AQ6,AN6,AK6,AH6,AE6,AB6,Y6,V6,S6,P6,M6,J6,G6,D6) -> 0 | BA6: =AX6/17 -> 0 | BB6: =AY6/17 -> 0 | BC6: =AZ6/17 -> 0
A7: Março | B7: ='1'!K28 -> 0 | C7: ='1'!L28 -> 0 | D7: ='1'!M28 -> 0 | E7: ='2'!K28 -> 0 | F7: ='2'!L28 -> 0 | G7: ='2'!M28 -> 0 | H7: ='3'!K28 -> 0 | I7: ='3'!L28 -> 0 | J7: ='3'!M28 -> 0 | K7: ='4'!K28 -> 0 | L7: ='4'!L28 -> 0 | M7: ='4'!M28 -> 0 | N7: ='5'!K28 -> 0 | O7: ='5'!L28 -> 0 | P7: ='5'!M28 -> 0 | Q7: ='6'!K28 -> 0 | R7: ='6'!L28 -> 0 | S7: ='6'!M28 -> 0 | T7: ='7'!K28 -> 0 | U7: ='7'!L28 -> 0 | V7: ='7'!M28 -> 0 | W7: ='8'!K28 -> 0 | X7: ='8'!L28 -> 0 | Y7: ='8'!M28 -> 0 | Z7: ='9'!K28 -> 0 | AA7: ='9'!L28 -> 0 | AB7: ='9'!M28 -> 0 | AC7: ='10'!K28 -> 0 | AD7: ='10'!L28 -> 0 | AE7: ='10'!M28 -> 0 | AF7: ='11'!K28 -> 0 | AG7: ='11'!L28 -> 0 | AH7: ='11'!M28 -> 0 | AI7: ='12'!K28 -> 0 | AJ7: ='12'!L28 -> 0 | AK7: ='12'!M28 -> 0 | AL7: ='13'!K28 -> 0 | AM7: ='13'!L28 -> 0 | AN7: ='13'!M28 -> 0 | AO7: ='14'!K28 -> 0 | AP7: ='14'!L28 -> 0 | AQ7: ='14'!M28 -> 0 | AR7: ='15'!K28 -> 0 | AS7: ='15'!L28 -> 0 | AT7: ='15'!M28 -> 0 | AU7: ='16'!K28 -> 0 | AV7: ='16'!L28 -> 0 | AW7: ='16'!M28 -> 0 | AX7: =SUM(B7+E7+H7+K7+N7+Q7+T7+W7+Z7+AC7+AF7+AI7+AL7+AO7+AR7+AU7) -> 0 | AY7: =SUM(C7+F7+I7+L7+O7+R7+U7+X7+AA7+AD7+AG7+AJ7+AM7+AP7+AS7+AV7) -> 0 | AZ7: =SUM(AW7,AT7,AQ7,AN7,AK7,AH7,AE7,AB7,Y7,V7,S7,P7,M7,J7,G7,D7) -> 0 | BA7: =AX7/17 -> 0 | BB7: =AY7/17 -> 0 | BC7: =AZ7/17 -> 0
A8: Abril | B8: ='1'!K29 -> 0 | C8: ='1'!L29 -> 0 | D8: ='1'!M29 -> 0 | E8: ='2'!K29 -> 0 | F8: ='2'!L29 -> 0 | G8: ='2'!M29 -> 0 | H8: ='3'!K29 -> 0 | I8: ='3'!L29 -> 0 | J8: ='3'!M29 -> 0 | K8: ='4'!K29 -> 0 | L8: ='4'!L29 -> 0 | M8: ='4'!M29 -> 0 | N8: ='5'!K29 -> 0 | O8: ='5'!L29 -> 0 | P8: ='5'!M29 -> 0 | Q8: ='6'!K29 -> 0 | R8: ='6'!L29 -> 0 | S8: ='6'!M29 -> 0 | T8: ='7'!K29 -> 0 | U8: ='7'!L29 -> 0 | V8: ='7'!M29 -> 0 | W8: ='8'!K29 -> 0 | X8: ='8'!L29 -> 0 | Y8: ='8'!M29 -> 0 | Z8: ='9'!K29 -> 0 | AA8: ='9'!L29 -> 0 | AB8: ='9'!M29 -> 0 | AC8: ='10'!K29 -> 0 | AD8: ='10'!L29 -> 0 | AE8: ='10'!M29 -> 0 | AF8: ='11'!K29 -> 0 | AG8: ='11'!L29 -> 0 | AH8: ='11'!M29 -> 0 | AI8: ='12'!K29 -> 0 | AJ8: ='12'!L29 -> 0 | AK8: ='12'!M29 -> 0 | AL8: ='13'!K29 -> 0 | AM8: ='13'!L29 -> 0 | AN8: ='13'!M29 -> 0 | AO8: ='14'!K29 -> 0 | AP8: ='14'!L29 -> 0 | AQ8: ='14'!M29 -> 0 | AR8: ='15'!K29 -> 0 | AS8: ='15'!L29 -> 0 | AT8: ='15'!M29 -> 0 | AU8: ='16'!K29 -> 0 | AV8: ='16'!L29 -> 0 | AW8: ='16'!M29 -> 0 | AX8: =SUM(B8+E8+H8+K8+N8+Q8+T8+W8+Z8+AC8+AF8+AI8+AL8+AO8+AR8+AU8) -> 0 | AY8: =SUM(C8+F8+I8+L8+O8+R8+U8+X8+AA8+AD8+AG8+AJ8+AM8+AP8+AS8+AV8) -> 0 | AZ8: =SUM(AW8,AT8,AQ8,AN8,AK8,AH8,AE8,AB8,Y8,V8,S8,P8,M8,J8,G8,D8) -> 0 | BA8: =AX8/17 -> 0 | BB8: =AY8/17 -> 0 | BC8: =AZ8/17 -> 0
A9: Maio | B9: ='1'!K30 -> 0 | C9: ='1'!L30 -> 0 | D9: ='1'!M30 -> 0 | E9: ='2'!K30 -> 0 | F9: ='2'!L30 -> 0 | G9: ='2'!M30 -> 0 | H9: ='3'!K30 -> 0 | I9: ='3'!L30 -> 0 | J9: ='3'!M30 -> 0 | K9: ='4'!K30 -> 0 | L9: ='4'!L30 -> 0 | M9: ='4'!M30 -> 0 | N9: ='5'!K30 -> 0 | O9: ='5'!L30 -> 0 | P9: ='5'!M30 -> 0 | Q9: ='6'!K30 -> 0 | R9: ='6'!L30 -> 0 | S9: ='6'!M30 -> 0 | T9: ='7'!K30 -> 0 | U9: ='7'!L30 -> 0 | V9: ='7'!M30 -> 0 | W9: ='8'!K30 -> 0 | X9: ='8'!L30 -> 0 | Y9: ='8'!M30 -> 0 | Z9: ='9'!K30 -> 0 | AA9: ='9'!L30 -> 0 | AB9: ='9'!M30 -> 0 | AC9: ='10'!K30 -> 0 | AD9: ='10'!L30 -> 0 | AE9: ='10'!M30 -> 0 | AF9: ='11'!K30 -> 0 | AG9: ='11'!L30 -> 0 | AH9: ='11'!M30 -> 0 | AI9: ='12'!K30 -> 0 | AJ9: ='12'!L30 -> 0 | AK9: ='12'!M30 -> 0 | AL9: ='13'!K30 -> 0 | AM9: ='13'!L30 -> 0 | AN9: ='13'!M30 -> 0 | AO9: ='14'!K30 -> 0 | AP9: ='14'!L30 -> 0 | AQ9: ='14'!M30 -> 0 | AR9: ='15'!K30 -> 0 | AS9: ='15'!L30 -> 0 | AT9: ='15'!M30 -> 0 | AU9: ='16'!K30 -> 0 | AV9: ='16'!L30 -> 0 | AW9: ='16'!M30 -> 0 | AX9: =SUM(B9+E9+H9+K9+N9+Q9+T9+W9+Z9+AC9+AF9+AI9+AL9+AO9+AR9+AU9) -> 0 | AY9: =SUM(C9+F9+I9+L9+O9+R9+U9+X9+AA9+AD9+AG9+AJ9+AM9+AP9+AS9+AV9) -> 0 | AZ9: =SUM(AW9,AT9,AQ9,AN9,AK9,AH9,AE9,AB9,Y9,V9,S9,P9,M9,J9,G9,D9) -> 0 | BA9: =AX9/17 -> 0 | BB9: =AY9/17 -> 0 | BC9: =AZ9/17 -> 0
A10: Junho | B10: ='1'!K31 -> 0 | C10: ='1'!L31 -> 0 | D10: ='1'!M31 -> 0 | E10: ='2'!K31 -> 0 | F10: ='2'!L31 -> 0 | G10: ='2'!M31 -> 0 | H10: ='3'!K31 -> 0 | I10: ='3'!L31 -> 0 | J10: ='3'!M31 -> 0 | K10: ='4'!K31 -> 0 | L10: ='4'!L31 -> 0 | M10: ='4'!M31 -> 0 | N10: ='5'!K31 -> 0 | O10: ='5'!L31 -> 0 | P10: ='5'!M31 -> 0 | Q10: ='6'!K31 -> 0 | R10: ='6'!L31 -> 0 | S10: ='6'!M31 -> 0 | T10: ='7'!K31 -> 0 | U10: ='7'!L31 -> 0 | V10: ='7'!M31 -> 0 | W10: ='8'!K31 -> 0 | X10: ='8'!L31 -> 0 | Y10: ='8'!M31 -> 0 | Z10: ='9'!K31 -> 0 | AA10: ='9'!L31 -> 0 | AB10: ='9'!M31 -> 0 | AC10: ='10'!K31 -> 0 | AD10: ='10'!L31 -> 0 | AE10: ='10'!M31 -> 0 | AF10: ='11'!K31 -> 0 | AG10: ='11'!L31 -> 0 | AH10: ='11'!M31 -> 0 | AI10: ='12'!K31 -> 0 | AJ10: ='12'!L31 -> 0 | AK10: ='12'!M31 -> 0 | AL10: ='13'!K31 -> 0 | AM10: ='13'!L31 -> 0 | AN10: ='13'!M31 -> 0 | AO10: ='14'!K31 -> 0 | AP10: ='14'!L31 -> 0 | AQ10: ='14'!M31 -> 0 | AR10: ='15'!K31 -> 0 | AS10: ='15'!L31 -> 0 | AT10: ='15'!M31 -> 0 | AU10: ='16'!K31 -> 0 | AV10: ='16'!L31 -> 0 | AW10: ='16'!M31 -> 0 | AX10: =SUM(B10+E10+H10+K10+N10+Q10+T10+W10+Z10+AC10+AF10+AI10+AL10+AO10+AR10+AU10) -> 0 | AY10: =SUM(C10+F10+I10+L10+O10+R10+U10+X10+AA10+AD10+AG10+AJ10+AM10+AP10+AS10+AV10) -> 0 | AZ10: =SUM(AW10,AT10,AQ10,AN10,AK10,AH10,AE10,AB10,Y10,V10,S10,P10,M10,J10,G10,D10) -> 0 | BA10: =AX10/17 -> 0 | BB10: =AY10/17 -> 0 | BC10: =AZ10/17 -> 0
A11: Julho | B11: ='1'!K32 -> 0 | C11: ='1'!L32 -> 0 | D11: ='1'!M32 -> 0 | E11: ='2'!K32 -> 0 | F11: ='2'!L32 -> 0 | G11: ='2'!M32 -> 0 | H11: ='3'!K32 -> 0 | I11: ='3'!L32 -> 0 | J11: ='3'!M32 -> 0 | K11: ='4'!K32 -> 0 | L11: ='4'!L32 -> 0 | M11: ='4'!M32 -> 0 | N11: ='5'!K32 -> 0 | O11: ='5'!L32 -> 0 | P11: ='5'!M32 -> 0 | Q11: ='6'!K32 -> 0 | R11: ='6'!L32 -> 0 | S11: ='6'!M32 -> 0 | T11: ='7'!K32 -> 0 | U11: ='7'!L32 -> 0 | V11: ='7'!M32 -> 0 | W11: ='8'!K32 -> 0 | X11: ='8'!L32 -> 0 | Y11: ='8'!M32 -> 0 | Z11: ='9'!K32 -> 0 | AA11: ='9'!L32 -> 0 | AB11: ='9'!M32 -> 0 | AC11: ='10'!K32 -> 0 | AD11: ='10'!L32 -> 0 | AE11: ='10'!M32 -> 0 | AF11: ='11'!K32 -> 0 | AG11: ='11'!L32 -> 0 | AH11: ='11'!M32 -> 0 | AI11: ='12'!K32 -> 0 | AJ11: ='12'!L32 -> 0 | AK11: ='12'!M32 -> 0 | AL11: ='13'!K32 -> 0 | AM11: ='13'!L32 -> 0 | AN11: ='13'!M32 -> 0 | AO11: ='14'!K32 -> 0 | AP11: ='14'!L32 -> 0 | AQ11: ='14'!M32 -> 0 | AR11: ='15'!K32 -> 0 | AS11: ='15'!L32 -> 0 | AT11: ='15'!M32 -> 0 | AU11: ='16'!K32 -> 0 | AV11: ='16'!L32 -> 0 | AW11: ='16'!M32 -> 0 | AX11: =SUM(B11+E11+H11+K11+N11+Q11+T11+W11+Z11+AC11+AF11+AI11+AL11+AO11+AR11+AU11) -> 0 | AY11: =SUM(C11+F11+I11+L11+O11+R11+U11+X11+AA11+AD11+AG11+AJ11+AM11+AP11+AS11+AV11) -> 0 | AZ11: =SUM(AW11,AT11,AQ11,AN11,AK11,AH11,AE11,AB11,Y11,V11,S11,P11,M11,J11,G11,D11) -> 0 | BA11: =AX11/17 -> 0 | BB11: =AY11/17 -> 0 | BC11: =AZ11/17 -> 0
A12: Agosto | B12: ='1'!K33 -> 0 | C12: ='1'!L33 -> 0 | D12: ='1'!M33 -> 0 | E12: ='2'!K33 -> 0 | F12: ='2'!L33 -> 0 | G12: ='2'!M33 -> 0 | H12: ='3'!K33 -> 0 | I12: ='3'!L33 -> 0 | J12: ='3'!M33 -> 0 | K12: ='4'!K33 -> 0 | L12: ='4'!L33 -> 0 | M12: ='4'!M33 -> 0 | N12: ='5'!K33 -> 0 | O12: ='5'!L33 -> 0 | P12: ='5'!M33 -> 0 | Q12: ='6'!K33 -> 0 | R12: ='6'!L33 -> 0 | S12: ='6'!M33 -> 0 | T12: ='7'!K33 -> 0 | U12: ='7'!L33 -> 0 | V12: ='7'!M33 -> 0 | W12: ='8'!K33 -> 0 | X12: ='8'!L33 -> 0 | Y12: ='8'!M33 -> 0 | Z12: ='9'!K33 -> 0 | AA12: ='9'!L33 -> 0 | AB12: ='9'!M33 -> 0 | AC12: ='10'!K33 -> 0 | AD12: ='10'!L33 -> 0 | AE12: ='10'!M33 -> 0 | AF12: ='11'!K33 -> 0 | AG12: ='11'!L33 -> 0 | AH12: ='11'!M33 -> 0 | AI12: ='12'!K33 -> 0 | AJ12: ='12'!L33 -> 0 | AK12: ='12'!M33 -> 0 | AL12: ='13'!K33 -> 0 | AM12: ='13'!L33 -> 0 | AN12: ='13'!M33 -> 0 | AO12: ='14'!K33 -> 0 | AP12: ='14'!L33 -> 0 | AQ12: ='14'!M33 -> 0 | AR12: ='15'!K33 -> 0 | AS12: ='15'!L33 -> 0 | AT12: ='15'!M33 -> 0 | AU12: ='16'!K33 -> 0 | AV12: ='16'!L33 -> 0 | AW12: ='16'!M33 -> 0 | AX12: =SUM(B12+E12+H12+K12+N12+Q12+T12+W12+Z12+AC12+AF12+AI12+AL12+AO12+AR12+AU12) -> 0 | AY12: =SUM(C12+F12+I12+L12+O12+R12+U12+X12+AA12+AD12+AG12+AJ12+AM12+AP12+AS12+AV12) -> 0 | AZ12: =SUM(AW12,AT12,AQ12,AN12,AK12,AH12,AE12,AB12,Y12,V12,S12,P12,M12,J12,G12,D12) -> 0 | BA12: =AX12/17 -> 0 | BB12: =AY12/17 -> 0 | BC12: =AZ12/17 -> 0
A13: Setembro | B13: ='1'!K34 -> 0 | C13: ='1'!L34 -> 0 | D13: ='1'!M34 -> 0 | E13: ='2'!K34 -> 0 | F13: ='2'!L34 -> 0 | G13: ='2'!M34 -> 0 | H13: ='3'!K34 -> 0 | I13: ='3'!L34 -> 0 | J13: ='3'!M34 -> 0 | K13: ='4'!K34 -> 0 | L13: ='4'!L34 -> 0 | M13: ='4'!M34 -> 0 | N13: ='5'!K34 -> 0 | O13: ='5'!L34 -> 0 | P13: ='5'!M34 -> 0 | Q13: ='6'!K34 -> 0 | R13: ='6'!L34 -> 0 | S13: ='6'!M34 -> 0 | T13: ='7'!K34 -> 0 | U13: ='7'!L34 -> 0 | V13: ='7'!M34 -> 0 | W13: ='8'!K34 -> 0 | X13: ='8'!L34 -> 0 | Y13: ='8'!M34 -> 0 | Z13: ='9'!K34 -> 0 | AA13: ='9'!L34 -> 0 | AB13: ='9'!M34 -> 0 | AC13: ='10'!K34 -> 0 | AD13: ='10'!L34 -> 0 | AE13: ='10'!M34 -> 0 | AF13: ='11'!K34 -> 0 | AG13: ='11'!L34 -> 0 | AH13: ='11'!M34 -> 0 | AI13: ='12'!K34 -> 0 | AJ13: ='12'!L34 -> 0 | AK13: ='12'!M34 -> 0 | AL13: ='13'!K34 -> 0 | AM13: ='13'!L34 -> 0 | AN13: ='13'!M34 -> 0 | AO13: ='14'!K34 -> 0 | AP13: ='14'!L34 -> 0 | AQ13: ='14'!M34 -> 0 | AR13: ='15'!K34 -> 0 | AS13: ='15'!L34 -> 0 | AT13: ='15'!M34 -> 0 | AU13: ='16'!K34 -> 0 | AV13: ='16'!L34 -> 0 | AW13: ='16'!M34 -> 0 | AX13: =SUM(B13+E13+H13+K13+N13+Q13+T13+W13+Z13+AC13+AF13+AI13+AL13+AO13+AR13+AU13) -> 0 | AY13: =SUM(C13+F13+I13+L13+O13+R13+U13+X13+AA13+AD13+AG13+AJ13+AM13+AP13+AS13+AV13) -> 0 | AZ13: =SUM(AW13,AT13,AQ13,AN13,AK13,AH13,AE13,AB13,Y13,V13,S13,P13,M13,J13,G13,D13) -> 0 | BA13: =AX13/17 -> 0 | BB13: =AY13/17 -> 0 | BC13: =AZ13/17 -> 0
A14: Outubro | B14: ='1'!K35 -> 0 | C14: ='1'!L35 -> 0 | D14: ='1'!M35 -> 0 | E14: ='2'!K35 -> 0 | F14: ='2'!L35 -> 0 | G14: ='2'!M35 -> 0 | H14: ='3'!K35 -> 0 | I14: ='3'!L35 -> 0 | J14: ='3'!M35 -> 0 | K14: ='4'!K35 -> 0 | L14: ='4'!L35 -> 0 | M14: ='4'!M35 -> 0 | N14: ='5'!K35 -> 0 | O14: ='5'!L35 -> 0 | P14: ='5'!M35 -> 0 | Q14: ='6'!K35 -> 0 | R14: ='6'!L35 -> 0 | S14: ='6'!M35 -> 0 | T14: ='7'!K35 -> 0 | U14: ='7'!L35 -> 0 | V14: ='7'!M35 -> 0 | W14: ='8'!K35 -> 0 | X14: ='8'!L35 -> 0 | Y14: ='8'!M35 -> 0 | Z14: ='9'!K35 -> 0 | AA14: ='9'!L35 -> 0 | AB14: ='9'!M35 -> 0 | AC14: ='10'!K35 -> 0 | AD14: ='10'!L35 -> 0 | AE14: ='10'!M35 -> 0 | AF14: ='11'!K35 -> 0 | AG14: ='11'!L35 -> 0 | AH14: ='11'!M35 -> 0 | AI14: ='12'!K35 -> 0 | AJ14: ='12'!L35 -> 0 | AK14: ='12'!M35 -> 0 | AL14: ='13'!K35 -> 0 | AM14: ='13'!L35 -> 0 | AN14: ='13'!M35 -> 0 | AO14: ='14'!K35 -> 0 | AP14: ='14'!L35 -> 0 | AQ14: ='14'!M35 -> 0 | AR14: ='15'!K35 -> 0 | AS14: ='15'!L35 -> 0 | AT14: ='15'!M35 -> 0 | AU14: ='16'!K35 -> 0 | AV14: ='16'!L35 -> 0 | AW14: ='16'!M35 -> 0 | AX14: =SUM(B14+E14+H14+K14+N14+Q14+T14+W14+Z14+AC14+AF14+AI14+AL14+AO14+AR14+AU14) -> 0 | AY14: =SUM(C14+F14+I14+L14+O14+R14+U14+X14+AA14+AD14+AG14+AJ14+AM14+AP14+AS14+AV14) -> 0 | AZ14: =SUM(AW14,AT14,AQ14,AN14,AK14,AH14,AE14,AB14,Y14,V14,S14,P14,M14,J14,G14,D14) -> 0 | BA14: =AX14/17 -> 0 | BB14: =AY14/17 -> 0 | BC14: =AZ14/17 -> 0
A15: Novembro | B15: ='1'!K36 -> 0 | C15: ='1'!L36 -> 0 | D15: ='1'!M36 -> 0 | E15: ='2'!K36 -> 0 | F15: ='2'!L36 -> 0 | G15: ='2'!M36 -> 0 | H15: ='3'!K36 -> 0 | I15: ='3'!L36 -> 0 | J15: ='3'!M36 -> 0 | K15: ='4'!K36 -> 0 | L15: ='4'!L36 -> 0 | M15: ='4'!M36 -> 0 | N15: ='5'!K36 -> 0 | O15: ='5'!L36 -> 0 | P15: ='5'!M36 -> 0 | Q15: ='6'!K36 -> 0 | R15: ='6'!L36 -> 0 | S15: ='6'!M36 -> 0 | T15: ='7'!K36 -> 0 | U15: ='7'!L36 -> 0 | V15: ='7'!M36 -> 0 | W15: ='8'!K36 -> 0 | X15: ='8'!L36 -> 0 | Y15: ='8'!M36 -> 0 | Z15: ='9'!K36 -> 0 | AA15: ='9'!L36 -> 0 | AB15: ='9'!M36 -> 0 | AC15: ='10'!K36 -> 0 | AD15: ='10'!L36 -> 0 | AE15: ='10'!M36 -> 0 | AF15: ='11'!K36 -> 0 | AG15: ='11'!L36 -> 0 | AH15: ='11'!M36 -> 0 | AI15: ='12'!K36 -> 0 | AJ15: ='12'!L36 -> 0 | AK15: ='12'!M36 -> 0 | AL15: ='13'!K36 -> 0 | AM15: ='13'!L36 -> 0 | AN15: ='13'!M36 -> 0 | AO15: ='14'!K36 -> 0 | AP15: ='14'!L36 -> 0 | AQ15: ='14'!M36 -> 0 | AR15: ='15'!K36 -> 0 | AS15: ='15'!L36 -> 0 | AT15: ='15'!M36 -> 0 | AU15: ='16'!K36 -> 0 | AV15: ='16'!L36 -> 0 | AW15: ='16'!M36 -> 0 | AX15: =SUM(B15+E15+H15+K15+N15+Q15+T15+W15+Z15+AC15+AF15+AI15+AL15+AO15+AR15+AU15) -> 0 | AY15: =SUM(C15+F15+I15+L15+O15+R15+U15+X15+AA15+AD15+AG15+AJ15+AM15+AP15+AS15+AV15) -> 0 | AZ15: =SUM(AW15,AT15,AQ15,AN15,AK15,AH15,AE15,AB15,Y15,V15,S15,P15,M15,J15,G15,D15) -> 0 | BA15: =AX15/17 -> 0 | BB15: =AY15/17 -> 0 | BC15: =AZ15/17 -> 0
A16: Dezembro | B16: ='1'!K37 -> 0 | C16: ='1'!L37 -> 0 | D16: ='1'!M37 -> 0 | E16: ='2'!K37 -> 0 | F16: ='2'!L37 -> 0 | G16: ='2'!M37 -> 0 | H16: ='3'!K37 -> 0 | I16: ='3'!L37 -> 0 | J16: ='3'!M37 -> 0 | K16: ='4'!K37 -> 0 | L16: ='4'!L37 -> 0 | M16: ='4'!M37 -> 0 | N16: ='5'!K37 -> 0 | O16: ='5'!L37 -> 0 | P16: ='5'!M37 -> 0 | Q16: ='6'!K37 -> 0 | R16: ='6'!L37 -> 0 | S16: ='6'!M37 -> 0 | T16: ='7'!K37 -> 0 | U16: ='7'!L37 -> 0 | V16: ='7'!M37 -> 0 | W16: ='8'!K37 -> 0 | X16: ='8'!L37 -> 0 | Y16: ='8'!M37 -> 0 | Z16: ='9'!K37 -> 0 | AA16: ='9'!L37 -> 0 | AB16: ='9'!M37 -> 0 | AC16: ='10'!K37 -> 0 | AD16: ='10'!L37 -> 0 | AE16: ='10'!M37 -> 0 | AF16: ='11'!K37 -> 0 | AG16: ='11'!L37 -> 0 | AH16: ='11'!M37 -> 0 | AI16: ='12'!K37 -> 0 | AJ16: ='12'!L37 -> 0 | AK16: ='12'!M37 -> 0 | AL16: ='13'!K37 -> 0 | AM16: ='13'!L37 -> 0 | AN16: ='13'!M37 -> 0 | AO16: ='14'!K37 -> 0 | AP16: ='14'!L37 -> 0 | AQ16: ='14'!M37 -> 0 | AR16: ='15'!K37 -> 0 | AS16: ='15'!L37 -> 0 | AT16: ='15'!M37 -> 0 | AU16: ='16'!K37 -> 0 | AV16: ='16'!L37 -> 0 | AW16: ='16'!M37 -> 0 | AX16: =SUM(B16+E16+H16+K16+N16+Q16+T16+W16+Z16+AC16+AF16+AI16+AL16+AO16+AR16+AU16) -> 0 | AY16: =SUM(C16+F16+I16+L16+O16+R16+U16+X16+AA16+AD16+AG16+AJ16+AM16+AP16+AS16+AV16) -> 0 | AZ16: =SUM(AW16,AT16,AQ16,AN16,AK16,AH16,AE16,AB16,Y16,V16,S16,P16,M16,J16,G16,D16) -> 0 | BA16: =AX16/17 -> 0 | BB16: =AY16/17 -> 0 | BC16: =AZ16/17 -> 0
