Workbook

Sheet Formulário
A1: Relatório de Manutenção Corretiva - MTTR, MTBF e Disponibilidade
A3: Máquina: | D3: Responsável:
A5: Data/Hora Inicial | B5: Data/Hora Final | C5: Problema Detectado | D5: Descrição do Serviço | E5: Componente Substituído | F5: Observações
A13: Observações (cuidados futuros):
F16: Rev 01

Sheet 1
A1: Controle de MTTR, MTBF e Disponibilidade
A3: Máquina: | F3: Responsável:
A5: Data/Hora Inicial | B5: Data/Hora Final | C5: Problema Detectado | D5: Descrição do Serviço | E5: Componente Substituído | F5: Observações | G5: MTTR (Tempo médio de reparo/minutos) | H5: MTBF (Tempo médio entre reparos/minuto) | I5: Disponibilidade
G6: =IF(B6="","",(B6-A6)*1440) | I6: =(H6/(H6+G6))*100 -> #VALUE!
G7: =IF(B7="","",(B7-A6)*1440) | H7: =IF(A7="","",(A7-B6)*1440) | I7: =(H7/(H7+G7))*100 -> #VALUE!
G8: =IF(B8="","",(B8-A8)*1440) | H8: =IF(A8="","",(A8-B7)*1440) | I8: =(H8/(H8+G8))*100 -> #VALUE!
G9: =IF(B9="","",(B9-A9)*1440) | H9: =IF(A9="","",(A9-B8)*1440) | I9: =(H9/(H9+G9))*100 -> #VALUE!
G10: =IF(B10="","",(B10-A10)*1440) | H10: =IF(A10="","",(A10-B9)*1440) | I10: =(H10/(H10+G10))*100 -> #VALUE!
G11: =IF(B11="","",(B11-A11)*1440) | H11: =IF(A11="","",(A11-B10)*1440) | I11: =(H11/(H11+G11))*100 -> #VALUE!
G12: =IF(B12="","",(B12-A12)*1440) | H12: =IF(A12="","",(A12-B11)*1440) | I12: =(H12/(H12+G12))*100 -> #VALUE!
G13: =IF(B13="","",(B13-A13)*1440) | H13: =IF(A13="","",(A13-B12)*1440) | I13: =(H13/(H13+G13))*100 -> #VALUE!
G14: =IF(B14="","",(B14-A14)*1440) | H14: =IF(A14="","",(A14-B13)*1440) | I14: =(H14/(H14+G14))*100 -> #VALUE!
G15: =IF(B15="","",(B15-A15)*1440) | H15: =IF(A15="","",(A15-B14)*1440) | I15: =(H15/(H15+G15))*100 -> #VALUE!
G16: =IF(B16="","",(B16-A16)*1440) | H16: =IF(A16="","",(A16-B15)*1440) | I16: =(H16/(H16+G16))*100 -> #VALUE!
G17: =IF(B17="","",(B17-A17)*1440) | H17: =IF(A17="","",(A17-B16)*1440) | I17: =(H17/(H17+G17))*100 -> #VALUE!
G18: =IF(B18="","",(B18-A18)*1440) | H18: =IF(A18="","",(A18-B17)*1440) | I18: =(H18/(H18+G18))*100 -> #VALUE!
G19: =IF(B19="","",(B19-A19)*1440) | H19: =IF(A19="","",(A19-B18)*1440) | I19: =(H19/(H19+G19))*100 -> #VALUE!
G20: =IF(B20="","",(B20-A20)*1440) | H20: =IF(A20="","",(A20-B19)*1440) | I20: =(H20/(H20+G20))*100 -> #VALUE!
I21: =(H21/(H21+G21))*100 -> #DIV/0!
G22: =IF(B22="","",(B22-A22)*1440) | H22: =IF(A22="","",(A22-B21)*1440) | I22: =(H22/(H22+G22))*100 -> #VALUE!
G23: =IF(B23="","",(B23-A23)*1440) | H23: =IF(A23="","",(A23-B22)*1440) | I23: =(H23/(H23+G23))*100 -> #VALUE!
G24: =IF(B24="","",(B24-A24)*1440) | H24: =IF(A24="","",(A24-B23)*1440) | I24: =(H24/(H24+G24))*100 -> #VALUE!
G25: =IF(B25="","",(B25-A25)*1440) | H25: =IF(A25="","",(A25-B24)*1440) | I25: =(H25/(H25+G25))*100 -> #VALUE! | K25: MTTR | L25: MTBF | M25: Disponibilidade
G26: =IF(B26="","",(B26-A26)*1440) | H26: =IF(A26="","",(A26-B25)*1440) | I26: =(H26/(H26+G26))*100 -> #VALUE! | J26: Janeiro
G27: =IF(B27="","",(B27-A27)*1440) | H27: =IF(A27="","",(A27-B26)*1440) | I27: =(H27/(H27+G27))*100 -> #VALUE! | J27: Fevereiro
G28: =IF(B28="","",(B28-A28)*1440) | H28: =IF(A28="","",(A28-B27)*1440) | I28: =(H28/(H28+G28))*100 -> #VALUE! | J28: Março
G29: =IF(B29="","",(B29-A29)*1440) | H29: =IF(A29="","",(A29-B28)*1440) | I29: =(H29/(H29+G29))*100 -> #VALUE! | J29: Abril
G30: =IF(B30="","",(B30-A30)*1440) | H30: =IF(A30="","",(A30-B29)*1440) | I30: =(H30/(H30+G30))*100 -> #VALUE! | J30: Maio
G31: =IF(B31="","",(B31-A31)*1440) | H31: =IF(A31="","",(A31-B30)*1440) | I31: =(H31/(H31+G31))*100 -> #VALUE! | J31: Junho
G32: =IF(B32="","",(B32-A32)*1440) | H32: =IF(A32="","",(A32-B31)*1440) | I32: =(H32/(H32+G32))*100 -> #VALUE! | J32: Julho
G33: =IF(B33="","",(B33-A33)*1440) | H33: =IF(A33="","",(A33-B32)*1440) | I33: =(H33/(H33+G33))*100 -> #VALUE! | J33: Agosto
G34: =IF(B34="","",(B34-A34)*1440) | H34: =IF(A34="","",(A34-B33)*1440) | I34: =(H34/(H34+G34))*100 -> #VALUE! | J34: Setembro
G35: =IF(B35="","",(B35-A35)*1440) | H35: =IF(A35="","",(A35-B34)*1440) | I35: =(H35/(H35+G35))*100 -> #VALUE! | J35: Outubro
G36: =IF(B36="","",(B36-A36)*1440) | H36: =IF(A36="","",(A36-B35)*1440) | I36: =(H36/(H36+G36))*100 -> #VALUE! | J36: Novembro
F37: Média Total: | G37: =AVERAGE(G6:G36) -> #DIV/0! | H37: =AVERAGE(H7:H36) -> #DIV/0! | I37: =H37/(H37+G37)*100 -> #DIV/0! | J37: Dezembro

Sheet 2
A1: Controle de MTTR, MTBF e Disponibilidade
A3: Máquina: | F3: Responsável:
A5: Data/Hora Inicial | B5: Data/Hora Final | C5: Problema Detectado | D5: Descrição do Serviço | E5: Componente Substituído | F5: Observações | G5: MTTR (Tempo médio de reparo/minutos) | H5: MTBF (Tempo médio entre reparos/minuto) | I5: Disponibilidade
G6: =IF(B6="","",(B6-A6)*1440) | I6: =(H6/(H6+G6))*100 -> #VALUE!
G7: =IF(B7="","",(B7-A6)*1440) | H7: =IF(A7="","",(A7-B6)*1440) | I7: =(H7/(H7+G7))*100 -> #VALUE!
G8: =IF(B8="","",(B8-A8)*1440) | H8: =IF(A8="","",(A8-B7)*1440) | I8: =(H8/(H8+G8))*100 -> #VALUE!
G9: =IF(B9="","",(B9-A9)*1440) | H9: =IF(A9="","",(A9-B8)*1440) | I9: =(H9/(H9+G9))*100 -> #VALUE!
G10: =IF(B10="","",(B10-A10)*1440) | H10: =IF(A10="","",(A10-B9)*1440) | I10: =(H10/(H10+G10))*100 -> #VALUE!
G11: =IF(B11="","",(B11-A11)*1440) | H11: =IF(A11="","",(A11-B10)*1440) | I11: =(H11/(H11+G11))*100 -> #VALUE!
G12: =IF(B12="","",(B12-A12)*1440) | H12: =IF(A12="","",(A12-B11)*1440) | I12: =(H12/(H12+G12))*100 -> #VALUE!
G13: =IF(B13="","",(B13-A13)*1440) | H13: =IF(A13="","",(A13-B12)*1440) | I13: =(H13/(H13+G13))*100 -> #VALUE!
G14: =IF(B14="","",(B14-A14)*1440) | H14: =IF(A14="","",(A14-B13)*1440) | I14: =(H14/(H14+G14))*100 -> #VALUE!
G15: =IF(B15="","",(B15-A15)*1440) | H15: =IF(A15="","",(A15-B14)*1440) | I15: =(H15/(H15+G15))*100 -> #VALUE!
G16: =IF(B16="","",(B16-A16)*1440) | H16: =IF(A16="","",(A16-B15)*1440) | I16: =(H16/(H16+G16))*100 -> #VALUE!
G17: =IF(B17="","",(B17-A17)*1440) | H17: =IF(A17="","",(A17-B16)*1440) | I17: =(H17/(H17+G17))*100 -> #VALUE!
G18: =IF(B18="","",(B18-A18)*1440) | H18: =IF(A18="","",(A18-B17)*1440) | I18: =(H18/(H18+G18))*100 -> #VALUE!
G19: =IF(B19="","",(B19-A19)*1440) | H19: =IF(A19="","",(A19-B18)*1440) | I19: =(H19/(H19+G19))*100 -> #VALUE!
G20: =IF(B20="","",(B20-A20)*1440) | H20: =IF(A20="","",(A20-B19)*1440) | I20: =(H20/(H20+G20))*100 -> #VALUE!
I21: =H21/(H21+G21)*100 -> #DIV/0!
G22: =IF(B22="","",(B22-A22)*1440) | H22: =IF(A22="","",(A22-B21)*1440) | I22: =H22/(H22+G22)*100 -> #VALUE!
G23: =IF(B23="","",(B23-A23)*1440) | H23: =IF(A23="","",(A23-B22)*1440) | I23: =H23/(H23+G23)*100 -> #VALUE!
G24: =IF(B24="","",(B24-A24)*1440) | H24: =IF(A24="","",(A24-B23)*1440) | I24: =H24/(H24+G24)*100 -> #VALUE!
G25: =IF(B25="","",(B25-A25)*1440) | H25: =IF(A25="","",(A25-B24)*1440) | I25: =H25/(H25+G25)*100 -> #VALUE! | K25: MTTR | L25: MTBF | M25: Disponibilidade
G26: =IF(B26="","",(B26-A26)*1440) | H26: =IF(A26="","",(A26-B25)*1440) | I26: =H26/(H26+G26)*100 -> #VALUE! | J26: Janeiro
G27: =IF(B27="","",(B27-A27)*1440) | H27: =IF(A27="","",(A27-B26)*1440) | I27: =H27/(H27+G27)*100 -> #VALUE! | J27: Fevereiro
G28: =IF(B28="","",(B28-A28)*1440) | H28: =IF(A28="","",(A28-B27)*1440) | I28: =H28/(H28+G28)*100 -> #VALUE! | J28: Março
G29: =IF(B29="","",(B29-A29)*1440) | H29: =IF(A29="","",(A29-B28)*1440) | I29: =H29/(H29+G29)*100 -> #VALUE! | J29: Abril
G30: =IF(B30="","",(B30-A30)*1440) | H30: =IF(A30="","",(A30-B29)*1440) | I30: =H30/(H30+G30)*100 -> #VALUE! | J30: Maio
G31: =IF(B31="","",(B31-A31)*1440) | H31: =IF(A31="","",(A31-B30)*1440) | I31: =H31/(H31+G31)*100 -> #VALUE! | J31: Junho
G32: =IF(B32="","",(B32-A32)*1440) | H32: =IF(A32="","",(A32-B31)*1440) | I32: =H32/(H32+G32)*100 -> #VALUE! | J32: Julho
G33: =IF(B33="","",(B33-A33)*1440) | H33: =IF(A33="","",(A33-B32)*1440) | I33: =H33/(H33+G33)*100 -> #VALUE! | J33: Agosto
G34: =IF(B34="","",(B34-A34)*1440) | H34: =IF(A34="","",(A34-B33)*1440) | I34: =H34/(H34+G34)*100 -> #VALUE! | J34: Setembro
G35: =IF(B35="","",(B35-A35)*1440) | H35: =IF(A35="","",(A35-B34)*1440) | I35: =H35/(H35+G35)*100 -> #VALUE! | J35: Outubro
G36: =IF(B36="","",(B36-A36)*1440) | H36: =IF(A36="","",(A36-B35)*1440) | I36: =H36/(H36+G36)*100 -> #VALUE! | J36: Novembro
F37: Média Total: | G37: =AVERAGE(G6:G36) -> #DIV/0! | H37: =AVERAGE(H7:H36) -> #DIV/0! | I37: =H37/(H37+G37)*100 -> #DIV/0! | J37: Dezembro

Sheet 3
A1: Controle de MTTR, MTBF e Disponibilidade
A3: Máquina: | F3: Responsável:
A5: Data/Hora Inicial | B5: Data/Hora Final | C5: Problema Detectado | D5: Descrição do Serviço | E5: Componente Substituído | F5: Observações | G5: MTTR (Tempo médio de reparo/minutos) | H5: MTBF (Tempo médio entre reparos/minuto) | I5: Disponibilidade
G6: =IF(B6="","",(B6-A6)*1440) | I6: =(H6/(H6+G6))*100 -> #VALUE!
G7: =IF(B7="","",(B7-A6)*1440) | H7: =IF(A7="","",(A7-B6)*1440) | I7: =(H7/(H7+G7))*100 -> #VALUE!
G8: =IF(B8="","",(B8-A8)*1440) | H8: =IF(A8="","",(A8-B7)*1440) | I8: =(H8/(H8+G8))*100 -> #VALUE!
G9: =IF(B9="","",(B9-A9)*1440) | H9: =IF(A9="","",(A9-B8)*1440) | I9: =(H9/(H9+G9))*100 -> #VALUE!
G10: =IF(B10="","",(B10-A10)*1440) | H10: =IF(A10="","",(A10-B9)*1440) | I10: =(H10/(H10+G10))*100 -> #VALUE!
G11: =IF(B11="","",(B11-A11)*1440) | H11: =IF(A11="","",(A11-B10)*1440) | I11: =(H11/(H11+G11))*100 -> #VALUE!
G12: =IF(B12="","",(B12-A12)*1440) | H12: =IF(A12="","",(A12-B11)*1440) | I12: =(H12/(H12+G12))*100 -> #VALUE!
G13: =IF(B13="","",(B13-A13)*1440) | H13: =IF(A13="","",(A13-B12)*1440) | I13: =(H13/(H13+G13))*100 -> #VALUE!
G14: =IF(B14="","",(B14-A14)*1440) | H14: =IF(A14="","",(A14-B13)*1440) | I14: =(H14/(H14+G14))*100 -> #VALUE!
G15: =IF(B15="","",(B15-A15)*1440) | H15: =IF(A15="","",(A15-B14)*1440) | I15: =(H15/(H15+G15))*100 -> #VALUE!
G16: =IF(B16="","",(B16-A16)*1440) | H16: =IF(A16="","",(A16-B15)*1440) | I16: =(H16/(H16+G16))*100 -> #VALUE!
G17: =IF(B17="","",(B17-A17)*1440) | H17: =IF(A17="","",(A17-B16)*1440) | I17: =(H17/(H17+G17))*100 -> #VALUE!
G18: =IF(B18="","",(B18-A18)*1440) | H18: =IF(A18="","",(A18-B17)*1440) | I18: =(H18/(H18+G18))*100 -> #VALUE!
G19: =IF(B19="","",(B19-A19)*1440) | H19: =IF(A19="","",(A19-B18)*1440) | I19: =(H19/(H19+G19))*100 -> #VALUE!
G20: =IF(B20="","",(B20-A20)*1440) | H20: =IF(A20="","",(A20-B19)*1440) | I20: =(H20/(H20+G20))*100 -> #VALUE!
I21: =H21/(H21+G21)*100 -> #DIV/0!
G22: =IF(B22="","",(B22-A22)*1440) | H22: =IF(A22="","",(A22-B21)*1440) | I22: =H22/(H22+G22)*100 -> #VALUE!
G23: =IF(B23="","",(B23-A23)*1440) | H23: =IF(A23="","",(A23-B22)*1440) | I23: =H23/(H23+G23)*100 -> #VALUE!
G24: =IF(B24="","",(B24-A24)*1440) | H24: =IF(A24="","",(A24-B23)*1440) | I24: =H24/(H24+G24)*100 -> #VALUE!
G25: =IF(B25="","",(B25-A25)*1440) | H25: =IF(A25="","",(A25-B24)*1440) | I25: =H25/(H25+G25)*100 -> #VALUE! | K25: MTTR | L25: MTBF | M25: Disponibilidade
G26: =IF(B26="","",(B26-A26)*1440) | H26: =IF(A26="","",(A26-B25)*1440) | I26: =H26/(H26+G26)*100 -> #VALUE! | J26: Janeiro
G27: =IF(B27="","",(B27-A27)*1440) | H27: =IF(A27="","",(A27-B26)*1440) | I27: =H27/(H27+G27)*100 -> #VALUE! | J27: Fevereiro
G28: =IF(B28="","",(B28-A28)*1440) | H28: =IF(A28="","",(A28-B27)*1440) | I28: =H28/(H28+G28)*100 -> #VALUE! | J28: Março
G29: =IF(B29="","",(B29-A29)*1440) | H29: =IF(A29="","",(A29-B28)*1440) | I29: =H29/(H29+G29)*100 -> #VALUE! | J29: Abril
G30: =IF(B30="","",(B30-A30)*1440) | H30: =IF(A30="","",(A30-B29)*1440) | I30: =H30/(H30+G30)*100 -> #VALUE! | J30: Maio
G31: =IF(B31="","",(B31-A31)*1440) | H31: =IF(A31="","",(A31-B30)*1440) | I31: =H31/(H31+G31)*100 -> #VALUE! | J31: Junho
G32: =IF(B32="","",(B32-A32)*1440) | H32: =IF(A32="","",(A32-B31)*1440) | I32: =H32/(H32+G32)*100 -> #VALUE! | J32: Julho
G33: =IF(B33="","",(B33-A33)*1440) | H33: =IF(A33="","",(A33-B32)*1440) | I33: =H33/(H33+G33)*100 -> #VALUE! | J33: Agosto
G34: =IF(B34="","",(B34-A34)*1440) | H34: =IF(A34="","",(A34-B33)*1440) | I34: =H34/(H34+G34)*100 -> #VALUE! | J34: Setembro
G35: =IF(B35="","",(B35-A35)*1440) | H35: =IF(A35="","",(A35-B34)*1440) | I35: =H35/(H35+G35)*100 -> #VALUE! | J35: Outubro
G36: =IF(B36="","",(B36-A36)*1440) | H36: =IF(A36="","",(A36-B35)*1440) | I36: =H36/(H36+G36)*100 -> #VALUE! | J36: Novembro
F37: Média Total: | G37: =AVERAGE(G6:G36) -> #DIV/0! | H37: =AVERAGE(H7:H36) -> #DIV/0! | I37: =H37/(H37+G37)*100 -> #DIV/0! | J37: Dezembro

Sheet 4
A1: Controle de MTTR, MTBF e Disponibilidade
A3: Máquina: | F3: Responsável:
A5: ='1'!A5 -> Data/Hora Inicial | B5: ='1'!B5 -> Data/Hora Final | C5: ='1'!C5 -> Problema Detectado | D5: ='1'!D5 -> Descrição do Serviço | E5: ='1'!E5 -> Componente Substituído | F5: ='1'!F5 -> Observações | G5: ='1'!G5 -> MTTR (Tempo médio de reparo/minutos) | H5: ='1'!H5 -> MTBF (Tempo médio entre reparos/minuto) | I5: Disponibilidade
G6: =IF(B6="","",(B6-A6)*1440) | I6: =(H6/(H6+G6))*100 -> #VALUE!
G7: =IF(B7="","",(B7-A7)*1440) | H7: =IF(A7="","",(A7-B6)*1440) | I7: =(H7/(H7+G7))*100 -> #VALUE!
G8: =IF(B8="","",(B8-A8)*1440) | H8: =IF(A8="","",(A8-B7)*1440) | I8: =(H8/(H8+G8))*100 -> #VALUE!
G9: =IF(B9="","",(B9-A9)*1440) | H9: =IF(A9="","",(A9-B8)*1440) | I9: =(H9/(H9+G9))*100 -> #VALUE!
G10: =IF(B10="","",(B10-A10)*1440) | H10: =IF(A10="","",(A10-B9)*1440) | I10: =(H10/(H10+G10))*100 -> #VALUE!
G11: =IF(B11="","",(B11-A11)*1440) | H11: =IF(A11="","",(A11-B10)*1440) | I11: =(H11/(H11+G11))*100 -> #VALUE!
G12: =IF(B12="","",(B12-A12)*1440) | H12: =IF(A12="","",(A12-B11)*1440) | I12: =(H12/(H12+G12))*100 -> #VALUE!
G13: =IF(B13="","",(B13-A13)*1440) | H13: =IF(A13="","",(A13-B12)*1440) | I13: =(H13/(H13+G13))*100 -> #VALUE!
G14: =IF(B14="","",(B14-A14)*1440) | H14: =IF(A14="","",(A14-B13)*1440) | I14: =(H14/(H14+G14))*100 -> #VALUE!
G15: =IF(B15="","",(B15-A15)*1440) | H15: =IF(A15="","",(A15-B14)*1440) | I15: =(H15/(H15+G15))*100 -> #VALUE!
G16: =IF(B16="","",(B16-A16)*1440) | H16: =IF(A16="","",(A16-B15)*1440) | I16: =(H16/(H16+G16))*100 -> #VALUE!
G17: =IF(B17="","",(B17-A17)*1440) | H17: =IF(A17="","",(A17-B16)*1440) | I17: =(H17/(H17+G17))*100 -> #VALUE!
G18: =IF(B18="","",(B18-A18)*1440) | H18: =IF(A18="","",(A18-B17)*1440) | I18: =(H18/(H18+G18))*100 -> #VALUE!
... G24: =IF(B24="","",(B24-A24)*1440) | H24: =IF(A24="","",(A24-B23)*1440) | I24: =(H24/(H24+G24))*100 -> #VALUE!
G25: =IF(B25="","",(B25-A25)*1440) | H25: =IF(A25="","",(A25-B24)*1440) | I25: =(H25/(H25+G25))*100 -> #VALUE! | K25: MTTR | L25: MTBF | M25: Disponibilidade
G26: =IF(B26="","",(B26-A26)*1440) | H26: =IF(A26="","",(A26-B25)*1440) | I26: =(H26/(H26+G26))*100 -> #VALUE! | J26: Janeiro
G27: =IF(B27="","",(B27-A27)*1440) | H27: =IF(A27="","",(A27-B26)*1440) | I27: =(H27/(H27+G27))*100 -> #VALUE! | J27: Fevereiro
G28: =IF(B28="","",(B28-A28)*1440) | H28: =IF(A28="","",(A28-B27)*1440) | I28: =(H28/(H28+G28))*100 -> #VALUE! | J28: Março
G29: =IF(B29="","",(B29-A29)*1440) | H29: =IF(A29="","",(A29-B28)*1440) | I29: =(H29/(H29+G29))*100 -> #VALUE! | J29: Abril
G30: =IF(B30="","",(B30-A30)*1440) | H30: =IF(A30="","",(A30-B29)*1440) | I30: =(H30/(H30+G30))*100 -> #VALUE! | J30: Maio
G31: =IF(B31="","",(B31-A31)*1440) | H31: =IF(A31="","",(A31-B30)*1440) | I31: =(H31/(H31+G31))*100 -> #VALUE! | J31: Junho
G32: =IF(B32="","",(B32-A32)*1440) | H32: =IF(A32="","",(A32-B31)*1440) | I32: =(H32/(H32+G32))*100 -> #VALUE! | J32: Julho
G33: =IF(B33="","",(B33-A33)*1440) | H33: =IF(A33="","",(A33-B32)*1440) | I33: =(H33/(H33+G33))*100 -> #VALUE! | J33: Agosto
G34: =IF(B34="","",(B34-A34)*1440) | H34: =IF(A34="","",(A34-B33)*1440) | I34: =(H34/(H34+G34))*100 -> #VALUE! | J34: Setembro
G35: =IF(B35="","",(B35-A35)*1440) | H35: =IF(A35="","",(A35-B34)*1440) | I35: =(H35/(H35+G35))*100 -> #VALUE! | J35: Outubro
G36: =IF(B36="","",(B36-A36)*1440) | H36: =IF(A36="","",(A36-B35)*1440) | I36: =(H36/(H36+G36))*100 -> #VALUE! | J36: Novembro
F37: Média Total: | G37: =AVERAGE(G6:G36) -> #DIV/0! | H37: =AVERAGE(H7:H36) -> #DIV/0! | I37: =AVERAGE(I6:I36) -> #VALUE! | J37: Dezembro

Sheet 5
A1: Controle de MTTR, MTBF e Disponibilidade
A3: Máquina: | F3: Responsável:
A5: ='1'!A5 -> Data/Hora Inicial | B5: ='1'!B5 -> Data/Hora Final | C5: ='1'!C5 -> Problema Detectado | D5: ='1'!D5 -> Descrição do Serviço | E5: ='1'!E5 -> Componente Substituído | F5: ='1'!F5 -> Observações | G5: ='1'!G5 -> MTTR (Tempo médio de reparo/minutos) | H5: ='1'!H5 -> MTBF (Tempo médio entre reparos/minuto) | I5: Disponibilidade
G6: =IF(B6="","",(B6-A6)*1440) | I6: =(H6/(H6+G6))*100 -> #VALUE!
G7: =IF(B7="","",(B7-A7)*1440) | H7: =IF(A7="","",(A7-B6)*1440) | I7: =(H7/(H7+G7))*100 -> #VALUE!
G8: =IF(B8="","",(B8-A8)*1440) | H8: =IF(A8="","",(A8-B7)*1440) | I8: =(H8/(H8+G8))*100 -> #VALUE!
G9: =IF(B9="","",(B9-A9)*1440) | H9: =IF(A9="","",(A9-B8)*1440) | I9: =(H9/(H9+G9))*100 -> #VALUE!
G10: =IF(B10="","",(B10-A10)*1440) | H10: =IF(A10="","",(A10-B9)*1440) | I10: =(H10/(H10+G10))*100 -> #VALUE!
G11: =IF(B11="","",(B11-A11)*1440) | H11: =IF(A11="","",(A11-B10)*1440) | I11: =(H11/(H11+G11))*100 -> #VALUE!
G12: =IF(B12="","",(B12-A12)*1440) | H12: =IF(A12="","",(A12-B11)*1440) | I12: =(H12/(H12+G12))*100 -> #VALUE!
G13: =IF(B13="","",(B13-A13)*1440) | H13: =IF(A13="","",(A13-B12)*1440) | I13: =(H13/(H13+G13))*100 -> #VALUE!
G14: =IF(B14="","",(B14-A14)*1440) | H14: =IF(A14="","",(A14-B13)*1440) | I14: =(H14/(H14+G14))*100 -> #VALUE!
G15: =IF(B15="","",(B15-A15)*1440) | H15: =IF(A15="","",(A15-B14)*1440) | I15: =(H15/(H15+G15))*100 -> #VALUE!
G16: =IF(B16="","",(B16-A16)*1440) | H16: =IF(A16="","",(A16-B15)*1440) | I16: =(H16/(H16+G16))*100 -> #VALUE!
G17: =IF(B17="","",(B17-A17)*1440) | H17: =IF(A17="","",(A17-B16)*1440) | I17: =(H17/(H17+G17))*100 -> #VALUE!
G18: =IF(B18="","",(B18-A18)*1440) | H18: =IF(A18="","",(A18-B17)*1440) | I18: =(H18/(H18+G18))*100 -> #VALUE!
... G24: =IF(B24="","",(B24-A24)*1440) | H24: =IF(A24="","",(A24-B23)*1440) | I24: =(H24/(H24+G24))*100 -> #VALUE!
G25: =IF(B25="","",(B25-A25)*1440) | H25: =IF(A25="","",(A25-B24)*1440) | I25: =(H25/(H25+G25))*100 -> #VALUE! | K25: MTTR | L25: MTBF | M25: Disponibilidade
G26: =IF(B26="","",(B26-A26)*1440) | H26: =IF(A26="","",(A26-B25)*1440) | I26: =(H26/(H26+G26))*100 -> #VALUE! | J26: Janeiro
G27: =IF(B27="","",(B27-A27)*1440) | H27: =IF(A27="","",(A27-B26)*1440) | I27: =(H27/(H27+G27))*100 -> #VALUE! | J27: Fevereiro
G28: =IF(B28="","",(B28-A28)*1440) | H28: =IF(A28="","",(A28-B27)*1440) | I28: =(H28/(H28+G28))*100 -> #VALUE! | J28: Março
G29: =IF(B29="","",(B29-A29)*1440) | H29: =IF(A29="","",(A29-B28)*1440) | I29: =(H29/(H29+G29))*100 -> #VALUE! | J29: Abril
G30: =IF(B30="","",(B30-A30)*1440) | H30: =IF(A30="","",(A30-B29)*1440) | I30: =(H30/(H30+G30))*100 -> #VALUE! | J30: Maio
G31: =IF(B31="","",(B31-A31)*1440) | H31: =IF(A31="","",(A31-B30)*1440) | I31: =(H31/(H31+G31))*100 -> #VALUE! | J31: Junho
G32: =IF(B32="","",(B32-A32)*1440) | H32: =IF(A32="","",(A32-B31)*1440) | I32: =(H32/(H32+G32))*100 -> #VALUE! | J32: Julho
G33: =IF(B33="","",(B33-A33)*1440) | H33: =IF(A33="","",(A33-B32)*1440) | I33: =(H33/(H33+G33))*100 -> #VALUE! | J33: Agosto
G34: =IF(B34="","",(B34-A34)*1440) | H34: =IF(A34="","",(A34-B33)*1440) | I34: =(H34/(H34+G34))*100 -> #VALUE! | J34: Setembro
G35: =IF(B35="","",(B35-A35)*1440) | H35: =IF(A35="","",(A35-B34)*1440) | I35: =(H35/(H35+G35))*100 -> #VALUE! | J35: Outubro
G36: =IF(B36="","",(B36-A36)*1440) | H36: =IF(A36="","",(A36-B35)*1440) | I36: =(H36/(H36+G36))*100 -> #VALUE! | J36: Novembro
F37: Média Total: | G37: =AVERAGE(G6:G36) -> #DIV/0! | H37: =AVERAGE(H7:H36) -> #DIV/0! | I37: =AVERAGE(I6:I36) -> #VALUE! | J37: Dezembro

Sheet 6
A1: Controle de MTTR, MTBF e Disponibilidade
A3: Máquina: | F3: Responsável:
A5: ='1'!A5 -> Data/Hora Inicial | B5: ='1'!B5 -> Data/Hora Final | C5: ='1'!C5 -> Problema Detectado | D5: ='1'!D5 -> Descrição do Serviço | E5: ='1'!E5 -> Componente Substituído | F5: ='1'!F5 -> Observações | G5: ='1'!G5 -> MTTR (Tempo médio de reparo/minutos) | H5: ='1'!H5 -> MTBF (Tempo médio entre reparos/minuto) | I5: Disponibilidade
G6: =IF(B6="","",(B6-A6)*1440) | I6: =(H6/(H6+G6))*100 -> #VALUE!
G7: =IF(B7="","",(B7-A7)*1440) | H7: =IF(A7="","",(A7-B6)*1440) | I7: =(H7/(H7+G7))*100 -> #VALUE!
G8: =IF(B8="","",(B8-A8)*1440) | H8: =IF(A8="","",(A8-B7)*1440) | I8: =(H8/(H8+G8))*100 -> #VALUE!
G9: =IF(B9="","",(B9-A9)*1440) | H9: =IF(A9="","",(A9-B8)*1440) | I9: =(H9/(H9+G9))*100 -> #VALUE!
G10: =IF(B10="","",(B10-A10)*1440) | H10: =IF(A10="","",(A10-B9)*1440) | I10: =(H10/(H10+G10))*100 -> #VALUE!
G11: =IF(B11="","",(B11-A11)*1440) | H11: =IF(A11="","",(A11-B10)*1440) | I11: =(H11/(H11+G11))*100 -> #VALUE!
G12: =IF(B12="","",(B12-A12)*1440) | H12: =IF(A12="","",(A12-B11)*1440) | I12: =(H12/(H12+G12))*100 -> #VALUE!
G13: =IF(B13="","",(B13-A13)*1440) | H13: =IF(A13="","",(A13-B12)*1440) | I13: =(H13/(H13+G13))*100 -> #VALUE!
G14: =IF(B14="","",(B14-A14)*1440) | H14: =IF(A14="","",(A14-B13)*1440) | I14: =(H14/(H14+G14))*100 -> #VALUE!
G15: =IF(B15="","",(B15-A15)*1440) | H15: =IF(A15="","",(A15-B14)*1440) | I15: =(H15/(H15+G15))*100 -> #VALUE!
G16: =IF(B16="","",(B16-A16)*1440) | H16: =IF(A16="","",(A16-B15)*1440) | I16: =(H16/(H16+G16))*100 -> #VALUE!
G17: =IF(B17="","",(B17-A17)*1440) | H17: =IF(A17="","",(A17-B16)*1440) | I17: =(H17/(H17+G17))*100 -> #VALUE!
G18: =IF(B18="","",(B18-A18)*1440) | H18: =IF(A18="","",(A18-B17)*1440) | I18: =(H18/(H18+G18))*100 -> #VALUE!
... G24: =IF(B24="","",(B24-A24)*1440) | H24: =IF(A24="","",(A24-B23)*1440) | I24: =(H24/(H24+G24))*100 -> #VALUE!
G25: =IF(B25="","",(B25-A25)*1440) | H25: =IF(A25="","",(A25-B24)*1440) | I25: =(H25/(H25+G25))*100 -> #VALUE! | K25: MTTR | L25: MTBF | M25: Disponibilidade
G26: =IF(B26="","",(B26-A26)*1440) | H26: =IF(A26="","",(A26-B25)*1440) | I26: =(H26/(H26+G26))*100 -> #VALUE! | J26: Janeiro
G27: =IF(B27="","",(B27-A27)*1440) | H27: =IF(A27="","",(A27-B26)*1440) | I27: =(H27/(H27+G27))*100 -> #VALUE! | J27: Fevereiro
G28: =IF(B28="","",(B28-A28)*1440) | H28: =IF(A28="","",(A28-B27)*1440) | I28: =(H28/(H28+G28))*100 -> #VALUE! | J28: Março
G29: =IF(B29="","",(B29-A29)*1440) | H29: =IF(A29="","",(A29-B28)*1440) | I29: =(H29/(H29+G29))*100 -> #VALUE! | J29: Abril
G30: =IF(B30="","",(B30-A30)*1440) | H30: =IF(A30="","",(A30-B29)*1440) | I30: =(H30/(H30+G30))*100 -> #VALUE! | J30: Maio
G31: =IF(B31="","",(B31-A31)*1440) | H31: =IF(A31="","",(A31-B30)*1440) | I31: =(H31/(H31+G31))*100 -> #VALUE! | J31: Junho
G32: =IF(B32="","",(B32-A32)*1440) | H32: =IF(A32="","",(A32-B31)*1440) | I32: =(H32/(H32+G32))*100 -> #VALUE! | J32: Julho
G33: =IF(B33="","",(B33-A33)*1440) | H33: =IF(A33="","",(A33-B32)*1440) | I33: =(H33/(H33+G33))*100 -> #VALUE! | J33: Agosto
G34: =IF(B34="","",(B34-A34)*1440) | H34: =IF(A34="","",(A34-B33)*1440) | I34: =(H34/(H34+G34))*100 -> #VALUE! | J34: Setembro
G35: =IF(B35="","",(B35-A35)*1440) | H35: =IF(A35="","",(A35-B34)*1440) | I35: =(H35/(H35+G35))*100 -> #VALUE! | J35: Outubro
G36: =IF(B36="","",(B36-A36)*1440) | H36: =IF(A36="","",(A36-B35)*1440) | I36: =(H36/(H36+G36))*100 -> #VALUE! | J36: Novembro
F37: Média Total: | G37: =AVERAGE(G6:G36) -> #DIV/0! | H37: =AVERAGE(H7:H36) -> #DIV/0! | I37: =AVERAGE(I6:I36) -> #VALUE! | J37: Dezembro

Sheet 7
A1: Controle de MTTR, MTBF e Disponibilidade
A3: Máquina: | F3: Responsável:
A5: ='1'!A5 -> Data/Hora Inicial | B5: ='1'!B5 -> Data/Hora Final | C5: ='1'!C5 -> Problema Detectado | D5: ='1'!D5 -> Descrição do Serviço | E5: ='1'!E5 -> Componente Substituído | F5: ='1'!F5 -> Observações | G5: ='1'!G5 -> MTTR (Tempo médio de reparo/minutos) | H5: ='1'!H5 -> MTBF (Tempo médio entre reparos/minuto) | I5: Disponibilidade
G6: =IF(B6="","",(B6-A6)*1440) | I6: =(H6/(H6+G6))*100 -> #VALUE!
G7: =IF(B7="","",(B7-A7)*1440) | H7: =IF(A7="","",(A7-B6)*1440) | I7: =(H7/(H7+G7))*100 -> #VALUE!
G8: =IF(B8="","",(B8-A8)*1440) | H8: =IF(A8="","",(A8-B7)*1440) | I8: =(H8/(H8+G8))*100 -> #VALUE!
G9: =IF(B9="","",(B9-A9)*1440) | H9: =IF(A9="","",(A9-B8)*1440) | I9: =(H9/(H9+G9))*100 -> #VALUE!
G10: =IF(B10="","",(B10-A10)*1440) | H10: =IF(A10="","",(A10-B9)*1440) | I10: =(H10/(H10+G10))*100 -> #VALUE!
G11: =IF(B11="","",(B11-A11)*1440) | H11: =IF(A11="","",(A11-B10)*1440) | I11: =(H11/(H11+G11))*100 -> #VALUE!
G12: =IF(B12="","",(B12-A12)*1440) | H12: =IF(A12="","",(A12-B11)*1440) | I12: =(H12/(H12+G12))*100 -> #VALUE!
G13: =IF(B13="","",(B13-A13)*1440) | H13: =IF(A13="","",(A13-B12)*1440) | I13: =(H13/(H13+G13))*100 -> #VALUE!
G14: =IF(B14="","",(B14-A14)*1440) | H14: =IF(A14="","",(A14-B13)*1440) | I14: =(H14/(H14+G14))*100 -> #VALUE!
G15: =IF(B15="","",(B15-A15)*1440) | H15: =IF(A15="","",(A15-B14)*1440) | I15: =(H15/(H15+G15))*100 -> #VALUE!
G16: =IF(B16="","",(B16-A16)*1440) | H16: =IF(A16="","",(A16-B15)*1440) | I16: =(H16/(H16+G16))*100 -> #VALUE!
G17: =IF(B17="","",(B17-A17)*1440) | H17: =IF(A17="","",(A17-B16)*1440) | I17: =(H17/(H17+G17))*100 -> #VALUE!
G18: =IF(B18="","",(B18-A18)*1440) | H18: =IF(A18="","",(A18-B17)*1440) | I18: =(H18/(H18+G18))*100 -> #VALUE!
... G24: =IF(B24="","",(B24-A24)*1440) | H24: =IF(A24="","",(A24-B23)*1440) | I24: =(H24/(H24+G24))*100 -> #VALUE!
G25: =IF(B25="","",(B25-A25)*1440) | H25: =IF(A25="","",(A25-B24)*1440) | I25: =(H25/(H25+G25))*100 -> #VALUE! | K25: MTTR | L25: MTBF | M25: Disponibilidade
G26: =IF(B26="","",(B26-A26)*1440) | H26: =IF(A26="","",(A26-B25)*1440) | I26: =(H26/(H26+G26))*100 -> #VALUE! | J26: Janeiro
G27: =IF(B27="","",(B27-A27)*1440) | H27: =IF(A27="","",(A27-B26)*1440) | I27: =(H27/(H27+G27))*100 -> #VALUE! | J27: Fevereiro
G28: =IF(B28="","",(B28-A28)*1440) | H28: =IF(A28="","",(A28-B27)*1440) | I28: =(H28/(H28+G28))*100 -> #VALUE! | J28: Março
G29: =IF(B29="","",(B29-A29)*1440) | H29: =IF(A29="","",(A29-B28)*1440) | I29: =(H29/(H29+G29))*100 -> #VALUE! | J29: Abril
G30: =IF(B30="","",(B30-A30)*1440) | H30: =IF(A30="","",(A30-B29)*1440) | I30: =(H30/(H30+G30))*100 -> #VALUE! | J30: Maio
G31: =IF(B31="","",(B31-A31)*1440) | H31: =IF(A31="","",(A31-B30)*1440) | I31: =(H31/(H31+G31))*100 -> #VALUE! | J31: Junho
G32: =IF(B32="","",(B32-A32)*1440) | H32: =IF(A32="","",(A32-B31)*1440) | I32: =(H32/(H32+G32))*100 -> #VALUE! | J32: Julho
G33: =IF(B33="","",(B33-A33)*1440) | H33: =IF(A33="","",(A33-B32)*1440) | I33: =(H33/(H33+G33))*100 -> #VALUE! | J33: Agosto
G34: =IF(B34="","",(B34-A34)*1440) | H34: =IF(A34="","",(A34-B33)*1440) | I34: =(H34/(H34+G34))*100 -> #VALUE! | J34: Setembro
G35: =IF(B35="","",(B35-A35)*1440) | H35: =IF(A35="","",(A35-B34)*1440) | I35: =(H35/(H35+G35))*100 -> #VALUE! | J35: Outubro
G36: =IF(B36="","",(B36-A36)*1440) | H36: =IF(A36="","",(A36-B35)*1440) | I36: =(H36/(H36+G36))*100 -> #VALUE! | J36: Novembro
F37: Média Total: | G37: =AVERAGE(G6:G36) -> #DIV/0! | H37: =AVERAGE(H7:H36) -> #DIV/0! | I37: =AVERAGE(I6:I36) -> #VALUE! | J37: Dezembro

Sheet 8
A1: Controle de MTTR, MTBF e Disponibilidade
A3: Máquina: | F3: Responsável:
A5: ='1'!A5 -> Data/Hora Inicial | B5: ='1'!B5 -> Data/Hora Final | C5: ='1'!C5 -> Problema Detectado | D5: ='1'!D5 -> Descrição do Serviço | E5: ='1'!E5 -> Componente Substituído | F5: ='1'!F5 -> Observações | G5: ='1'!G5 -> MTTR (Tempo médio de reparo/minutos) | H5: ='1'!H5 -> MTBF (Tempo médio entre reparos/minuto) | I5: Disponibilidade
G6: =IF(B6="","",(B6-A6)*1440) | I6: =(H6/(H6+G6))*100 -> #VALUE!
G7: =IF(B7="","",(B7-A7)*1440) | H7: =IF(A7="","",(A7-B6)*1440) | I7: =(H7/(H7+G7))*100 -> #VALUE!
G8: =IF(B8="","",(B8-A8)*1440) | H8: =IF(A8="","",(A8-B7)*1440) | I8: =(H8/(H8+G8))*100 -> #VALUE!
G9: =IF(B9="","",(B9-A9)*1440) | H9: =IF(A9="","",(A9-B8)*1440) | I9: =(H9/(H9+G9))*100 -> #VALUE!
G10: =IF(B10="","",(B10-A10)*1440) | H10: =IF(A10="","",(A10-B9)*1440) | I10: =(H10/(H10+G10))*100 -> #VALUE!
G11: =IF(B11="","",(B11-A11)*1440) | H11: =IF(A11="","",(A11-B10)*1440) | I11: =(H11/(H11+G11))*100 -> #VALUE!
G12: =IF(B12="","",(B12-A12)*1440) | H12: =IF(A12="","",(A12-B11)*1440) | I12: =(H12/(H12+G12))*100 -> #VALUE!
G13: =IF(B13="","",(B13-A13)*1440) | H13: =IF(A13="","",(A13-B12)*1440) | I13: =(H13/(H13+G13))*100 -> #VALUE!
G14: =IF(B14="","",(B14-A14)*1440) | H14: =IF(A14="","",(A14-B13)*1440) | I14: =(H14/(H14+G14))*100 -> #VALUE!
G15: =IF(B15="","",(B15-A15)*1440) | H15: =IF(A15="","",(A15-B14)*1440) | I15: =(H15/(H15+G15))*100 -> #VALUE!
G16: =IF(B16="","",(B16-A16)*1440) | H16: =IF(A16="","",(A16-B15)*1440) | I16: =(H16/(H16+G16))*100 -> #VALUE!
G17: =IF(B17="","",(B17-A17)*1440) | H17: =IF(A17="","",(A17-B16)*1440) | I17: =(H17/(H17+G17))*100 -> #VALUE!
G18: =IF(B18="","",(B18-A18)*1440) | H18: =IF(A18="","",(A18-B17)*1440) | I18: =(H18/(H18+G18))*100 -> #VALUE!
... G24: =IF(B24="","",(B24-A24)*1440) | H24: =IF(A24="","",(A24-B23)*1440) | I24: =(H24/(H24+G24))*100 -> #VALUE!
G25: =IF(B25="","",(B25-A25)*1440) | H25: =IF(A25="","",(A25-B24)*1440) | I25: =(H25/(H25+G25))*100 -> #VALUE! | K25: MTTR | L25: MTBF | M25: Disponibilidade
G26: =IF(B26="","",(B26-A26)*1440) | H26: =IF(A26="","",(A26-B25)*1440) | I26: =(H26/(H26+G26))*100 -> #VALUE! | J26: Janeiro
G27: =IF(B27="","",(B27-A27)*1440) | H27: =IF(A27="","",(A27-B26)*1440) | I27: =(H27/(H27+G27))*100 -> #VALUE! | J27: Fevereiro
G28: =IF(B28="","",(B28-A28)*1440) | H28: =IF(A28="","",(A28-B27)*1440) | I28: =(H28/(H28+G28))*100 -> #VALUE! | J28: Março
G29: =IF(B29="","",(B29-A29)*1440) | H29: =IF(A29="","",(A29-B28)*1440) | I29: =(H29/(H29+G29))*100 -> #VALUE! | J29: Abril
G30: =IF(B30="","",(B30-A30)*1440) | H30: =IF(A30="","",(A30-B29)*1440) | I30: =(H30/(H30+G30))*100 -> #VALUE! | J30: Maio
G31: =IF(B31="","",(B31-A31)*1440) | H31: =IF(A31="","",(A31-B30)*1440) | I31: =(H31/(H31+G31))*100 -> #VALUE! | J31: Junho
G32: =IF(B32="","",(B32-A32)*1440) | H32: =IF(A32="","",(A32-B31)*1440) | I32: =(H32/(H32+G32))*100 -> #VALUE! | J32: Julho
G33: =IF(B33="","",(B33-A33)*1440) | H33: =IF(A33="","",(A33-B32)*1440) | I33: =(H33/(H33+G33))*100 -> #VALUE! | J33: Agosto
G34: =IF(B34="","",(B34-A34)*1440) | H34: =IF(A34="","",(A34-B33)*1440) | I34: =(H34/(H34+G34))*100 -> #VALUE! | J34: Setembro
G35: =IF(B35="","",(B35-A35)*1440) | H35: =IF(A35="","",(A35-B34)*1440) | I35: =(H35/(H35+G35))*100 -> #VALUE! | J35: Outubro
G36: =IF(B36="","",(B36-A36)*1440) | H36: =IF(A36="","",(A36-B35)*1440) | I36: =(H36/(H36+G36))*100 -> #VALUE! | J36: Novembro
F37: Média Total: | G37: =AVERAGE(G6:G36) -> #DIV/0! | H37: =AVERAGE(H7:H36) -> #DIV/0! | I37: =AVERAGE(I6:I36) -> #VALUE! | J37: Dezembro

Sheet 9
A1: Controle de MTTR, MTBF e Disponibilidade
A3: Máquina: | F3: Responsável:
A5: ='1'!A5 -> Data/Hora Inicial | B5: ='1'!B5 -> Data/Hora Final | C5: ='1'!C5 -> Problema Detectado | D5: ='1'!D5 -> Descrição do Serviço | E5: ='1'!E5 -> Componente Substituído | F5: ='1'!F5 -> Observações | G5: ='1'!G5 -> MTTR (Tempo médio de reparo/minutos) | H5: ='1'!H5 -> MTBF (Tempo médio entre reparos/minuto) | I5: Disponibilidade
G6: =IF(B6="","",(B6-A6)*1440) | I6: =(H6/(H6+G6))*100 -> #VALUE!
G7: =IF(B7="","",(B7-A7)*1440) | H7: =IF(A7="","",(A7-B6)*1440) | I7: =(H7/(H7+G7))*100 -> #VALUE!
G8: =IF(B8="","",(B8-A8)*1440) | H8: =IF(A8="","",(A8-B7)*1440) | I8: =(H8/(H8+G8))*100 -> #VALUE!
G9: =IF(B9="","",(B9-A9)*1440) | H9: =IF(A9="","",(A9-B8)*1440) | I9: =(H9/(H9+G9))*100 -> #VALUE!
G10: =IF(B10="","",(B10-A10)*1440) | H10: =IF(A10="","",(A10-B9)*1440) | I10: =(H10/(H10+G10))*100 -> #VALUE!
G11: =IF(B11="","",(B11-A11)*1440) | H11: =IF(A11="","",(A11-B10)*1440) | I11: =(H11/(H11+G11))*100 -> #VALUE!
G12: =IF(B12="","",(B12-A12)*1440) | H12: =IF(A12="","",(A12-B11)*1440) | I12: =(H12/(H12+G12))*100 -> #VALUE!
G13: =IF(B13="","",(B13-A13)*1440) | H13: =IF(A13="","",(A13-B12)*1440) | I13: =(H13/(H13+G13))*100 -> #VALUE!
G14: =IF(B14="","",(B14-A14)*1440) | H14: =IF(A14="","",(A14-B13)*1440) | I14: =(H14/(H14+G14))*100 -> #VALUE!
G15: =IF(B15="","",(B15-A15)*1440) | H15: =IF(A15="","",(A15-B14)*1440) | I15: =(H15/(H15+G15))*100 -> #VALUE!
G16: =IF(B16="","",(B16-A16)*1440) | H16: =IF(A16="","",(A16-B15)*1440) | I16: =(H16/(H16+G16))*100 -> #VALUE!
G17: =IF(B17="","",(B17-A17)*1440) | H17: =IF(A17="","",(A17-B16)*1440) | I17: =(H17/(H17+G17))*100 -> #VALUE!
G18: =IF(B18="","",(B18-A18)*1440) | H18: =IF(A18="","",(A18-B17)*1440) | I18: =(H18/(H18+G18))*100 -> #VALUE!
... G24: =IF(B24="","",(B24-A24)*1440) | H24: =IF(A24="","",(A24-B23)*1440) | I24: =(H24/(H24+G24))*100 -> #VALUE!
G25: =IF(B25="","",(B25-A25)*1440) | H25: =IF(A25="","",(A25-B24)*1440) | I25: =(H25/(H25+G25))*100 -> #VALUE! | K25: MTTR | L25: MTBF | M25: Disponibilidade
G26: =IF(B26="","",(B26-A26)*1440) | H26: =IF(A26="","",(A26-B25)*1440) | I26: =(H26/(H26+G26))*100 -> #VALUE! | J26: Janeiro
G27: =IF(B27="","",(B27-A27)*1440) | H27: =IF(A27="","",(A27-B26)*1440) | I27: =(H27/(H27+G27))*100 -> #VALUE! | J27: Fevereiro
G28: =IF(B28="","",(B28-A28)*1440) | H28: =IF(A28="","",(A28-B27)*1440) | I28: =(H28/(H28+G28))*100 -> #VALUE! | J28: Março
G29: =IF(B29="","",(B29-A29)*1440) | H29: =IF(A29="","",(A29-B28)*1440) | I29: =(H29/(H29+G29))*100 -> #VALUE! | J29: Abril
G30: =IF(B30="","",(B30-A30)*1440) | H30: =IF(A30="","",(A30-B29)*1440) | I30: =(H30/(H30+G30))*100 -> #VALUE! | J30: Maio
G31: =IF(B31="","",(B31-A31)*1440) | H31: =IF(A31="","",(A31-B30)*1440) | I31: =(H31/(H31+G31))*100 -> #VALUE! | J31: Junho
G32: =IF(B32="","",(B32-A32)*1440) | H32: =IF(A32="","",(A32-B31)*1440) | I32: =(H32/(H32+G32))*100 -> #VALUE! | J32: Julho
G33: =IF(B33="","",(B33-A33)*1440) | H33: =IF(A33="","",(A33-B32)*1440) | I33: =(H33/(H33+G33))*100 -> #VALUE! | J33: Agosto
G34: =IF(B34="","",(B34-A34)*1440) | H34: =IF(A34="","",(A34-B33)*1440) | I34: =(H34/(H34+G34))*100 -> #VALUE! | J34: Setembro
G35: =IF(B35="","",(B35-A35)*1440) | H35: =IF(A35="","",(A35-B34)*1440) | I35: =(H35/(H35+G35))*100 -> #VALUE! | J35: Outubro
G36: =IF(B36="","",(B36-A36)*1440) | H36: =IF(A36="","",(A36-B35)*1440) | I36: =(H36/(H36+G36))*100 -> #VALUE! | J36: Novembro
F37: Média Total: | G37: =AVERAGE(G6:G36) -> #DIV/0! | H37: =AVERAGE(H7:H36) -> #DIV/0! | I37: =AVERAGE(I6:I36) -> #VALUE! | J37: Dezembro

Sheet 10
A1: Controle de MTTR e MTBFControle de MTTR, MTBF e Disponibilidade
A3: Máquina: | F3: Responsável:
A5: ='1'!A5 -> Data/Hora Inicial | B5: ='1'!B5 -> Data/Hora Final | C5: ='1'!C5 -> Problema Detectado | D5: ='1'!D5 -> Descrição do Serviço | E5: ='1'!E5 -> Componente Substituído | F5: ='1'!F5 -> Observações | G5: ='1'!G5 -> MTTR (Tempo médio de reparo/minutos) | H5: ='1'!H5 -> MTBF (Tempo médio entre reparos/minuto) | I5: Disponibilidade
G6: =IF(B6="","",(B6-A6)*1440) | I6: =(H6/(H6+G6))*100 -> #VALUE!
G7: =IF(B7="","",(B7-A7)*1440) | H7: =IF(A7="","",(A7-B6)*1440) | I7: =(H7/(H7+G7))*100 -> #VALUE!
G8: =IF(B8="","",(B8-A8)*1440) | H8: =IF(A8="","",(A8-B7)*1440) | I8: =(H8/(H8+G8))*100 -> #VALUE!
G9: =IF(B9="","",(B9-A9)*1440) | H9: =IF(A9="","",(A9-B8)*1440) | I9: =(H9/(H9+G9))*100 -> #VALUE!
G10: =IF(B10="","",(B10-A10)*1440) | H10: =IF(A10="","",(A10-B9)*1440) | I10: =(H10/(H10+G10))*100 -> #VALUE!
G11: =IF(B11="","",(B11-A11)*1440) | H11: =IF(A11="","",(A11-B10)*1440) | I11: =(H11/(H11+G11))*100 -> #VALUE!
G12: =IF(B12="","",(B12-A12)*1440) | H12: =IF(A12="","",(A12-B11)*1440) | I12: =(H12/(H12+G12))*100 -> #VALUE!
G13: =IF(B13="","",(B13-A13)*1440) | H13: =IF(A13="","",(A13-B12)*1440) | I13: =(H13/(H13+G13))*100 -> #VALUE!
G14: =IF(B14="","",(B14-A14)*1440) | H14: =IF(A14="","",(A14-B13)*1440) | I14: =(H14/(H14+G14))*100 -> #VALUE!
G15: =IF(B15="","",(B15-A15)*1440) | H15: =IF(A15="","",(A15-B14)*1440) | I15: =(H15/(H15+G15))*100 -> #VALUE!
G16: =IF(B16="","",(B16-A16)*1440) | H16: =IF(A16="","",(A16-B15)*1440) | I16: =(H16/(H16+G16))*100 -> #VALUE!
G17: =IF(B17="","",(B17-A17)*1440) | H17: =IF(A17="","",(A17-B16)*1440) | I17: =(H17/(H17+G17))*100 -> #VALUE!
G18: =IF(B18="","",(B18-A18)*1440) | H18: =IF(A18="","",(A18-B17)*1440) | I18: =(H18/(H18+G18))*100 -> #VALUE!
... G24: =IF(B24="","",(B24-A24)*1440) | H24: =IF(A24="","",(A24-B23)*1440) | I24: =(H24/(H24+G24))*100 -> #VALUE!
G25: =IF(B25="","",(B25-A25)*1440) | H25: =IF(A25="","",(A25-B24)*1440) | I25: =(H25/(H25+G25))*100 -> #VALUE! | K25: MTTR | L25: MTBF | M25: Disponibilidade
G26: =IF(B26="","",(B26-A26)*1440) | H26: =IF(A26="","",(A26-B25)*1440) | I26: =(H26/(H26+G26))*100 -> #VALUE! | J26: Janeiro
G27: =IF(B27="","",(B27-A27)*1440) | H27: =IF(A27="","",(A27-B26)*1440) | I27: =(H27/(H27+G27))*100 -> #VALUE! | J27: Fevereiro
G28: =IF(B28="","",(B28-A28)*1440) | H28: =IF(A28="","",(A28-B27)*1440) | I28: =(H28/(H28+G28))*100 -> #VALUE! | J28: Março
G29: =IF(B29="","",(B29-A29)*1440) | H29: =IF(A29="","",(A29-B28)*1440) | I29: =(H29/(H29+G29))*100 -> #VALUE! | J29: Abril
G30: =IF(B30="","",(B30-A30)*1440) | H30: =IF(A30="","",(A30-B29)*1440) | I30: =(H30/(H30+G30))*100 -> #VALUE! | J30: Maio
G31: =IF(B31="","",(B31-A31)*1440) | H31: =IF(A31="","",(A31-B30)*1440) | I31: =(H31/(H31+G31))*100 -> #VALUE! | J31: Junho
G32: =IF(B32="","",(B32-A32)*1440) | H32: =IF(A32="","",(A32-B31)*1440) | I32: =(H32/(H32+G32))*100 -> #VALUE! | J32: Julho
G33: =IF(B33="","",(B33-A33)*1440) | H33: =IF(A33="","",(A33-B32)*1440) | I33: =(H33/(H33+G33))*100 -> #VALUE! | J33: Agosto
G34: =IF(B34="","",(B34-A34)*1440) | H34: =IF(A34="","",(A34-B33)*1440) | I34: =(H34/(H34+G34))*100 -> #VALUE! | J34: Setembro
G35: =IF(B35="","",(B35-A35)*1440) | H35: =IF(A35="","",(A35-B34)*1440) | I35: =(H35/(H35+G35))*100 -> #VALUE! | J35: Outubro
G36: =IF(B36="","",(B36-A36)*1440) | H36: =IF(A36="","",(A36-B35)*1440) | I36: =(H36/(H36+G36))*100 -> #VALUE! | J36: Novembro
F37: Média Total: | G37: =AVERAGE(G6:G36) -> #DIV/0! | H37: =AVERAGE(H7:H36) -> #DIV/0! | I37: =AVERAGE(I6:I36) -> #VALUE! | J37: Dezembro

Sheet 11
A1: Controle de MTTR, MTBF e Disponibilidade
A3: Máquina: | F3: Responsável:
A5: ='1'!A5 -> Data/Hora Inicial | B5: ='1'!B5 -> Data/Hora Final | C5: ='1'!C5 -> Problema Detectado | D5: ='1'!D5 -> Descrição do Serviço | E5: ='1'!E5 -> Componente Substituído | F5: ='1'!F5 -> Observações | G5: ='1'!G5 -> MTTR (Tempo médio de reparo/minutos) | H5: ='1'!H5 -> MTBF (Tempo médio entre reparos/minuto) | I5: Disponibilidade
G6: =IF(B6="","",(B6-A6)*1440) | I6: =(H6/(H6+G6))*100 -> #VALUE!
G7: =IF(B7="","",(B7-A7)*1440) | H7: =IF(A7="","",(A7-B6)*1440) | I7: =(H7/(H7+G7))*100 -> #VALUE!
G8: =IF(B8="","",(B8-A8)*1440) | H8: =IF(A8="","",(A8-B7)*1440) | I8: =(H8/(H8+G8))*100 -> #VALUE!
G9: =IF(B9="","",(B9-A9)*1440) | H9: =IF(A9="","",(A9-B8)*1440) | I9: =(H9/(H9+G9))*100 -> #VALUE!
G10: =IF(B10="","",(B10-A10)*1440) | H10: =IF(A10="","",(A10-B9)*1440) | I10: =(H10/(H10+G10))*100 -> #VALUE!
G11: =IF(B11="","",(B11-A11)*1440) | H11: =IF(A11="","",(A11-B10)*1440) | I11: =(H11/(H11+G11))*100 -> #VALUE!
G12: =IF(B12="","",(B12-A12)*1440) | H12: =IF(A12="","",(A12-B11)*1440) | I12: =(H12/(H12+G12))*100 -> #VALUE!
G13: =IF(B13="","",(B13-A13)*1440) | H13: =IF(A13="","",(A13-B12)*1440) | I13: =(H13/(H13+G13))*100 -> #VALUE!
G14: =IF(B14="","",(B14-A14)*1440) | H14: =IF(A14="","",(A14-B13)*1440) | I14: =(H14/(H14+G14))*100 -> #VALUE!
G15: =IF(B15="","",(B15-A15)*1440) | H15: =IF(A15="","",(A15-B14)*1440) | I15: =(H15/(H15+G15))*100 -> #VALUE!
G16: =IF(B16="","",(B16-A16)*1440) | H16: =IF(A16="","",(A16-B15)*1440) | I16: =(H16/(H16+G16))*100 -> #VALUE!
G17: =IF(B17="","",(B17-A17)*1440) | H17: =IF(A17="","",(A17-B16)*1440) | I17: =(H17/(H17+G17))*100 -> #VALUE!
G18: =IF(B18="","",(B18-A18)*1440) | H18: =IF(A18="","",(A18-B17)*1440) | I18: =(H18/(H18+G18))*100 -> #VALUE!
... G24: =IF(B24="","",(B24-A24)*1440) | H24: =IF(A24="","",(A24-B23)*1440) | I24: =(H24/(H24+G24))*100 -> #VALUE!
G25: =IF(B25="","",(B25-A25)*1440) | H25: =IF(A25="","",(A25-B24)*1440) | I25: =(H25/(H25+G25))*100 -> #VALUE! | K25: MTTR | L25: MTBF | M25: Disponibilidade
G26: =IF(B26="","",(B26-A26)*1440) | H26: =IF(A26="","",(A26-B25)*1440) | I26: =(H26/(H26+G26))*100 -> #VALUE! | J26: Janeiro
G27: =IF(B27="","",(B27-A27)*1440) | H27: =IF(A27="","",(A27-B26)*1440) | I27: =(H27/(H27+G27))*100 -> #VALUE! | J27: Fevereiro
G28: =IF(B28="","",(B28-A28)*1440) | H28: =IF(A28="","",(A28-B27)*1440) | I28: =(H28/(H28+G28))*100 -> #VALUE! | J28: Março
G29: =IF(B29="","",(B29-A29)*1440) | H29: =IF(A29="","",(A29-B28)*1440) | I29: =(H29/(H29+G29))*100 -> #VALUE! | J29: Abril
G30: =IF(B30="","",(B30-A30)*1440) | H30: =IF(A30="","",(A30-B29)*1440) | I30: =(H30/(H30+G30))*100 -> #VALUE! | J30: Maio
G31: =IF(B31="","",(B31-A31)*1440) | H31: =IF(A31="","",(A31-B30)*1440) | I31: =(H31/(H31+G31))*100 -> #VALUE! | J31: Junho
G32: =IF(B32="","",(B32-A32)*1440) | H32: =IF(A32="","",(A32-B31)*1440) | I32: =(H32/(H32+G32))*100 -> #VALUE! | J32: Julho
G33: =IF(B33="","",(B33-A33)*1440) | H33: =IF(A33="","",(A33-B32)*1440) | I33: =(H33/(H33+G33))*100 -> #VALUE! | J33: Agosto
G34: =IF(B34="","",(B34-A34)*1440) | H34: =IF(A34="","",(A34-B33)*1440) | I34: =(H34/(H34+G34))*100 -> #VALUE! | J34: Setembro
G35: =IF(B35="","",(B35-A35)*1440) | H35: =IF(A35="","",(A35-B34)*1440) | I35: =(H35/(H35+G35))*100 -> #VALUE! | J35: Outubro
G36: =IF(B36="","",(B36-A36)*1440) | H36: =IF(A36="","",(A36-B35)*1440) | I36: =(H36/(H36+G36))*100 -> #VALUE! | J36: Novembro
F37: Média Total: | G37: =AVERAGE(G6:G36) -> #DIV/0! | H37: =AVERAGE(H7:H36) -> #DIV/0! | I37: =AVERAGE(I6:I36) -> #VALUE! | J37: Dezembro

Sheet 12
A1: Controle de MTTR, MTBF e Disponibilidade
A3: Máquina: | F3: Responsável:
A5: ='1'!A5 -> Data/Hora Inicial | B5: ='1'!B5 -> Data/Hora Final | C5: ='1'!C5 -> Problema Detectado | D5: ='1'!D5 -> Descrição do Serviço | E5: ='1'!E5 -> Componente Substituído | F5: ='1'!F5 -> Observações | G5: ='1'!G5 -> MTTR (Tempo médio de reparo/minutos) | H5: ='1'!H5 -> MTBF (Tempo médio entre reparos/minuto) | I5: Disponibilidade
G6: =IF(B6="","",(B6-A6)*1440) | I6: =(H6/(H6+G6))*100 -> #VALUE!
G7: =IF(B7="","",(B7-A7)*1440) | H7: =IF(A7="","",(A7-B6)*1440) | I7: =(H7/(H7+G7))*100 -> #VALUE!
G8: =IF(B8="","",(B8-A8)*1440) | H8: =IF(A8="","",(A8-B7)*1440) | I8: =(H8/(H8+G8))*100 -> #VALUE!
G9: =IF(B9="","",(B9-A9)*1440) | H9: =IF(A9="","",(A9-B8)*1440) | I9: =(H9/(H9+G9))*100 -> #VALUE!
G10: =IF(B10="","",(B10-A10)*1440) | H10: =IF(A10="","",(A10-B9)*1440) | I10: =(H10/(H10+G10))*100 -> #VALUE!
G11: =IF(B11="","",(B11-A11)*1440) | H11: =IF(A11="","",(A11-B10)*1440) | I11: =(H11/(H11+G11))*100 -> #VALUE!
G12: =IF(B12="","",(B12-A12)*1440) | H12: =IF(A12="","",(A12-B11)*1440) | I12: =(H12/(H12+G12))*100 -> #VALUE!
G13: =IF(B13="","",(B13-A13)*1440) | H13: =IF(A13="","",(A13-B12)*1440) | I13: =(H13/(H13+G13))*100 -> #VALUE!
G14: =IF(B14="","",(B14-A14)*1440) | H14: =IF(A14="","",(A14-B13)*1440) | I14: =(H14/(H14+G14))*100 -> #VALUE!
G15: =IF(B15="","",(B15-A15)*1440) | H15: =IF(A15="","",(A15-B14)*1440) | I15: =(H15/(H15+G15))*100 -> #VALUE!
G16: =IF(B16="","",(B16-A16)*1440) | H16: =IF(A16="","",(A16-B15)*1440) | I16: =(H16/(H16+G16))*100 -> #VALUE!
G17: =IF(B17="","",(B17-A17)*1440) | H17: =IF(A17="","",(A17-B16)*1440) | I17: =(H17/(H17+G17))*100 -> #VALUE!
G18: =IF(B18="","",(B18-A18)*1440) | H18: =IF(A18="","",(A18-B17)*1440) | I18: =(H18/(H18+G18))*100 -> #VALUE!
... G24: =IF(B24="","",(B24-A24)*1440) | H24: =IF(A24="","",(A24-B23)*1440) | I24: =(H24/(H24+G24))*100 -> #VALUE!
G25: =IF(B25="","",(B25-A25)*1440) | H25: =IF(A25="","",(A25-B24)*1440) | I25: =(H25/(H25+G25))*100 -> #VALUE! | K25: MTTR | L25: MTBF | M25: Disponibilidade
G26: =IF(B26="","",(B26-A26)*1440) | H26: =IF(A26="","",(A26-B25)*1440) | I26: =(H26/(H26+G26))*100 -> #VALUE! | J26: Janeiro
G27: =IF(B27="","",(B27-A27)*1440) | H27: =IF(A27="","",(A27-B26)*1440) | I27: =(H27/(H27+G27))*100 -> #VALUE! | J27: Fevereiro
G28: =IF(B28="","",(B28-A28)*1440) | H28: =IF(A28="","",(A28-B27)*1440) | I28: =(H28/(H28+G28))*100 -> #VALUE! | J28: Março
G29: =IF(B29="","",(B29-A29)*1440) | H29: =IF(A29="","",(A29-B28)*1440) | I29: =(H29/(H29+G29))*100 -> #VALUE! | J29: Abril
G30: =IF(B30="","",(B30-A30)*1440) | H30: =IF(A30="","",(A30-B29)*1440) | I30: =(H30/(H30+G30))*100 -> #VALUE! | J30: Maio
G31: =IF(B31="","",(B31-A31)*1440) | H31: =IF(A31="","",(A31-B30)*1440) | I31: =(H31/(H31+G31))*100 -> #VALUE! | J31: Junho
G32: =IF(B32="","",(B32-A32)*1440) | H32: =IF(A32="","",(A32-B31)*1440) | I32: =(H32/(H32+G32))*100 -> #VALUE! | J32: Julho
G33: =IF(B33="","",(B33-A33)*1440) | H33: =IF(A33="","",(A33-B32)*1440) | I33: =(H33/(H33+G33))*100 -> #VALUE! | J33: Agosto
G34: =IF(B34="","",(B34-A34)*1440) | H34: =IF(A34="","",(A34-B33)*1440) | I34: =(H34/(H34+G34))*100 -> #VALUE! | J34: Setembro
G35: =IF(B35="","",(B35-A35)*1440) | H35: =IF(A35="","",(A35-B34)*1440) | I35: =(H35/(H35+G35))*100 -> #VALUE! | J35: Outubro
G36: =IF(B36="","",(B36-A36)*1440) | H36: =IF(A36="","",(A36-B35)*1440) | I36: =(H36/(H36+G36))*100 -> #VALUE! | J36: Novembro
F37: Média Total: | G37: =AVERAGE(G6:G36) -> #DIV/0! | H37: =AVERAGE(H7:H36) -> #DIV/0! | I37: =AVERAGE(I6:I36) -> #VALUE! | J37: Dezembro

Sheet 13
A1: Controle de MTTR, MTBF e Disponibilidade
A3: Máquina: | F3: Responsável:
A5: ='1'!A5 -> Data/Hora Inicial | B5: ='1'!B5 -> Data/Hora Final | C5: ='1'!C5 -> Problema Detectado | D5: ='1'!D5 -> Descrição do Serviço | E5: ='1'!E5 -> Componente Substituído | F5: ='1'!F5 -> Observações | G5: ='1'!G5 -> MTTR (Tempo médio de reparo/minutos) | H5: ='1'!H5 -> MTBF (Tempo médio entre reparos/minuto) | I5: Disponibilidade
G6: =IF(B6="","",(B6-A6)*1440) | I6: =(H6/(H6+G6))*100 -> #VALUE!
G7: =IF(B7="","",(B7-A7)*1440) | H7: =IF(A7="","",(A7-B6)*1440) | I7: =(H7/(H7+G7))*100 -> #VALUE!
G8: =IF(B8="","",(B8-A8)*1440) | H8: =IF(A8="","",(A8-B7)*1440) | I8: =(H8/(H8+G8))*100 -> #VALUE!
G9: =IF(B9="","",(B9-A9)*1440) | H9: =IF(A9="","",(A9-B8)*1440) | I9: =(H9/(H9+G9))*100 -> #VALUE!
G10: =IF(B10="","",(B10-A10)*1440) | H10: =IF(A10="","",(A10-B9)*1440) | I10: =(H10/(H10+G10))*100 -> #VALUE!
G11: =IF(B11="","",(B11-A11)*1440) | H11: =IF(A11="","",(A11-B10)*1440) | I11: =(H11/(H11+G11))*100 -> #VALUE!
G12: =IF(B12="","",(B12-A12)*1440) | H12: =IF(A12="","",(A12-B11)*1440) | I12: =(H12/(H12+G12))*100 -> #VALUE!
G13: =IF(B13="","",(B13-A13)*1440) | H13: =IF(A13="","",(A13-B12)*1440) | I13: =(H13/(H13+G13))*100 -> #VALUE!
G14: =IF(B14="","",(B14-A14)*1440) | H14: =IF(A14="","",(A14-B13)*1440) | I14: =(H14/(H14+G14))*100 -> #VALUE!
G15: =IF(B15="","",(B15-A15)*1440) | H15: =IF(A15="","",(A15-B14)*1440) | I15: =(H15/(H15+G15))*100 -> #VALUE!
G16: =IF(B16="","",(B16-A16)*1440) | H16: =IF(A16="","",(A16-B15)*1440) | I16: =(H16/(H16+G16))*100 -> #VALUE!
G17: =IF(B17="","",(B17-A17)*1440) | H17: =IF(A17="","",(A17-B16)*1440) | I17: =(H17/(H17+G17))*100 -> #VALUE!
G18: =IF(B18="","",(B18-A18)*1440) | H18: =IF(A18="","",(A18-B17)*1440) | I18: =(H18/(H18+G18))*100 -> #VALUE!
... G24: =IF(B24="","",(B24-A24)*1440) | H24: =IF(A24="","",(A24-B23)*1440) | I24: =(H24/(H24+G24))*100 -> #VALUE!
G25: =IF(B25="","",(B25-A25)*1440) | H25: =IF(A25="","",(A25-B24)*1440) | I25: =(H25/(H25+G25))*100 -> #VALUE! | K25: MTTR | L25: MTBF | M25: Disponibilidade
G26: =IF(B26="","",(B26-A26)*1440) | H26: =IF(A26="","",(A26-B25)*1440) | I26: =(H26/(H26+G26))*100 -> #VALUE! | J26: Janeiro
G27: =IF(B27="","",(B27-A27)*1440) | H27: =IF(A27="","",(A27-B26)*1440) | I27: =(H27/(H27+G27))*100 -> #VALUE! | J27: Fevereiro
G28: =IF(B28="","",(B28-A28)*1440) | H28: =IF(A28="","",(A28-B27)*1440) | I28: =(H28/(H28+G28))*100 -> #VALUE! | J28: Março
G29: =IF(B29="","",(B29-A29)*1440) | H29: =IF(A29="","",(A29-B28)*1440) | I29: =(H29/(H29+G29))*100 -> #VALUE! | J29: Abril
G30: =IF(B30="","",(B30-A30)*1440) | H30: =IF(A30="","",(A30-B29)*1440) | I30: =(H30/(H30+G30))*100 -> #VALUE! | J30: Maio
G31: =IF(B31="","",(B31-A31)*1440) | H31: =IF(A31="","",(A31-B30)*1440) | I31: =(H31/(H31+G31))*100 -> #VALUE! | J31: Junho
G32: =IF(B32="","",(B32-A32)*1440) | H32: =IF(A32="","",(A32-B31)*1440) | I32: =(H32/(H32+G32))*100 -> #VALUE! | J32: Julho
G33: =IF(B33="","",(B33-A33)*1440) | H33: =IF(A33="","",(A33-B32)*1440) | I33: =(H33/(H33+G33))*100 -> #VALUE! | J33: Agosto
G34: =IF(B34="","",(B34-A34)*1440) | H34: =IF(A34="","",(A34-B33)*1440) | I34: =(H34/(H34+G34))*100 -> #VALUE! | J34: Setembro
G35: =IF(B35="","",(B35-A35)*1440) | H35: =IF(A35="","",(A35-B34)*1440) | I35: =(H35/(H35+G35))*100 -> #VALUE! | J35: Outubro
G36: =IF(B36="","",(B36-A36)*1440) | H36: =IF(A36="","",(A36-B35)*1440) | I36: =(H36/(H36+G36))*100 -> #VALUE! | J36: Novembro
F37: Média Total: | G37: =AVERAGE(G6:G36) -> #DIV/0! | H37: =AVERAGE(H7:H36) -> #DIV/0! | I37: =AVERAGE(I6:I36) -> #VALUE! | J37: Dezembro

Sheet 14
A1: Controle de MTTR, MTBF e Disponibilidade
A3: Máquina: | F3: Responsável:
A5: ='1'!A5 -> Data/Hora Inicial | B5: ='1'!B5 -> Data/Hora Final | C5: ='1'!C5 -> Problema Detectado | D5: ='1'!D5 -> Descrição do Serviço | E5: ='1'!E5 -> Componente Substituído | F5: ='1'!F5 -> Observações | G5: ='1'!G5 -> MTTR (Tempo médio de reparo/minutos) | H5: ='1'!H5 -> MTBF (Tempo médio entre reparos/minuto) | I5: Disponibilidade
G6: =IF(B6="","",(B6-A6)*1440) | I6: =(H6/(H6+G6))*100 -> #VALUE!
G7: =IF(B7="","",(B7-A7)*1440) | H7: =IF(A7="","",(A7-B6)*1440) | I7: =(H7/(H7+G7))*100 -> #VALUE!
G8: =IF(B8="","",(B8-A8)*1440) | H8: =IF(A8="","",(A8-B7)*1440) | I8: =(H8/(H8+G8))*100 -> #VALUE!
G9: =IF(B9="","",(B9-A9)*1440) | H9: =IF(A9="","",(A9-B8)*1440) | I9: =(H9/(H9+G9))*100 -> #VALUE!
G10: =IF(B10="","",(B10-A10)*1440) | H10: =IF(A10="","",(A10-B9)*1440) | I10: =(H10/(H10+G10))*100 -> #VALUE!
G11: =IF(B11="","",(B11-A11)*1440) | H11: =IF(A11="","",(A11-B10)*1440) | I11: =(H11/(H11+G11))*100 -> #VALUE!
G12: =IF(B12="","",(B12-A12)*1440) | H12: =IF(A12="","",(A12-B11)*1440) | I12: =(H12/(H12+G12))*100 -> #VALUE!
G13: =IF(B13="","",(B13-A13)*1440) | H13: =IF(A13="","",(A13-B12)*1440) | I13: =(H13/(H13+G13))*100 -> #VALUE!
G14: =IF(B14="","",(B14-A14)*1440) | H14: =IF(A14="","",(A14-B13)*1440) | I14: =(H14/(H14+G14))*100 -> #VALUE!
G15: =IF(B15="","",(B15-A15)*1440) | H15: =IF(A15="","",(A15-B14)*1440) | I15: =(H15/(H15+G15))*100 -> #VALUE!
G16: =IF(B16="","",(B16-A16)*1440) | H16: =IF(A16="","",(A16-B15)*1440) | I16: =(H16/(H16+G16))*100 -> #VALUE!
G17: =IF(B17="","",(B17-A17)*1440) | H17: =IF(A17="","",(A17-B16)*1440) | I17: =(H17/(H17+G17))*100 -> #VALUE!
G18: =IF(B18="","",(B18-A18)*1440) | H18: =IF(A18="","",(A18-B17)*1440) | I18: =(H18/(H18+G18))*100 -> #VALUE!
... G24: =IF(B24="","",(B24-A24)*1440) | H24: =IF(A24="","",(A24-B23)*1440) | I24: =(H24/(H24+G24))*100 -> #VALUE!
G25: =IF(B25="","",(B25-A25)*1440) | H25: =IF(A25="","",(A25-B24)*1440) | I25: =(H25/(H25+G25))*100 -> #VALUE! | K25: MTTR | L25: MTBF | M25: Disponibilidade
G26: =IF(B26="","",(B26-A26)*1440) | H26: =IF(A26="","",(A26-B25)*1440) | I26: =(H26/(H26+G26))*100 -> #VALUE! | J26: Janeiro
G27: =IF(B27="","",(B27-A27)*1440) | H27: =IF(A27="","",(A27-B26)*1440) | I27: =(H27/(H27+G27))*100 -> #VALUE! | J27: Fevereiro
G28: =IF(B28="","",(B28-A28)*1440) | H28: =IF(A28="","",(A28-B27)*1440) | I28: =(H28/(H28+G28))*100 -> #VALUE! | J28: Março
G29: =IF(B29="","",(B29-A29)*1440) | H29: =IF(A29="","",(A29-B28)*1440) | I29: =(H29/(H29+G29))*100 -> #VALUE! | J29: Abril
G30: =IF(B30="","",(B30-A30)*1440) | H30: =IF(A30="","",(A30-B29)*1440) | I30: =(H30/(H30+G30))*100 -> #VALUE! | J30: Maio
G31: =IF(B31="","",(B31-A31)*1440) | H31: =IF(A31="","",(A31-B30)*1440) | I31: =(H31/(H31+G31))*100 -> #VALUE! | J31: Junho
G32: =IF(B32="","",(B32-A32)*1440) | H32: =IF(A32="","",(A32-B31)*1440) | I32: =(H32/(H32+G32))*100 -> #VALUE! | J32: Julho
G33: =IF(B33="","",(B33-A33)*1440) | H33: =IF(A33="","",(A33-B32)*1440) | I33: =(H33/(H33+G33))*100 -> #VALUE! | J33: Agosto
G34: =IF(B34="","",(B34-A34)*1440) | H34: =IF(A34="","",(A34-B33)*1440) | I34: =(H34/(H34+G34))*100 -> #VALUE! | J34: Setembro
G35: =IF(B35="","",(B35-A35)*1440) | H35: =IF(A35="","",(A35-B34)*1440) | I35: =(H35/(H35+G35))*100 -> #VALUE! | J35: Outubro
G36: =IF(B36="","",(B36-A36)*1440) | H36: =IF(A36="","",(A36-B35)*1440) | I36: =(H36/(H36+G36))*100 -> #VALUE! | J36: Novembro
F37: Média Total: | G37: =AVERAGE(G6:G36) -> #DIV/0! | H37: =AVERAGE(H7:H36) -> #DIV/0! | I37: =AVERAGE(I6:I36) -> #VALUE! | J37: Dezembro

Sheet 15
A1: Controle de MTTR, MTBF e Disponibilidade
A3: Máquina: | F3: Responsável:
A5: ='1'!A5 -> Data/Hora Inicial | B5: ='1'!B5 -> Data/Hora Final | C5: ='1'!C5 -> Problema Detectado | D5: ='1'!D5 -> Descrição do Serviço | E5: ='1'!E5 -> Componente Substituído | F5: ='1'!F5 -> Observações | G5: ='1'!G5 -> MTTR (Tempo médio de reparo/minutos) | H5: ='1'!H5 -> MTBF (Tempo médio entre reparos/minuto) | I5: Disponibilidade
G6: =IF(B6="","",(B6-A6)*1440) | I6: =(H6/(H6+G6))*100 -> #VALUE!
G7: =IF(B7="","",(B7-A7)*1440) | H7: =IF(A7="","",(A7-B6)*1440) | I7: =(H7/(H7+G7))*100 -> #VALUE!
G8: =IF(B8="","",(B8-A8)*1440) | H8: =IF(A8="","",(A8-B7)*1440) | I8: =(H8/(H8+G8))*100 -> #VALUE!
G9: =IF(B9="","",(B9-A9)*1440) | H9: =IF(A9="","",(A9-B8)*1440) | I9: =(H9/(H9+G9))*100 -> #VALUE!
G10: =IF(B10="","",(B10-A10)*1440) | H10: =IF(A10="","",(A10-B9)*1440) | I10: =(H10/(H10+G10))*100 -> #VALUE!
G11: =IF(B11="","",(B11-A11)*1440) | H11: =IF(A11="","",(A11-B10)*1440) | I11: =(H11/(H11+G11))*100 -> #VALUE!
G12: =IF(B12="","",(B12-A12)*1440) | H12: =IF(A12="","",(A12-B11)*1440) | I12: =(H12/(H12+G12))*100 -> #VALUE!
G13: =IF(B13="","",(B13-A13)*1440) | H13: =IF(A13="","",(A13-B12)*1440) | I13: =(H13/(H13+G13))*100 -> #VALUE!
G14: =IF(B14="","",(B14-A14)*1440) | H14: =IF(A14="","",(A14-B13)*1440) | I14: =(H14/(H14+G14))*100 -> #VALUE!
G15: =IF(B15="","",(B15-A15)*1440) | H15: =IF(A15="","",(A15-B14)*1440) | I15: =(H15/(H15+G15))*100 -> #VALUE!
G16: =IF(B16="","",(B16-A16)*1440) | H16: =IF(A16="","",(A16-B15)*1440) | I16: =(H16/(H16+G16))*100 -> #VALUE!
G17: =IF(B17="","",(B17-A17)*1440) | H17: =IF(A17="","",(A17-B16)*1440) | I17: =(H17/(H17+G17))*100 -> #VALUE!
G18: =IF(B18="","",(B18-A18)*1440) | H18: =IF(A18="","",(A18-B17)*1440) | I18: =(H18/(H18+G18))*100 -> #VALUE!
... G24: =IF(B24="","",(B24-A24)*1440) | H24: =IF(A24="","",(A24-B23)*1440) | I24: =(H24/(H24+G24))*100 -> #VALUE!
G25: =IF(B25="","",(B25-A25)*1440) | H25: =IF(A25="","",(A25-B24)*1440) | I25: =(H25/(H25+G25))*100 -> #VALUE! | K25: MTTR | L25: MTBF | M25: Disponibilidade
G26: =IF(B26="","",(B26-A26)*1440) | H26: =IF(A26="","",(A26-B25)*1440) | I26: =(H26/(H26+G26))*100 -> #VALUE! | J26: Janeiro
G27: =IF(B27="","",(B27-A27)*1440) | H27: =IF(A27="","",(A27-B26)*1440) | I27: =(H27/(H27+G27))*100 -> #VALUE! | J27: Fevereiro
G28: =IF(B28="","",(B28-A28)*1440) | H28: =IF(A28="","",(A28-B27)*1440) | I28: =(H28/(H28+G28))*100 -> #VALUE! | J28: Março
G29: =IF(B29="","",(B29-A29)*1440) | H29: =IF(A29="","",(A29-B28)*1440) | I29: =(H29/(H29+G29))*100 -> #VALUE! | J29: Abril
G30: =IF(B30="","",(B30-A30)*1440) | H30: =IF(A30="","",(A30-B29)*1440) | I30: =(H30/(H30+G30))*100 -> #VALUE! | J30: Maio
G31: =IF(B31="","",(B31-A31)*1440) | H31: =IF(A31="","",(A31-B30)*1440) | I31: =(H31/(H31+G31))*100 -> #VALUE! | J31: Junho
G32: =IF(B32="","",(B32-A32)*1440) | H32: =IF(A32="","",(A32-B31)*1440) | I32: =(H32/(H32+G32))*100 -> #VALUE! | J32: Julho
G33: =IF(B33="","",(B33-A33)*1440) | H33: =IF(A33="","",(A33-B32)*1440) | I33: =(H33/(H33+G33))*100 -> #VALUE! | J33: Agosto
G34: =IF(B34="","",(B34-A34)*1440) | H34: =IF(A34="","",(A34-B33)*1440) | I34: =(H34/(H34+G34))*100 -> #VALUE! | J34: Setembro
G35: =IF(B35="","",(B35-A35)*1440) | H35: =IF(A35="","",(A35-B34)*1440) | I35: =(H35/(H35+G35))*100 -> #VALUE! | J35: Outubro
G36: =IF(B36="","",(B36-A36)*1440) | H36: =IF(A36="","",(A36-B35)*1440) | I36: =(H36/(H36+G36))*100 -> #VALUE! | J36: Novembro
F37: Média Total: | G37: =AVERAGE(G6:G36) -> #DIV/0! | H37: =AVERAGE(H7:H36) -> #DIV/0! | I37: =AVERAGE(I6:I36) -> #VALUE! | J37: Dezembro

Sheet 16
A1: Controle de MTTR, MTBF e Disponibilidade
A3: Máquina: | F3: Responsável:
A5: ='1'!A5 -> Data/Hora Inicial | B5: ='1'!B5 -> Data/Hora Final | C5: ='1'!C5 -> Problema Detectado | D5: ='1'!D5 -> Descrição do Serviço | E5: ='1'!E5 -> Componente Substituído | F5: ='1'!F5 -> Observações | G5: ='1'!G5 -> MTTR (Tempo médio de reparo/minutos) | H5: ='1'!H5 -> MTBF (Tempo médio entre reparos/minuto) | I5: Disponibilidade
G6: =IF(B6="","",(B6-A6)*1440) | I6: =(H6/(H6+G6))*100 -> #VALUE!
G7: =IF(B7="","",(B7-A7)*1440) | H7: =IF(A7="","",(A7-B6)*1440) | I7: =(H7/(H7+G7))*100 -> #VALUE!
G8: =IF(B8="","",(B8-A8)*1440) | H8: =IF(A8="","",(A8-B7)*1440) | I8: =(H8/(H8+G8))*100 -> #VALUE!
G9: =IF(B9="","",(B9-A9)*1440) | H9: =IF(A9="","",(A9-B8)*1440) | I9: =(H9/(H9+G9))*100 -> #VALUE!
G10: =IF(B10="","",(B10-A10)*1440) | H10: =IF(A10="","",(A10-B9)*1440) | I10: =(H10/(H10+G10))*100 -> #VALUE!
G11: =IF(B11="","",(B11-A11)*1440) | H11: =IF(A11="","",(A11-B10)*1440) | I11: =(H11/(H11+G11))*100 -> #VALUE!
G12: =IF(B12="","",(B12-A12)*1440) | H12: =IF(A12="","",(A12-B11)*1440) | I12: =(H12/(H12+G12))*100 -> #VALUE!
G13: =IF(B13="","",(B13-A13)*1440) | H13: =IF(A13="","",(A13-B12)*1440) | I13: =(H13/(H13+G13))*100 -> #VALUE!
G14: =IF(B14="","",(B14-A14)*1440) | H14: =IF(A14="","",(A14-B13)*1440) | I14: =(H14/(H14+G14))*100 -> #VALUE!
G15: =IF(B15="","",(B15-A15)*1440) | H15: =IF(A15="","",(A15-B14)*1440) | I15: =(H15/(H15+G15))*100 -> #VALUE!
G16: =IF(B16="","",(B16-A16)*1440) | H16: =IF(A16="","",(A16-B15)*1440) | I16: =(H16/(H16+G16))*100 -> #VALUE!
G17: =IF(B17="","",(B17-A17)*1440) | H17: =IF(A17="","",(A17-B16)*1440) | I17: =(H17/(H17+G17))*100 -> #VALUE!
G18: =IF(B18="","",(B18-A18)*1440) | H18: =IF(A18="","",(A18-B17)*1440) | I18: =(H18/(H18+G18))*100 -> #VALUE!
... G24: =IF(B24="","",(B24-A24)*1440) | H24: =IF(A24="","",(A24-B23)*1440) | I24: =(H24/(H24+G24))*100 -> #VALUE!
G25: =IF(B25="","",(B25-A25)*1440) | H25: =IF(A25="","",(A25-B24)*1440) | I25: =(H25/(H25+G25))*100 -> #VALUE! | K25: MTTR | L25: MTBF | M25: Disponibilidade
G26: =IF(B26="","",(B26-A26)*1440) | H26: =IF(A26="","",(A26-B25)*1440) | I26: =(H26/(H26+G26))*100 -> #VALUE! | J26: Janeiro
G27: =IF(B27="","",(B27-A27)*1440) | H27: =IF(A27="","",(A27-B26)*1440) | I27: =(H27/(H27+G27))*100 -> #VALUE! | J27: Fevereiro
G28: =IF(B28="","",(B28-A28)*1440) | H28: =IF(A28="","",(A28-B27)*1440) | I28: =(H28/(H28+G28))*100 -> #VALUE! | J28: Março
G29: =IF(B29="","",(B29-A29)*1440) | H29: =IF(A29="","",(A29-B28)*1440) | I29: =(H29/(H29+G29))*100 -> #VALUE! | J29: Abril
G30: =IF(B30="","",(B30-A30)*1440) | H30: =IF(A30="","",(A30-B29)*1440) | I30: =(H30/(H30+G30))*100 -> #VALUE! | J30: Maio
G31: =IF(B31="","",(B31-A31)*1440) | H31: =IF(A31="","",(A31-B30)*1440) | I31: =(H31/(H31+G31))*100 -> #VALUE! | J31: Junho
G32: =IF(B32="","",(B32-A32)*1440) | H32: =IF(A32="","",(A32-B31)*1440) | I32: =(H32/(H32+G32))*100 -> #VALUE! | J32: Julho
G33: =IF(B33="","",(B33-A33)*1440) | H33: =IF(A33="","",(A33-B32)*1440) | I33: =(H33/(H33+G33))*100 -> #VALUE! | J33: Agosto
G34: =IF(B34="","",(B34-A34)*1440) | H34: =IF(A34="","",(A34-B33)*1440) | I34: =(H34/(H34+G34))*100 -> #VALUE! | J34: Setembro
G35: =IF(B35="","",(B35-A35)*1440) | H35: =IF(A35="","",(A35-B34)*1440) | I35: =(H35/(H35+G35))*100 -> #VALUE! | J35: Outubro
G36: =IF(B36="","",(B36-A36)*1440) | H36: =IF(A36="","",(A36-B35)*1440) | I36: =(H36/(H36+G36))*100 -> #VALUE! | J36: Novembro
F37: Média Total: | G37: =AVERAGE(G6:G36) -> #DIV/0! | H37: =AVERAGE(H7:H36) -> #DIV/0! | I37: =AVERAGE(I6:I36) -> #VALUE! | J37: Dezembro

Sheet TOTALIZAÇÃO
A1: TOTALIZAÇÃO MTTR, MTBF e disponibilidade - 2018
B3: 1- MÁQUINA 1 | E3: 2 - MÁQUINA 2 | H3: 3- MÁQUINA 3 | K3: 4 - MÁQUINA 4 | N3: 5 - MÁQUINA 5 | Q3: 6 - MÁQUINA 6 | T3: 7 - MÁQUINA 7 | W3: 8 - MÁQUINA 8 | Z3: 9 - MÁQUINA 9 | AC3: 10 - MÁQUINA 10 | AF3: 11 - MÁQUINA 11 | AI3: 12 - MÁQUINA 12 | AL3: 13 - MÁQUINA 13 | AO3: 14 - MÁQUINA 14 | AR3: 15 - MÁQUINA 15 | AU3: 16 - MÁQUINA 16 | AX3: TOTAL | BA3: MÉDIA GERAL
B4: MTTR | C4: MTBF | D4: Disponibilidade | E4: MTTR | F4: MTBF | G4: Disponibilidade | H4: MTTR | I4: MTBF | J4: Disponibilidade | K4: MTTR | L4: MTBF | M4: Disponibilidade | N4: MTTR | O4: MTBF | P4: Disponibilidade | Q4: MTTR | R4: MTBF | S4: Disponibilidade | T4: MTTR | U4: MTBF | V4: Disponibilidade | W4: MTTR | X4: MTBF | Y4: Disponibilidade | Z4: MTTR | AA4: MTBF | AB4: Disponibilidade | AC4: MTTR | AD4: MTBF | AE4: Disponibilidade | AF4: MTTR | AG4: MTBF | AH4: Disponibilidade | AI4: MTTR | AJ4: MTBF | AK4: Disponibilidade | AL4: MTTR | AM4: MTBF | AN4: Disponibilidade | AO4: MTTR | AP4: MTBR | AQ4: Disponibilidade | AR4: MTTR | AS4: MTBF | AT4: Disponibilidade | AU4: MTTR | AV4: MTBF | AW4: Disponibilidade | AX4: MTTR | AY4: MTBF | AZ4: Disponibilidade | BA4: MTBR | BB4: MTBF | BC4: Disponibilidade
